BEGIN:VCALENDAR
VERSION:2.0
PRODID:-//Église Méthodiste de Munster - ECPv6.15.17.1//NONSGML v1.0//EN
CALSCALE:GREGORIAN
METHOD:PUBLISH
X-WR-CALNAME:Église Méthodiste de Munster
X-ORIGINAL-URL:https://eglise-methodiste-munster.fr
X-WR-CALDESC:Évènements pour Église Méthodiste de Munster
REFRESH-INTERVAL;VALUE=DURATION:PT1H
X-Robots-Tag:noindex
X-PUBLISHED-TTL:PT1H
BEGIN:VTIMEZONE
TZID:Europe/Paris
BEGIN:DAYLIGHT
TZOFFSETFROM:+0100
TZOFFSETTO:+0200
TZNAME:CEST
DTSTART:20240331T010000
END:DAYLIGHT
BEGIN:STANDARD
TZOFFSETFROM:+0200
TZOFFSETTO:+0100
TZNAME:CET
DTSTART:20241027T010000
END:STANDARD
BEGIN:DAYLIGHT
TZOFFSETFROM:+0100
TZOFFSETTO:+0200
TZNAME:CEST
DTSTART:20250330T010000
END:DAYLIGHT
BEGIN:STANDARD
TZOFFSETFROM:+0200
TZOFFSETTO:+0100
TZNAME:CET
DTSTART:20251026T010000
END:STANDARD
BEGIN:DAYLIGHT
TZOFFSETFROM:+0100
TZOFFSETTO:+0200
TZNAME:CEST
DTSTART:20260329T010000
END:DAYLIGHT
BEGIN:STANDARD
TZOFFSETFROM:+0200
TZOFFSETTO:+0100
TZNAME:CET
DTSTART:20261025T010000
END:STANDARD
BEGIN:DAYLIGHT
TZOFFSETFROM:+0100
TZOFFSETTO:+0200
TZNAME:CEST
DTSTART:20270328T010000
END:DAYLIGHT
BEGIN:STANDARD
TZOFFSETFROM:+0200
TZOFFSETTO:+0100
TZNAME:CET
DTSTART:20271031T010000
END:STANDARD
END:VTIMEZONE
BEGIN:VEVENT
DTSTART;TZID=Europe/Paris:20260414T140000
DTEND;TZID=Europe/Paris:20260414T140000
DTSTAMP:20260424T221231
CREATED:20260326T212046Z
LAST-MODIFIED:20260326T212046Z
UID:10003959-1776175200-1776175200@eglise-methodiste-munster.fr
SUMMARY:Parta'Jeunes
DESCRIPTION:
URL:https://eglise-methodiste-munster.fr/evenement/partajeunes/
LOCATION:Temple de la Paix (TP)\, 24 Rue du 9 Zouaves\, MUNSTER\, 68140
CATEGORIES:Parta'Jeunes
END:VEVENT
BEGIN:VEVENT
DTSTART;TZID=Europe/Paris:20260322T120000
DTEND;TZID=Europe/Paris:20260322T160000
DTSTAMP:20260424T221231
CREATED:20260104T174055Z
LAST-MODIFIED:20260104T174055Z
UID:10003791-1774180800-1774195200@eglise-methodiste-munster.fr
SUMMARY:Parta'Jeunes
DESCRIPTION:
URL:https://eglise-methodiste-munster.fr/evenement/partajeunes-43/
LOCATION:Temple de la Paix (TP)\, 24 Rue du 9 Zouaves\, MUNSTER\, 68140
CATEGORIES:Parta'Jeunes
END:VEVENT
BEGIN:VEVENT
DTSTART;TZID=Europe/Paris:20260313T193000
DTEND;TZID=Europe/Paris:20260313T230000
DTSTAMP:20260424T221231
CREATED:20260104T174027Z
LAST-MODIFIED:20260104T174027Z
UID:10003790-1773430200-1773442800@eglise-methodiste-munster.fr
SUMMARY:Parta'Jeunes
DESCRIPTION:Soirée PJS avec participation à l’AG du TP ! 🙂
URL:https://eglise-methodiste-munster.fr/evenement/partajeunes-42/
LOCATION:Temple de la Paix (TP)\, 24 Rue du 9 Zouaves\, MUNSTER\, 68140
CATEGORIES:Parta'Jeunes
END:VEVENT
BEGIN:VEVENT
DTSTART;TZID=Europe/Paris:20260308T120000
DTEND;TZID=Europe/Paris:20260308T160000
DTSTAMP:20260424T221231
CREATED:20260104T173946Z
LAST-MODIFIED:20260104T173946Z
UID:10003789-1772971200-1772985600@eglise-methodiste-munster.fr
SUMMARY:Parta'Jeunes
DESCRIPTION:
URL:https://eglise-methodiste-munster.fr/evenement/partajeunes-41/
LOCATION:Temple de la Paix (TP)\, 24 Rue du 9 Zouaves\, MUNSTER\, 68140
CATEGORIES:Parta'Jeunes
END:VEVENT
BEGIN:VEVENT
DTSTART;TZID=Europe/Paris:20260215T120000
DTEND;TZID=Europe/Paris:20260215T160000
DTSTAMP:20260424T221231
CREATED:20260104T173916Z
LAST-MODIFIED:20260104T173916Z
UID:10003788-1771156800-1771171200@eglise-methodiste-munster.fr
SUMMARY:Parta'Jeunes
DESCRIPTION:
URL:https://eglise-methodiste-munster.fr/evenement/partajeunes-40/
LOCATION:Temple de la Paix (TP)\, 24 Rue du 9 Zouaves\, MUNSTER\, 68140
CATEGORIES:Parta'Jeunes
END:VEVENT
BEGIN:VEVENT
DTSTART;TZID=Europe/Paris:20260207T193000
DTEND;TZID=Europe/Paris:20260207T230000
DTSTAMP:20260424T221231
CREATED:20260104T173853Z
LAST-MODIFIED:20260104T173853Z
UID:10003787-1770492600-1770505200@eglise-methodiste-munster.fr
SUMMARY:Parta'Jeunes
DESCRIPTION:
URL:https://eglise-methodiste-munster.fr/evenement/partajeunes-39/
LOCATION:Temple de la Paix (TP)\, 24 Rue du 9 Zouaves\, MUNSTER\, 68140
CATEGORIES:Parta'Jeunes
END:VEVENT
BEGIN:VEVENT
DTSTART;TZID=Europe/Paris:20260201T120000
DTEND;TZID=Europe/Paris:20260201T160000
DTSTAMP:20260424T221231
CREATED:20260104T173831Z
LAST-MODIFIED:20260104T173831Z
UID:10003786-1769947200-1769961600@eglise-methodiste-munster.fr
SUMMARY:Parta'Jeunes
DESCRIPTION:Fête de paroisse avec repas crêpes pour financer les activités PJS ! 😉
URL:https://eglise-methodiste-munster.fr/evenement/partajeunes-38/
LOCATION:Temple de la Paix (TP)\, 24 Rue du 9 Zouaves\, MUNSTER\, 68140
CATEGORIES:Parta'Jeunes
END:VEVENT
BEGIN:VEVENT
DTSTART;TZID=Europe/Paris:20260123T193000
DTEND;TZID=Europe/Paris:20260123T230000
DTSTAMP:20260424T221231
CREATED:20260104T173737Z
LAST-MODIFIED:20260104T173737Z
UID:10003785-1769196600-1769209200@eglise-methodiste-munster.fr
SUMMARY:Parta'Jeunes
DESCRIPTION:
URL:https://eglise-methodiste-munster.fr/evenement/partajeunes-37/
LOCATION:Temple de la Paix (TP)\, 24 Rue du 9 Zouaves\, MUNSTER\, 68140
CATEGORIES:Parta'Jeunes
END:VEVENT
BEGIN:VEVENT
DTSTART;TZID=Europe/Paris:20260118T120000
DTEND;TZID=Europe/Paris:20260118T160000
DTSTAMP:20260424T221231
CREATED:20260104T173711Z
LAST-MODIFIED:20260104T173711Z
UID:10003784-1768737600-1768752000@eglise-methodiste-munster.fr
SUMMARY:Parta'Jeunes
DESCRIPTION:
URL:https://eglise-methodiste-munster.fr/evenement/partajeunes-36/
LOCATION:Temple de la Paix (TP)\, 24 Rue du 9 Zouaves\, MUNSTER\, 68140
CATEGORIES:Parta'Jeunes
END:VEVENT
BEGIN:VEVENT
DTSTART;TZID=Europe/Paris:20260110T193000
DTEND;TZID=Europe/Paris:20260111T020000
DTSTAMP:20260424T221231
CREATED:20260104T173638Z
LAST-MODIFIED:20260104T173638Z
UID:10003783-1768073400-1768096800@eglise-methodiste-munster.fr
SUMMARY:Parta'Jeunes
DESCRIPTION:Nuit du Volley à Mulhouse ! 🙂
URL:https://eglise-methodiste-munster.fr/evenement/partajeunes-35/
LOCATION:Temple de la Paix (TP)\, 24 Rue du 9 Zouaves\, MUNSTER\, 68140
CATEGORIES:Parta'Jeunes
END:VEVENT
BEGIN:VEVENT
DTSTART;TZID=Europe/Paris:20251220T193000
DTEND;TZID=Europe/Paris:20251220T230000
DTSTAMP:20260424T221231
CREATED:20250725T223720Z
LAST-MODIFIED:20250725T223720Z
UID:10003485-1766259000-1766271600@eglise-methodiste-munster.fr
SUMMARY:Parta'Jeunes
DESCRIPTION:Fête de Noël de PJS ! 🙂
URL:https://eglise-methodiste-munster.fr/evenement/partajeunes-34/
LOCATION:Temple de la Paix (TP)\, 24 Rue du 9 Zouaves\, MUNSTER\, 68140
CATEGORIES:Parta'Jeunes
END:VEVENT
BEGIN:VEVENT
DTSTART;TZID=Europe/Paris:20251214T120000
DTEND;TZID=Europe/Paris:20251214T160000
DTSTAMP:20260424T221231
CREATED:20250725T223643Z
LAST-MODIFIED:20250725T223643Z
UID:10003484-1765713600-1765728000@eglise-methodiste-munster.fr
SUMMARY:Parta'Jeunes
DESCRIPTION:Préparation de la fête de Noël.
URL:https://eglise-methodiste-munster.fr/evenement/partajeunes-33/
LOCATION:Temple de la Paix (TP)\, 24 Rue du 9 Zouaves\, MUNSTER\, 68140
CATEGORIES:Parta'Jeunes
END:VEVENT
BEGIN:VEVENT
DTSTART;TZID=Europe/Paris:20251206T180000
DTEND;TZID=Europe/Paris:20251206T230000
DTSTAMP:20260424T221231
CREATED:20250725T223547Z
LAST-MODIFIED:20250725T223547Z
UID:10003483-1765044000-1765062000@eglise-methodiste-munster.fr
SUMMARY:Parta'Jeunes
DESCRIPTION:Participation à la veillée de l’Avent puis soirée PJS ! 🙂
URL:https://eglise-methodiste-munster.fr/evenement/partajeunes-32/
LOCATION:Temple de la Paix (TP)\, 24 Rue du 9 Zouaves\, MUNSTER\, 68140
CATEGORIES:Parta'Jeunes
END:VEVENT
BEGIN:VEVENT
DTSTART;TZID=Europe/Paris:20251130T120000
DTEND;TZID=Europe/Paris:20251130T160000
DTSTAMP:20260424T221231
CREATED:20250725T222936Z
LAST-MODIFIED:20250725T222936Z
UID:10003479-1764504000-1764518400@eglise-methodiste-munster.fr
SUMMARY:Parta'Jeunes
DESCRIPTION:
URL:https://eglise-methodiste-munster.fr/evenement/partajeunes-31/
LOCATION:Temple de la Paix (TP)\, 24 Rue du 9 Zouaves\, MUNSTER\, 68140
CATEGORIES:Parta'Jeunes
END:VEVENT
BEGIN:VEVENT
DTSTART;TZID=Europe/Paris:20251122T193000
DTEND;TZID=Europe/Paris:20251122T230000
DTSTAMP:20260424T221231
CREATED:20250725T222902Z
LAST-MODIFIED:20250725T222902Z
UID:10003478-1763839800-1763852400@eglise-methodiste-munster.fr
SUMMARY:Parta'Jeunes
DESCRIPTION:
URL:https://eglise-methodiste-munster.fr/evenement/partajeunes-30/
LOCATION:Temple de la Paix (TP)\, 24 Rue du 9 Zouaves\, MUNSTER\, 68140
CATEGORIES:Parta'Jeunes
END:VEVENT
BEGIN:VEVENT
DTSTART;TZID=Europe/Paris:20251116T120000
DTEND;TZID=Europe/Paris:20251116T160000
DTSTAMP:20260424T221231
CREATED:20250725T222832Z
LAST-MODIFIED:20250725T222832Z
UID:10003477-1763294400-1763308800@eglise-methodiste-munster.fr
SUMMARY:Parta'Jeunes
DESCRIPTION:
URL:https://eglise-methodiste-munster.fr/evenement/partajeunes-29/
LOCATION:Temple de la Paix (TP)\, 24 Rue du 9 Zouaves\, MUNSTER\, 68140
CATEGORIES:Parta'Jeunes
END:VEVENT
BEGIN:VEVENT
DTSTART;TZID=Europe/Paris:20251031T193000
DTEND;TZID=Europe/Paris:20251102T160000
DTSTAMP:20260424T221231
CREATED:20250725T222757Z
LAST-MODIFIED:20250725T222757Z
UID:10003476-1761939000-1762099200@eglise-methodiste-munster.fr
SUMMARY:WE ados à Landersen
DESCRIPTION:WE Ados à Landersen 🙂
URL:https://eglise-methodiste-munster.fr/evenement/partajeunes-28/
LOCATION:Centre de Vacances LANDERSEN\, 4 Route du Petit Ballon\, Sondernach\, 68380\, France
CATEGORIES:Parta'Jeunes
END:VEVENT
BEGIN:VEVENT
DTSTART;TZID=Europe/Paris:20251005T100000
DTEND;TZID=Europe/Paris:20251005T160000
DTSTAMP:20260424T221231
CREATED:20250725T222656Z
LAST-MODIFIED:20250725T222656Z
UID:10003475-1759658400-1759680000@eglise-methodiste-munster.fr
SUMMARY:Parta'Jeunes
DESCRIPTION:Participation à la fête de reconnaissance !
URL:https://eglise-methodiste-munster.fr/evenement/partajeunes-27/
LOCATION:Temple de la Paix (TP)\, 24 Rue du 9 Zouaves\, MUNSTER\, 68140
CATEGORIES:Parta'Jeunes
END:VEVENT
BEGIN:VEVENT
DTSTART;TZID=Europe/Paris:20250927T193000
DTEND;TZID=Europe/Paris:20250927T230000
DTSTAMP:20260424T221231
CREATED:20250725T222618Z
LAST-MODIFIED:20250725T222618Z
UID:10003474-1759001400-1759014000@eglise-methodiste-munster.fr
SUMMARY:Parta'Jeunes
DESCRIPTION:Discussion « sexualité » avec Hélène Bourg\, sexologue.
URL:https://eglise-methodiste-munster.fr/evenement/partajeunes-26/
LOCATION:Temple de la Paix (TP)\, 24 Rue du 9 Zouaves\, MUNSTER\, 68140
CATEGORIES:Parta'Jeunes
END:VEVENT
BEGIN:VEVENT
DTSTART;TZID=Europe/Paris:20250919T193000
DTEND;TZID=Europe/Paris:20250919T230000
DTSTAMP:20260424T221231
CREATED:20250725T222544Z
LAST-MODIFIED:20250725T224308Z
UID:10003473-1758310200-1758322800@eglise-methodiste-munster.fr
SUMMARY:Parta'Jeunes
DESCRIPTION:
URL:https://eglise-methodiste-munster.fr/evenement/partajeunes-25/
LOCATION:Temple de la Paix (TP)\, 24 Rue du 9 Zouaves\, MUNSTER\, 68140
CATEGORIES:Parta'Jeunes
END:VEVENT
BEGIN:VEVENT
DTSTART;TZID=Europe/Paris:20250914T120000
DTEND;TZID=Europe/Paris:20250914T160000
DTSTAMP:20260424T221231
CREATED:20250725T222520Z
LAST-MODIFIED:20250725T222520Z
UID:10003472-1757851200-1757865600@eglise-methodiste-munster.fr
SUMMARY:Parta'Jeunes
DESCRIPTION:
URL:https://eglise-methodiste-munster.fr/evenement/partajeunes-24/
LOCATION:Temple de la Paix (TP)\, 24 Rue du 9 Zouaves\, MUNSTER\, 68140
CATEGORIES:Parta'Jeunes
END:VEVENT
BEGIN:VEVENT
DTSTART;TZID=Europe/Paris:20250906T193000
DTEND;TZID=Europe/Paris:20250906T230000
DTSTAMP:20260424T221231
CREATED:20250725T222450Z
LAST-MODIFIED:20250725T222450Z
UID:10003471-1757187000-1757199600@eglise-methodiste-munster.fr
SUMMARY:Parta'Jeunes
DESCRIPTION:Rentrée de PJS 🙂
URL:https://eglise-methodiste-munster.fr/evenement/partajeunes-23/
LOCATION:Temple de la Paix (TP)\, 24 Rue du 9 Zouaves\, MUNSTER\, 68140
CATEGORIES:Parta'Jeunes
END:VEVENT
BEGIN:VEVENT
DTSTART;TZID=Europe/Paris:20250801T100000
DTEND;TZID=Europe/Paris:20250801T150000
DTSTAMP:20260424T221231
CREATED:20250725T222422Z
LAST-MODIFIED:20250725T222422Z
UID:10003470-1754042400-1754060400@eglise-methodiste-munster.fr
SUMMARY:Parta'Jeunes
DESCRIPTION:Sortie Luge d’été ! 🙂
URL:https://eglise-methodiste-munster.fr/evenement/partajeunes-22/
LOCATION:Temple de la Paix (TP)\, 24 Rue du 9 Zouaves\, MUNSTER\, 68140
CATEGORIES:Parta'Jeunes
END:VEVENT
BEGIN:VEVENT
DTSTART;TZID=Europe/Paris:20250620T193000
DTEND;TZID=Europe/Paris:20250620T193000
DTSTAMP:20260424T221231
CREATED:20250325T173231Z
LAST-MODIFIED:20250325T173231Z
UID:10003097-1750447800-1750447800@eglise-methodiste-munster.fr
SUMMARY:Parta'Jeunes
DESCRIPTION:Fête de la Musique
URL:https://eglise-methodiste-munster.fr/evenement/partajeunes-21/
LOCATION:Temple de la Paix (TP)\, 24 Rue du 9 Zouaves\, MUNSTER\, 68140
CATEGORIES:Parta'Jeunes
END:VEVENT
BEGIN:VEVENT
DTSTART;TZID=Europe/Paris:20250613T193000
DTEND;TZID=Europe/Paris:20250613T193000
DTSTAMP:20260424T221231
CREATED:20250325T173116Z
LAST-MODIFIED:20250325T173116Z
UID:10003096-1749843000-1749843000@eglise-methodiste-munster.fr
SUMMARY:Parta'Jeunes
DESCRIPTION:
URL:https://eglise-methodiste-munster.fr/evenement/partajeunes-20/
LOCATION:Temple de la Paix (TP)\, 24 Rue du 9 Zouaves\, MUNSTER\, 68140
CATEGORIES:Parta'Jeunes
END:VEVENT
BEGIN:VEVENT
DTSTART;TZID=Europe/Paris:20250608T100000
DTEND;TZID=Europe/Paris:20250608T120000
DTSTAMP:20260424T221231
CREATED:20240916T121917Z
LAST-MODIFIED:20241016T160305Z
UID:10002616-1749376800-1749384000@eglise-methodiste-munster.fr
SUMMARY:Fête de fin de KT
DESCRIPTION:
URL:https://eglise-methodiste-munster.fr/evenement/fete-de-fin-de-kt/
LOCATION:Temple de la Paix Colmar
CATEGORIES:Cultes
END:VEVENT
BEGIN:VEVENT
DTSTART;TZID=Europe/Paris:20250607T180000
DTEND;TZID=Europe/Paris:20250607T180000
DTSTAMP:20260424T221231
CREATED:20250325T172641Z
LAST-MODIFIED:20250325T172641Z
UID:10003095-1749319200-1749319200@eglise-methodiste-munster.fr
SUMMARY:Parta'Jeunes
DESCRIPTION:Ze Rencontre\, Porte Ouverte à Mulhouse
URL:https://eglise-methodiste-munster.fr/evenement/partajeunes-19/
LOCATION:Temple de la Paix (TP)\, 24 Rue du 9 Zouaves\, MUNSTER\, 68140
CATEGORIES:Parta'Jeunes
END:VEVENT
BEGIN:VEVENT
DTSTART;TZID=Europe/Paris:20250523T193000
DTEND;TZID=Europe/Paris:20250523T193000
DTSTAMP:20260424T221231
CREATED:20250325T172526Z
LAST-MODIFIED:20250518T185714Z
UID:10003094-1748028600-1748028600@eglise-methodiste-munster.fr
SUMMARY:Parta'Jeunes
DESCRIPTION:
URL:https://eglise-methodiste-munster.fr/evenement/partajeunes-18/
LOCATION:Temple de la Paix (TP)\, 24 Rue du 9 Zouaves\, MUNSTER\, 68140
CATEGORIES:Parta'Jeunes
END:VEVENT
BEGIN:VEVENT
DTSTART;TZID=Europe/Paris:20250517T080000
DTEND;TZID=Europe/Paris:20250517T170000
DTSTAMP:20260424T221231
CREATED:20240916T121740Z
LAST-MODIFIED:20241016T160311Z
UID:10002614-1747468800-1747501200@eglise-methodiste-munster.fr
SUMMARY:Journée KT
DESCRIPTION:
URL:https://eglise-methodiste-munster.fr/evenement/journee-kt/
LOCATION:Temple de la Paix (TP)\, 24 Rue du 9 Zouaves\, MUNSTER\, 68140
CATEGORIES:Caté
END:VEVENT
BEGIN:VEVENT
DTSTART;TZID=Europe/Paris:20250516T180000
DTEND;TZID=Europe/Paris:20250516T180000
DTSTAMP:20260424T221231
CREATED:20250325T172424Z
LAST-MODIFIED:20250325T172424Z
UID:10003093-1747418400-1747418400@eglise-methodiste-munster.fr
SUMMARY:Parta'Jeunes
DESCRIPTION:Nuit du Volley à Mulhouse
URL:https://eglise-methodiste-munster.fr/evenement/partajeunes-17/
LOCATION:Temple de la Paix (TP)\, 24 Rue du 9 Zouaves\, MUNSTER\, 68140
CATEGORIES:Parta'Jeunes
END:VEVENT
END:VCALENDAR