BEGIN:VCALENDAR
VERSION:2.0
PRODID:-//Église Méthodiste de Munster - ECPv6.15.17.1//NONSGML v1.0//EN
CALSCALE:GREGORIAN
METHOD:PUBLISH
X-ORIGINAL-URL:https://eglise-methodiste-munster.fr
X-WR-CALDESC:Évènements pour Église Méthodiste de Munster
REFRESH-INTERVAL;VALUE=DURATION:PT1H
X-Robots-Tag:noindex
X-PUBLISHED-TTL:PT1H
BEGIN:VTIMEZONE
TZID:Europe/Paris
BEGIN:DAYLIGHT
TZOFFSETFROM:+0100
TZOFFSETTO:+0200
TZNAME:CEST
DTSTART:20240331T010000
END:DAYLIGHT
BEGIN:STANDARD
TZOFFSETFROM:+0200
TZOFFSETTO:+0100
TZNAME:CET
DTSTART:20241027T010000
END:STANDARD
BEGIN:DAYLIGHT
TZOFFSETFROM:+0100
TZOFFSETTO:+0200
TZNAME:CEST
DTSTART:20250330T010000
END:DAYLIGHT
BEGIN:STANDARD
TZOFFSETFROM:+0200
TZOFFSETTO:+0100
TZNAME:CET
DTSTART:20251026T010000
END:STANDARD
BEGIN:DAYLIGHT
TZOFFSETFROM:+0100
TZOFFSETTO:+0200
TZNAME:CEST
DTSTART:20260329T010000
END:DAYLIGHT
BEGIN:STANDARD
TZOFFSETFROM:+0200
TZOFFSETTO:+0100
TZNAME:CET
DTSTART:20261025T010000
END:STANDARD
BEGIN:DAYLIGHT
TZOFFSETFROM:+0100
TZOFFSETTO:+0200
TZNAME:CEST
DTSTART:20270328T010000
END:DAYLIGHT
BEGIN:STANDARD
TZOFFSETFROM:+0200
TZOFFSETTO:+0100
TZNAME:CET
DTSTART:20271031T010000
END:STANDARD
END:VTIMEZONE
BEGIN:VEVENT
DTSTART;TZID=Europe/Paris:20260409T200000
DTEND;TZID=Europe/Paris:20260409T200000
DTSTAMP:20260424T222634
CREATED:20260225T155152Z
LAST-MODIFIED:20260225T164811Z
UID:10003867-1775764800-1775764800@eglise-methodiste-munster.fr
SUMMARY:Réunion de prière: soeurs du Hohrodberg
DESCRIPTION:
URL:https://eglise-methodiste-munster.fr/evenement/reunion-de-priere-soeurs-du-hohrodberg-6/
LOCATION:Soeurs du Hohrodberg\, 21 route du Linge\, HOHRODBERG\, 68140
CATEGORIES:Réunion de Prières
END:VEVENT
BEGIN:VEVENT
DTSTART;TZID=Europe/Paris:20260205T200000
DTEND;TZID=Europe/Paris:20260205T200000
DTSTAMP:20260424T222634
CREATED:20251220T100052Z
LAST-MODIFIED:20251220T100052Z
UID:10003752-1770321600-1770321600@eglise-methodiste-munster.fr
SUMMARY:Réunion de prière: soeurs du Hohrodberg
DESCRIPTION:
URL:https://eglise-methodiste-munster.fr/evenement/reunion-de-priere-soeurs-du-hohrodberg-5/
LOCATION:Soeurs du Hohrodberg\, 21 route du Linge\, HOHRODBERG\, 68140
CATEGORIES:Réunion de Prières
END:VEVENT
BEGIN:VEVENT
DTSTART;TZID=Europe/Paris:20251211T200000
DTEND;TZID=Europe/Paris:20251211T200000
DTSTAMP:20260424T222634
CREATED:20251107T205909Z
LAST-MODIFIED:20251107T205909Z
UID:10003695-1765483200-1765483200@eglise-methodiste-munster.fr
SUMMARY:Réunion de prière: soeurs du Hohrodberg
DESCRIPTION:
URL:https://eglise-methodiste-munster.fr/evenement/reunion-de-priere-soeurs-du-hohrodberg-4/
LOCATION:Soeurs du Hohrodberg\, 21 route du Linge\, HOHRODBERG\, 68140
CATEGORIES:Réunion de Prières
END:VEVENT
BEGIN:VEVENT
DTSTART;TZID=Europe/Paris:20251106T200000
DTEND;TZID=Europe/Paris:20251106T200000
DTSTAMP:20260424T222634
CREATED:20251031T163020Z
LAST-MODIFIED:20251031T163020Z
UID:10003694-1762459200-1762459200@eglise-methodiste-munster.fr
SUMMARY:Réunion de prière: soeurs du Hohrodberg
DESCRIPTION:
URL:https://eglise-methodiste-munster.fr/evenement/reunion-de-priere-soeurs-du-hohrodberg-3/
LOCATION:Soeurs du Hohrodberg\, 21 route du Linge\, HOHRODBERG\, 68140
CATEGORIES:Réunion de Prières
END:VEVENT
BEGIN:VEVENT
DTSTART;TZID=Europe/Paris:20251009T200000
DTEND;TZID=Europe/Paris:20251009T200000
DTSTAMP:20260424T222634
CREATED:20251003T203513Z
LAST-MODIFIED:20251003T203513Z
UID:10003642-1760040000-1760040000@eglise-methodiste-munster.fr
SUMMARY:Réunion de prière: soeurs du Hohrodberg
DESCRIPTION:
URL:https://eglise-methodiste-munster.fr/evenement/reunion-de-priere-soeurs-du-hohrodberg-2/
LOCATION:Soeurs du Hohrodberg\, 21 route du Linge\, HOHRODBERG\, 68140
CATEGORIES:Réunion de Prières
END:VEVENT
BEGIN:VEVENT
DTSTART;TZID=Europe/Paris:20250605T200000
DTEND;TZID=Europe/Paris:20250605T200000
DTSTAMP:20260424T222634
CREATED:20250601T113622Z
LAST-MODIFIED:20250601T113622Z
UID:10003428-1749153600-1749153600@eglise-methodiste-munster.fr
SUMMARY:Réunion de prière: soeurs du Hohrodberg
DESCRIPTION:
URL:https://eglise-methodiste-munster.fr/evenement/reunion-de-priere-soeurs-du-hohrodberg/
LOCATION:Soeurs du Hohrodberg\, 21 route du Linge\, HOHRODBERG\, 68140
CATEGORIES:Réunion de Prières
END:VEVENT
BEGIN:VEVENT
DTSTART;TZID=Europe/Paris:20250508T201500
DTEND;TZID=Europe/Paris:20250508T201500
DTSTAMP:20260424T222634
CREATED:20250410T202016Z
LAST-MODIFIED:20250410T202016Z
UID:10003288-1746735300-1746735300@eglise-methodiste-munster.fr
SUMMARY:Réunion de prière œcuménique
DESCRIPTION:Chez les Soeurs du Hohrodberg
URL:https://eglise-methodiste-munster.fr/evenement/reunion-de-priere-oecumenique-3/
LOCATION:Soeurs du Hohrodberg\, 21 route du Linge\, HOHRODBERG\, 68140
CATEGORIES:Œcuménisme
END:VEVENT
END:VCALENDAR