BEGIN:VCALENDAR
VERSION:2.0
PRODID:-//Église Méthodiste de Munster - ECPv6.15.17.1//NONSGML v1.0//EN
CALSCALE:GREGORIAN
METHOD:PUBLISH
X-ORIGINAL-URL:https://eglise-methodiste-munster.fr
X-WR-CALDESC:Évènements pour Église Méthodiste de Munster
REFRESH-INTERVAL;VALUE=DURATION:PT1H
X-Robots-Tag:noindex
X-PUBLISHED-TTL:PT1H
BEGIN:VTIMEZONE
TZID:Europe/Paris
BEGIN:DAYLIGHT
TZOFFSETFROM:+0100
TZOFFSETTO:+0200
TZNAME:CEST
DTSTART:20240331T010000
END:DAYLIGHT
BEGIN:STANDARD
TZOFFSETFROM:+0200
TZOFFSETTO:+0100
TZNAME:CET
DTSTART:20241027T010000
END:STANDARD
BEGIN:DAYLIGHT
TZOFFSETFROM:+0100
TZOFFSETTO:+0200
TZNAME:CEST
DTSTART:20250330T010000
END:DAYLIGHT
BEGIN:STANDARD
TZOFFSETFROM:+0200
TZOFFSETTO:+0100
TZNAME:CET
DTSTART:20251026T010000
END:STANDARD
BEGIN:DAYLIGHT
TZOFFSETFROM:+0100
TZOFFSETTO:+0200
TZNAME:CEST
DTSTART:20260329T010000
END:DAYLIGHT
BEGIN:STANDARD
TZOFFSETFROM:+0200
TZOFFSETTO:+0100
TZNAME:CET
DTSTART:20261025T010000
END:STANDARD
END:VTIMEZONE
BEGIN:VEVENT
DTSTART;TZID=Europe/Paris:20250910T143000
DTEND;TZID=Europe/Paris:20250910T143000
DTSTAMP:20260421T100050
CREATED:20250830T141535Z
LAST-MODIFIED:20250830T141535Z
UID:10003531-1757514600-1757514600@eglise-methodiste-munster.fr
SUMMARY:Groupe de Maison - Hohrod
DESCRIPTION:Réunion chez la famille OBERLÉ à HOHROD
URL:https://eglise-methodiste-munster.fr/evenement/groupe-de-maison-hohrod-13/
LOCATION:Famille OBERLÉ\, HOHROD\, 68142\, France
CATEGORIES:Groupe de Maison
ATTACH;FMTTYPE=image/jpeg:https://eglise-methodiste-munster.fr/wp-content/uploads/2020/08/groupe-de-maison_eem-munster.jpg
END:VEVENT
BEGIN:VEVENT
DTSTART;TZID=Europe/Paris:20250716T143000
DTEND;TZID=Europe/Paris:20250716T143000
DTSTAMP:20260421T100050
CREATED:20250531T185202Z
LAST-MODIFIED:20250706T180118Z
UID:10003420-1752676200-1752676200@eglise-methodiste-munster.fr
SUMMARY:Groupe de Maison - Hohrod
DESCRIPTION:Réunion chez la famille OBERLÉ à HOHROD
URL:https://eglise-methodiste-munster.fr/evenement/groupe-de-maison-hohrod-12/
LOCATION:Famille OBERLÉ\, HOHROD\, 68142\, France
CATEGORIES:Groupe de Maison
ATTACH;FMTTYPE=image/jpeg:https://eglise-methodiste-munster.fr/wp-content/uploads/2020/08/groupe-de-maison_eem-munster.jpg
END:VEVENT
BEGIN:VEVENT
DTSTART;TZID=Europe/Paris:20250604T143000
DTEND;TZID=Europe/Paris:20250604T143000
DTSTAMP:20260421T100050
CREATED:20250531T185020Z
LAST-MODIFIED:20250531T185020Z
UID:10003419-1749047400-1749047400@eglise-methodiste-munster.fr
SUMMARY:Groupe de Maison - Hohrod
DESCRIPTION:Réunion chez la famille OBERLÉ à HOHROD
URL:https://eglise-methodiste-munster.fr/evenement/groupe-de-maison-hohrod-11/
LOCATION:Famille OBERLÉ\, HOHROD\, 68142\, France
CATEGORIES:Groupe de Maison
ATTACH;FMTTYPE=image/jpeg:https://eglise-methodiste-munster.fr/wp-content/uploads/2020/08/groupe-de-maison_eem-munster.jpg
END:VEVENT
BEGIN:VEVENT
DTSTART;TZID=Europe/Paris:20250528T143000
DTEND;TZID=Europe/Paris:20250528T143000
DTSTAMP:20260421T100050
CREATED:20250426T111714Z
LAST-MODIFIED:20250518T192256Z
UID:10003291-1748442600-1748442600@eglise-methodiste-munster.fr
SUMMARY:Groupe de Maison - Hohrod
DESCRIPTION:Réunion chez la famille OBERLÉ à HOHROD
URL:https://eglise-methodiste-munster.fr/evenement/groupe-de-maison-hohrod-10/2025-05-28/
LOCATION:Famille OBERLÉ\, HOHROD\, 68142\, France
CATEGORIES:Groupe de Maison
ATTACH;FMTTYPE=image/jpeg:https://eglise-methodiste-munster.fr/wp-content/uploads/2020/08/groupe-de-maison_eem-munster.jpg
END:VEVENT
BEGIN:VEVENT
DTSTART;TZID=Europe/Paris:20250514T143000
DTEND;TZID=Europe/Paris:20250514T143000
DTSTAMP:20260421T100050
CREATED:20250426T111714Z
LAST-MODIFIED:20250518T192256Z
UID:10003290-1747233000-1747233000@eglise-methodiste-munster.fr
SUMMARY:Groupe de Maison - Hohrod
DESCRIPTION:Réunion chez la famille OBERLÉ à HOHROD
URL:https://eglise-methodiste-munster.fr/evenement/groupe-de-maison-hohrod-10/2025-05-14/
LOCATION:Famille OBERLÉ\, HOHROD\, 68142\, France
CATEGORIES:Groupe de Maison
ATTACH;FMTTYPE=image/jpeg:https://eglise-methodiste-munster.fr/wp-content/uploads/2020/08/groupe-de-maison_eem-munster.jpg
END:VEVENT
BEGIN:VEVENT
DTSTART;TZID=Europe/Paris:20250430T143000
DTEND;TZID=Europe/Paris:20250430T143000
DTSTAMP:20260421T100050
CREATED:20250324T145312Z
LAST-MODIFIED:20250324T145312Z
UID:10003084-1746023400-1746023400@eglise-methodiste-munster.fr
SUMMARY:Groupe de Maison - Hohrod
DESCRIPTION:Réunion chez la famille OBERLÉ à HOHROD
URL:https://eglise-methodiste-munster.fr/evenement/groupe-de-maison-hohrod-9/
LOCATION:Famille OBERLÉ\, HOHROD\, 68142\, France
CATEGORIES:Groupe de Maison
ATTACH;FMTTYPE=image/jpeg:https://eglise-methodiste-munster.fr/wp-content/uploads/2020/08/groupe-de-maison_eem-munster.jpg
END:VEVENT
END:VCALENDAR