BEGIN:VCALENDAR
VERSION:2.0
PRODID:-//Église Méthodiste de Munster - ECPv6.15.17.1//NONSGML v1.0//EN
CALSCALE:GREGORIAN
METHOD:PUBLISH
X-WR-CALNAME:Église Méthodiste de Munster
X-ORIGINAL-URL:https://eglise-methodiste-munster.fr
X-WR-CALDESC:Évènements pour Église Méthodiste de Munster
REFRESH-INTERVAL;VALUE=DURATION:PT1H
X-Robots-Tag:noindex
X-PUBLISHED-TTL:PT1H
BEGIN:VTIMEZONE
TZID:Europe/Paris
BEGIN:DAYLIGHT
TZOFFSETFROM:+0100
TZOFFSETTO:+0200
TZNAME:CEST
DTSTART:20240331T010000
END:DAYLIGHT
BEGIN:STANDARD
TZOFFSETFROM:+0200
TZOFFSETTO:+0100
TZNAME:CET
DTSTART:20241027T010000
END:STANDARD
BEGIN:DAYLIGHT
TZOFFSETFROM:+0100
TZOFFSETTO:+0200
TZNAME:CEST
DTSTART:20250330T010000
END:DAYLIGHT
BEGIN:STANDARD
TZOFFSETFROM:+0200
TZOFFSETTO:+0100
TZNAME:CET
DTSTART:20251026T010000
END:STANDARD
BEGIN:DAYLIGHT
TZOFFSETFROM:+0100
TZOFFSETTO:+0200
TZNAME:CEST
DTSTART:20260329T010000
END:DAYLIGHT
BEGIN:STANDARD
TZOFFSETFROM:+0200
TZOFFSETTO:+0100
TZNAME:CET
DTSTART:20261025T010000
END:STANDARD
BEGIN:DAYLIGHT
TZOFFSETFROM:+0100
TZOFFSETTO:+0200
TZNAME:CEST
DTSTART:20270328T010000
END:DAYLIGHT
BEGIN:STANDARD
TZOFFSETFROM:+0200
TZOFFSETTO:+0100
TZNAME:CET
DTSTART:20271031T010000
END:STANDARD
END:VTIMEZONE
BEGIN:VEVENT
DTSTART;TZID=Europe/Paris:20260327T200000
DTEND;TZID=Europe/Paris:20260327T200000
DTSTAMP:20260424T232630
CREATED:20260228T081941Z
LAST-MODIFIED:20260228T081941Z
UID:10003911-1774641600-1774641600@eglise-methodiste-munster.fr
SUMMARY:Groupe de Maison - Munster
DESCRIPTION:Réunion chez la famille REUTENAUER Sylvie et Dan
URL:https://eglise-methodiste-munster.fr/evenement/groupe-de-maison-munster-6/
LOCATION:Famille Reutenauer\, rue de Luttenbach\, Munster\, 68140\, France
CATEGORIES:Groupe de Maison
ATTACH;FMTTYPE=image/jpeg:https://eglise-methodiste-munster.fr/wp-content/uploads/2020/08/groupe-de-maison_eem-munster.jpg
END:VEVENT
BEGIN:VEVENT
DTSTART;TZID=Europe/Paris:20260227T200000
DTEND;TZID=Europe/Paris:20260227T200000
DTSTAMP:20260424T232630
CREATED:20260131T072232Z
LAST-MODIFIED:20260131T072232Z
UID:10003825-1772222400-1772222400@eglise-methodiste-munster.fr
SUMMARY:Groupe de Maison - Munster
DESCRIPTION:Réunion chez la famille REUTENAUER Sylvie et Dan
URL:https://eglise-methodiste-munster.fr/evenement/groupe-de-maison-munster-5/
LOCATION:Famille Reutenauer\, rue de Luttenbach\, Munster\, 68140\, France
CATEGORIES:Groupe de Maison
ATTACH;FMTTYPE=image/jpeg:https://eglise-methodiste-munster.fr/wp-content/uploads/2020/08/groupe-de-maison_eem-munster.jpg
END:VEVENT
BEGIN:VEVENT
DTSTART;TZID=Europe/Paris:20251205T200000
DTEND;TZID=Europe/Paris:20251205T200000
DTSTAMP:20260424T232630
CREATED:20251107T205951Z
LAST-MODIFIED:20251107T205951Z
UID:10003696-1764964800-1764964800@eglise-methodiste-munster.fr
SUMMARY:Groupe de Maison - Munster
DESCRIPTION:Réunion chez la famille REUTENAUER Sylvie et Dan
URL:https://eglise-methodiste-munster.fr/evenement/groupe-de-maison-munster-4/
LOCATION:Famille Reutenauer\, rue de Luttenbach\, Munster\, 68140\, France
CATEGORIES:Groupe de Maison
ATTACH;FMTTYPE=image/jpeg:https://eglise-methodiste-munster.fr/wp-content/uploads/2020/08/groupe-de-maison_eem-munster.jpg
END:VEVENT
BEGIN:VEVENT
DTSTART;TZID=Europe/Paris:20251107T200000
DTEND;TZID=Europe/Paris:20251107T200000
DTSTAMP:20260424T232630
CREATED:20251009T075950Z
LAST-MODIFIED:20251009T075950Z
UID:10003645-1762545600-1762545600@eglise-methodiste-munster.fr
SUMMARY:Groupe de Maison - Munster
DESCRIPTION:Réunion chez la famille REUTENAUER Sylvie et Dan
URL:https://eglise-methodiste-munster.fr/evenement/groupe-de-maison-munster-3/
LOCATION:Famille Reutenauer\, rue de Luttenbach\, Munster\, 68140\, France
CATEGORIES:Groupe de Maison
ATTACH;FMTTYPE=image/jpeg:https://eglise-methodiste-munster.fr/wp-content/uploads/2020/08/groupe-de-maison_eem-munster.jpg
END:VEVENT
BEGIN:VEVENT
DTSTART;TZID=Europe/Paris:20251006T200000
DTEND;TZID=Europe/Paris:20251006T200000
DTSTAMP:20260424T232630
CREATED:20251005T061547Z
LAST-MODIFIED:20251005T061547Z
UID:10003643-1759780800-1759780800@eglise-methodiste-munster.fr
SUMMARY:Groupe de Maison - Munster
DESCRIPTION:Réunion chez la famille REUTENAUER Sylvie et Dan
URL:https://eglise-methodiste-munster.fr/evenement/groupe-de-maison-munster-2/
LOCATION:Famille Reutenauer\, rue de Luttenbach\, Munster\, 68140\, France
CATEGORIES:Groupe de Maison
ATTACH;FMTTYPE=image/jpeg:https://eglise-methodiste-munster.fr/wp-content/uploads/2020/08/groupe-de-maison_eem-munster.jpg
END:VEVENT
BEGIN:VEVENT
DTSTART;TZID=Europe/Paris:20250825T200000
DTEND;TZID=Europe/Paris:20250825T200000
DTSTAMP:20260424T232630
CREATED:20250823T133718Z
LAST-MODIFIED:20250823T133718Z
UID:10003530-1756152000-1756152000@eglise-methodiste-munster.fr
SUMMARY:Groupe de Maison - Munster
DESCRIPTION:Réunion chez la famille REUTENAUER Sylvie et Dan
URL:https://eglise-methodiste-munster.fr/evenement/groupe-de-maison-munster/
LOCATION:Famille Reutenauer\, rue de Luttenbach\, Munster\, 68140\, France
CATEGORIES:Groupe de Maison
ATTACH;FMTTYPE=image/jpeg:https://eglise-methodiste-munster.fr/wp-content/uploads/2020/08/groupe-de-maison_eem-munster.jpg
END:VEVENT
END:VCALENDAR