BEGIN:VCALENDAR
VERSION:2.0
PRODID:-//Église Méthodiste de Munster - ECPv6.15.17.1//NONSGML v1.0//EN
CALSCALE:GREGORIAN
METHOD:PUBLISH
X-ORIGINAL-URL:https://eglise-methodiste-munster.fr
X-WR-CALDESC:Évènements pour Église Méthodiste de Munster
REFRESH-INTERVAL;VALUE=DURATION:PT1H
X-Robots-Tag:noindex
X-PUBLISHED-TTL:PT1H
BEGIN:VTIMEZONE
TZID:Europe/Paris
BEGIN:DAYLIGHT
TZOFFSETFROM:+0100
TZOFFSETTO:+0200
TZNAME:CEST
DTSTART:20240331T010000
END:DAYLIGHT
BEGIN:STANDARD
TZOFFSETFROM:+0200
TZOFFSETTO:+0100
TZNAME:CET
DTSTART:20241027T010000
END:STANDARD
BEGIN:DAYLIGHT
TZOFFSETFROM:+0100
TZOFFSETTO:+0200
TZNAME:CEST
DTSTART:20250330T010000
END:DAYLIGHT
BEGIN:STANDARD
TZOFFSETFROM:+0200
TZOFFSETTO:+0100
TZNAME:CET
DTSTART:20251026T010000
END:STANDARD
BEGIN:DAYLIGHT
TZOFFSETFROM:+0100
TZOFFSETTO:+0200
TZNAME:CEST
DTSTART:20260329T010000
END:DAYLIGHT
BEGIN:STANDARD
TZOFFSETFROM:+0200
TZOFFSETTO:+0100
TZNAME:CET
DTSTART:20261025T010000
END:STANDARD
END:VTIMEZONE
BEGIN:VEVENT
DTSTART;TZID=Europe/Paris:20250707T140000
DTEND;TZID=Europe/Paris:20250707T140000
DTSTAMP:20260424T234636
CREATED:20250705T074108Z
LAST-MODIFIED:20250705T074108Z
UID:10003433-1751896800-1751896800@eglise-methodiste-munster.fr
SUMMARY:Eglise en Marche
DESCRIPTION:RDV à 14 h précises\, parking à côté du TP. \nContact J-Paul Jaegle.
URL:https://eglise-methodiste-munster.fr/evenement/eglise-en-marche-10/
LOCATION:En plein air
CATEGORIES:Église en Marche
END:VEVENT
BEGIN:VEVENT
DTSTART;TZID=Europe/Paris:20250623T140000
DTEND;TZID=Europe/Paris:20250623T140000
DTSTAMP:20260424T234636
CREATED:20250223T082927Z
LAST-MODIFIED:20250223T082927Z
UID:10003029-1750687200-1750687200@eglise-methodiste-munster.fr
SUMMARY:Eglise en Marche
DESCRIPTION:RDV à 14 h précises\, parking à côté du TP. \nContact J-Paul Jaegle.
URL:https://eglise-methodiste-munster.fr/evenement/eglise-en-marche-9/
LOCATION:En plein air
CATEGORIES:Église en Marche
END:VEVENT
BEGIN:VEVENT
DTSTART;TZID=Europe/Paris:20250607T140000
DTEND;TZID=Europe/Paris:20250607T140000
DTSTAMP:20260424T234636
CREATED:20250223T082847Z
LAST-MODIFIED:20250223T082847Z
UID:10003028-1749304800-1749304800@eglise-methodiste-munster.fr
SUMMARY:Eglise en Marche
DESCRIPTION:RDV à 14 h précises\, parking à côté du TP. \nContact J-Paul Jaegle.
URL:https://eglise-methodiste-munster.fr/evenement/eglise-en-marche-8/
LOCATION:En plein air
CATEGORIES:Église en Marche
END:VEVENT
BEGIN:VEVENT
DTSTART;TZID=Europe/Paris:20250526T140000
DTEND;TZID=Europe/Paris:20250526T140000
DTSTAMP:20260424T234636
CREATED:20250223T082811Z
LAST-MODIFIED:20250223T082811Z
UID:10003027-1748268000-1748268000@eglise-methodiste-munster.fr
SUMMARY:Eglise en Marche
DESCRIPTION:RDV à 14 h précises\, parking à côté du TP. \nContact J-Paul Jaegle.
URL:https://eglise-methodiste-munster.fr/evenement/eglise-en-marche-7/
LOCATION:En plein air
CATEGORIES:Église en Marche
END:VEVENT
BEGIN:VEVENT
DTSTART;TZID=Europe/Paris:20250510T140000
DTEND;TZID=Europe/Paris:20250510T140000
DTSTAMP:20260424T234636
CREATED:20250223T082735Z
LAST-MODIFIED:20250223T082735Z
UID:10003026-1746885600-1746885600@eglise-methodiste-munster.fr
SUMMARY:Eglise en Marche
DESCRIPTION:RDV à 14 h précises\, parking à côté du TP. \nContact J-Paul Jaegle.
URL:https://eglise-methodiste-munster.fr/evenement/eglise-en-marche-6/
LOCATION:En plein air
CATEGORIES:Église en Marche
END:VEVENT
BEGIN:VEVENT
DTSTART;TZID=Europe/Paris:20250428T140000
DTEND;TZID=Europe/Paris:20250428T140000
DTSTAMP:20260424T234636
CREATED:20250223T082446Z
LAST-MODIFIED:20250412T090504Z
UID:10003025-1745848800-1745848800@eglise-methodiste-munster.fr
SUMMARY:Eglise en Marche
DESCRIPTION:RDV à 14 h précises\, parking à côté du TP. \nContact J-Paul Jaegle.
URL:https://eglise-methodiste-munster.fr/evenement/eglise-en-marche-5/
LOCATION:En plein air
CATEGORIES:Église en Marche
END:VEVENT
END:VCALENDAR