BEGIN:VCALENDAR
VERSION:2.0
PRODID:-//Église Méthodiste de Munster - ECPv6.15.17.1//NONSGML v1.0//EN
CALSCALE:GREGORIAN
METHOD:PUBLISH
X-WR-CALNAME:Église Méthodiste de Munster
X-ORIGINAL-URL:https://eglise-methodiste-munster.fr
X-WR-CALDESC:Évènements pour Église Méthodiste de Munster
REFRESH-INTERVAL;VALUE=DURATION:PT1H
X-Robots-Tag:noindex
X-PUBLISHED-TTL:PT1H
BEGIN:VTIMEZONE
TZID:Europe/Paris
BEGIN:DAYLIGHT
TZOFFSETFROM:+0100
TZOFFSETTO:+0200
TZNAME:CEST
DTSTART:20250330T010000
END:DAYLIGHT
BEGIN:STANDARD
TZOFFSETFROM:+0200
TZOFFSETTO:+0100
TZNAME:CET
DTSTART:20251026T010000
END:STANDARD
BEGIN:DAYLIGHT
TZOFFSETFROM:+0100
TZOFFSETTO:+0200
TZNAME:CEST
DTSTART:20260329T010000
END:DAYLIGHT
BEGIN:STANDARD
TZOFFSETFROM:+0200
TZOFFSETTO:+0100
TZNAME:CET
DTSTART:20261025T010000
END:STANDARD
BEGIN:DAYLIGHT
TZOFFSETFROM:+0100
TZOFFSETTO:+0200
TZNAME:CEST
DTSTART:20270328T010000
END:DAYLIGHT
BEGIN:STANDARD
TZOFFSETFROM:+0200
TZOFFSETTO:+0100
TZNAME:CET
DTSTART:20271031T010000
END:STANDARD
END:VTIMEZONE
BEGIN:VEVENT
DTSTART;TZID=Europe/Paris:20260306T200000
DTEND;TZID=Europe/Paris:20260306T200000
DTSTAMP:20260425T145134
CREATED:20251021T082645Z
LAST-MODIFIED:20251021T082645Z
UID:10003689-1772827200-1772827200@eglise-methodiste-munster.fr
SUMMARY:Journée Mondiale de Prière
DESCRIPTION:
URL:https://eglise-methodiste-munster.fr/evenement/journee-mondiale-de-priere/
LOCATION:Eglise catholique Saint-Léger\, Rue de la République\, Munster\, 68140\, France
CATEGORIES:Œcuménisme
END:VEVENT
BEGIN:VEVENT
DTSTART;TZID=Europe/Paris:20260208T160000
DTEND;TZID=Europe/Paris:20260208T160000
DTSTAMP:20260425T145134
CREATED:20251222T131209Z
LAST-MODIFIED:20251222T131209Z
UID:10003765-1770566400-1770566400@eglise-methodiste-munster.fr
SUMMARY:Concert pour l'Autre (Chorales oecuméniques)
DESCRIPTION:En soutien à ???
URL:https://eglise-methodiste-munster.fr/evenement/concert-pour-lautre-chorales-oecumeniques/
LOCATION:Eglise catholique Saint-Léger\, Rue de la République\, Munster\, 68140\, France
CATEGORIES:Réunion particulière
END:VEVENT
BEGIN:VEVENT
DTSTART;TZID=Europe/Paris:20260118T100000
DTEND;TZID=Europe/Paris:20260118T120000
DTSTAMP:20260425T145134
CREATED:20250919T152916Z
LAST-MODIFIED:20250919T152916Z
UID:10003575-1768730400-1768737600@eglise-methodiste-munster.fr
SUMMARY:Célébration oecuménique
DESCRIPTION:
URL:https://eglise-methodiste-munster.fr/evenement/celebration-oecumenique-4/
LOCATION:Eglise catholique Saint-Léger\, Rue de la République\, Munster\, 68140\, France
CATEGORIES:Œcuménisme
END:VEVENT
END:VCALENDAR