BEGIN:VCALENDAR
VERSION:2.0
PRODID:-//Église Méthodiste de Munster - ECPv6.15.17.1//NONSGML v1.0//EN
CALSCALE:GREGORIAN
METHOD:PUBLISH
X-ORIGINAL-URL:https://eglise-methodiste-munster.fr
X-WR-CALDESC:Évènements pour Église Méthodiste de Munster
REFRESH-INTERVAL;VALUE=DURATION:PT1H
X-Robots-Tag:noindex
X-PUBLISHED-TTL:PT1H
BEGIN:VTIMEZONE
TZID:Europe/Paris
BEGIN:DAYLIGHT
TZOFFSETFROM:+0100
TZOFFSETTO:+0200
TZNAME:CEST
DTSTART:20240331T010000
END:DAYLIGHT
BEGIN:STANDARD
TZOFFSETFROM:+0200
TZOFFSETTO:+0100
TZNAME:CET
DTSTART:20241027T010000
END:STANDARD
BEGIN:DAYLIGHT
TZOFFSETFROM:+0100
TZOFFSETTO:+0200
TZNAME:CEST
DTSTART:20250330T010000
END:DAYLIGHT
BEGIN:STANDARD
TZOFFSETFROM:+0200
TZOFFSETTO:+0100
TZNAME:CET
DTSTART:20251026T010000
END:STANDARD
BEGIN:DAYLIGHT
TZOFFSETFROM:+0100
TZOFFSETTO:+0200
TZNAME:CEST
DTSTART:20260329T010000
END:DAYLIGHT
BEGIN:STANDARD
TZOFFSETFROM:+0200
TZOFFSETTO:+0100
TZNAME:CET
DTSTART:20261025T010000
END:STANDARD
END:VTIMEZONE
BEGIN:VEVENT
DTSTART;TZID=Europe/Paris:20250824T104500
DTEND;TZID=Europe/Paris:20250824T104500
DTSTAMP:20260425T041604
CREATED:20250518T201156Z
LAST-MODIFIED:20250518T201156Z
UID:10003416-1756032300-1756032300@eglise-methodiste-munster.fr
SUMMARY:Culte à Béthesda-Caroline
DESCRIPTION:
URL:https://eglise-methodiste-munster.fr/evenement/culte-a-bethesda-caroline-13/2025-08-24/
LOCATION:Bethesda-Caroline\, 20A Rue du Général de Lattre de Tassigny\, Munster\, 68140\, France
CATEGORIES:Cultes
END:VEVENT
BEGIN:VEVENT
DTSTART;TZID=Europe/Paris:20250821T104500
DTEND;TZID=Europe/Paris:20250821T104500
DTSTAMP:20260425T041604
CREATED:20250518T200451Z
LAST-MODIFIED:20250518T200451Z
UID:10003386-1755773100-1755773100@eglise-methodiste-munster.fr
SUMMARY:Méditation Biblique
DESCRIPTION:
URL:https://eglise-methodiste-munster.fr/evenement/meditation-biblique-10/2025-08-21/
LOCATION:Bethesda-Caroline\, 20A Rue du Général de Lattre de Tassigny\, Munster\, 68140\, France
CATEGORIES:Études bibliques
END:VEVENT
BEGIN:VEVENT
DTSTART;TZID=Europe/Paris:20250817T104500
DTEND;TZID=Europe/Paris:20250817T104500
DTSTAMP:20260425T041604
CREATED:20250518T201156Z
LAST-MODIFIED:20250518T201156Z
UID:10003415-1755427500-1755427500@eglise-methodiste-munster.fr
SUMMARY:Culte à Béthesda-Caroline
DESCRIPTION:
URL:https://eglise-methodiste-munster.fr/evenement/culte-a-bethesda-caroline-13/2025-08-17/
LOCATION:Bethesda-Caroline\, 20A Rue du Général de Lattre de Tassigny\, Munster\, 68140\, France
CATEGORIES:Cultes
END:VEVENT
BEGIN:VEVENT
DTSTART;TZID=Europe/Paris:20250814T104500
DTEND;TZID=Europe/Paris:20250814T104500
DTSTAMP:20260425T041604
CREATED:20250518T200451Z
LAST-MODIFIED:20250518T200451Z
UID:10003385-1755168300-1755168300@eglise-methodiste-munster.fr
SUMMARY:Méditation Biblique
DESCRIPTION:
URL:https://eglise-methodiste-munster.fr/evenement/meditation-biblique-10/2025-08-14/
LOCATION:Bethesda-Caroline\, 20A Rue du Général de Lattre de Tassigny\, Munster\, 68140\, France
CATEGORIES:Études bibliques
END:VEVENT
BEGIN:VEVENT
DTSTART;TZID=Europe/Paris:20250810T104500
DTEND;TZID=Europe/Paris:20250810T104500
DTSTAMP:20260425T041604
CREATED:20250518T201156Z
LAST-MODIFIED:20250518T201156Z
UID:10003414-1754822700-1754822700@eglise-methodiste-munster.fr
SUMMARY:Culte à Béthesda-Caroline
DESCRIPTION:
URL:https://eglise-methodiste-munster.fr/evenement/culte-a-bethesda-caroline-13/2025-08-10/
LOCATION:Bethesda-Caroline\, 20A Rue du Général de Lattre de Tassigny\, Munster\, 68140\, France
CATEGORIES:Cultes
END:VEVENT
BEGIN:VEVENT
DTSTART;TZID=Europe/Paris:20250803T104500
DTEND;TZID=Europe/Paris:20250803T104500
DTSTAMP:20260425T041604
CREATED:20250518T201156Z
LAST-MODIFIED:20250518T201156Z
UID:10003413-1754217900-1754217900@eglise-methodiste-munster.fr
SUMMARY:Culte à Béthesda-Caroline
DESCRIPTION:
URL:https://eglise-methodiste-munster.fr/evenement/culte-a-bethesda-caroline-13/2025-08-03/
LOCATION:Bethesda-Caroline\, 20A Rue du Général de Lattre de Tassigny\, Munster\, 68140\, France
CATEGORIES:Cultes
END:VEVENT
BEGIN:VEVENT
DTSTART;TZID=Europe/Paris:20250731T104500
DTEND;TZID=Europe/Paris:20250731T104500
DTSTAMP:20260425T041604
CREATED:20250518T200328Z
LAST-MODIFIED:20250518T200328Z
UID:10003380-1753958700-1753958700@eglise-methodiste-munster.fr
SUMMARY:Méditation Biblique
DESCRIPTION:
URL:https://eglise-methodiste-munster.fr/evenement/meditation-biblique-9/2025-07-31/
LOCATION:Bethesda-Caroline\, 20A Rue du Général de Lattre de Tassigny\, Munster\, 68140\, France
CATEGORIES:Études bibliques
END:VEVENT
BEGIN:VEVENT
DTSTART;TZID=Europe/Paris:20250727T104500
DTEND;TZID=Europe/Paris:20250727T104500
DTSTAMP:20260425T041604
CREATED:20250518T201118Z
LAST-MODIFIED:20250518T201118Z
UID:10003407-1753613100-1753613100@eglise-methodiste-munster.fr
SUMMARY:Culte à Béthesda-Caroline
DESCRIPTION:
URL:https://eglise-methodiste-munster.fr/evenement/culte-a-bethesda-caroline-12/2025-07-27/
LOCATION:Bethesda-Caroline\, 20A Rue du Général de Lattre de Tassigny\, Munster\, 68140\, France
CATEGORIES:Cultes
END:VEVENT
BEGIN:VEVENT
DTSTART;TZID=Europe/Paris:20250724T104500
DTEND;TZID=Europe/Paris:20250724T104500
DTSTAMP:20260425T041604
CREATED:20250518T200328Z
LAST-MODIFIED:20250518T200328Z
UID:10003379-1753353900-1753353900@eglise-methodiste-munster.fr
SUMMARY:Méditation Biblique
DESCRIPTION:
URL:https://eglise-methodiste-munster.fr/evenement/meditation-biblique-9/2025-07-24/
LOCATION:Bethesda-Caroline\, 20A Rue du Général de Lattre de Tassigny\, Munster\, 68140\, France
CATEGORIES:Études bibliques
END:VEVENT
BEGIN:VEVENT
DTSTART;TZID=Europe/Paris:20250720T104500
DTEND;TZID=Europe/Paris:20250720T104500
DTSTAMP:20260425T041604
CREATED:20250518T201118Z
LAST-MODIFIED:20250518T201118Z
UID:10003406-1753008300-1753008300@eglise-methodiste-munster.fr
SUMMARY:Culte à Béthesda-Caroline
DESCRIPTION:
URL:https://eglise-methodiste-munster.fr/evenement/culte-a-bethesda-caroline-12/2025-07-20/
LOCATION:Bethesda-Caroline\, 20A Rue du Général de Lattre de Tassigny\, Munster\, 68140\, France
CATEGORIES:Cultes
END:VEVENT
BEGIN:VEVENT
DTSTART;TZID=Europe/Paris:20250717T104500
DTEND;TZID=Europe/Paris:20250717T104500
DTSTAMP:20260425T041604
CREATED:20250518T200328Z
LAST-MODIFIED:20250518T200328Z
UID:10003378-1752749100-1752749100@eglise-methodiste-munster.fr
SUMMARY:Méditation Biblique
DESCRIPTION:
URL:https://eglise-methodiste-munster.fr/evenement/meditation-biblique-9/2025-07-17/
LOCATION:Bethesda-Caroline\, 20A Rue du Général de Lattre de Tassigny\, Munster\, 68140\, France
CATEGORIES:Études bibliques
END:VEVENT
BEGIN:VEVENT
DTSTART;TZID=Europe/Paris:20250713T104500
DTEND;TZID=Europe/Paris:20250713T104500
DTSTAMP:20260425T041604
CREATED:20250518T201118Z
LAST-MODIFIED:20250518T201118Z
UID:10003405-1752403500-1752403500@eglise-methodiste-munster.fr
SUMMARY:Culte à Béthesda-Caroline
DESCRIPTION:
URL:https://eglise-methodiste-munster.fr/evenement/culte-a-bethesda-caroline-12/2025-07-13/
LOCATION:Bethesda-Caroline\, 20A Rue du Général de Lattre de Tassigny\, Munster\, 68140\, France
CATEGORIES:Cultes
END:VEVENT
BEGIN:VEVENT
DTSTART;TZID=Europe/Paris:20250710T104500
DTEND;TZID=Europe/Paris:20250710T104500
DTSTAMP:20260425T041604
CREATED:20250518T200328Z
LAST-MODIFIED:20250518T200328Z
UID:10003377-1752144300-1752144300@eglise-methodiste-munster.fr
SUMMARY:Méditation Biblique
DESCRIPTION:
URL:https://eglise-methodiste-munster.fr/evenement/meditation-biblique-9/2025-07-10/
LOCATION:Bethesda-Caroline\, 20A Rue du Général de Lattre de Tassigny\, Munster\, 68140\, France
CATEGORIES:Études bibliques
END:VEVENT
BEGIN:VEVENT
DTSTART;TZID=Europe/Paris:20250706T104500
DTEND;TZID=Europe/Paris:20250706T104500
DTSTAMP:20260425T041604
CREATED:20250518T201118Z
LAST-MODIFIED:20250518T201118Z
UID:10003404-1751798700-1751798700@eglise-methodiste-munster.fr
SUMMARY:Culte à Béthesda-Caroline
DESCRIPTION:
URL:https://eglise-methodiste-munster.fr/evenement/culte-a-bethesda-caroline-12/2025-07-06/
LOCATION:Bethesda-Caroline\, 20A Rue du Général de Lattre de Tassigny\, Munster\, 68140\, France
CATEGORIES:Cultes
END:VEVENT
BEGIN:VEVENT
DTSTART;TZID=Europe/Paris:20250629T104500
DTEND;TZID=Europe/Paris:20250629T104500
DTSTAMP:20260425T041604
CREATED:20250509T164059Z
LAST-MODIFIED:20250509T164059Z
UID:10003361-1751193900-1751193900@eglise-methodiste-munster.fr
SUMMARY:Culte à Béthesda-Caroline
DESCRIPTION:
URL:https://eglise-methodiste-munster.fr/evenement/culte-a-bethesda-caroline-11/2025-06-29/
LOCATION:Bethesda-Caroline\, 20A Rue du Général de Lattre de Tassigny\, Munster\, 68140\, France
CATEGORIES:Cultes
END:VEVENT
BEGIN:VEVENT
DTSTART;TZID=Europe/Paris:20250626T104500
DTEND;TZID=Europe/Paris:20250626T104500
DTSTAMP:20260425T041604
CREATED:20250509T164321Z
LAST-MODIFIED:20250509T164321Z
UID:10003368-1750934700-1750934700@eglise-methodiste-munster.fr
SUMMARY:Méditation Biblique
DESCRIPTION:
URL:https://eglise-methodiste-munster.fr/evenement/meditation-biblique-8/2025-06-26/
LOCATION:Bethesda-Caroline\, 20A Rue du Général de Lattre de Tassigny\, Munster\, 68140\, France
CATEGORIES:Études bibliques
END:VEVENT
BEGIN:VEVENT
DTSTART;TZID=Europe/Paris:20250622T104500
DTEND;TZID=Europe/Paris:20250622T104500
DTSTAMP:20260425T041604
CREATED:20250509T164059Z
LAST-MODIFIED:20250509T164059Z
UID:10003360-1750589100-1750589100@eglise-methodiste-munster.fr
SUMMARY:Culte à Béthesda-Caroline
DESCRIPTION:
URL:https://eglise-methodiste-munster.fr/evenement/culte-a-bethesda-caroline-11/2025-06-22/
LOCATION:Bethesda-Caroline\, 20A Rue du Général de Lattre de Tassigny\, Munster\, 68140\, France
CATEGORIES:Cultes
END:VEVENT
BEGIN:VEVENT
DTSTART;TZID=Europe/Paris:20250619T104500
DTEND;TZID=Europe/Paris:20250619T104500
DTSTAMP:20260425T041604
CREATED:20250509T164321Z
LAST-MODIFIED:20250509T164321Z
UID:10003367-1750329900-1750329900@eglise-methodiste-munster.fr
SUMMARY:Méditation Biblique
DESCRIPTION:
URL:https://eglise-methodiste-munster.fr/evenement/meditation-biblique-8/2025-06-19/
LOCATION:Bethesda-Caroline\, 20A Rue du Général de Lattre de Tassigny\, Munster\, 68140\, France
CATEGORIES:Études bibliques
END:VEVENT
BEGIN:VEVENT
DTSTART;TZID=Europe/Paris:20250615T104500
DTEND;TZID=Europe/Paris:20250615T104500
DTSTAMP:20260425T041604
CREATED:20250509T164059Z
LAST-MODIFIED:20250509T164059Z
UID:10003359-1749984300-1749984300@eglise-methodiste-munster.fr
SUMMARY:Culte à Béthesda-Caroline
DESCRIPTION:
URL:https://eglise-methodiste-munster.fr/evenement/culte-a-bethesda-caroline-11/2025-06-15/
LOCATION:Bethesda-Caroline\, 20A Rue du Général de Lattre de Tassigny\, Munster\, 68140\, France
CATEGORIES:Cultes
END:VEVENT
BEGIN:VEVENT
DTSTART;TZID=Europe/Paris:20250612T104500
DTEND;TZID=Europe/Paris:20250612T104500
DTSTAMP:20260425T041604
CREATED:20250509T164321Z
LAST-MODIFIED:20250509T164321Z
UID:10003366-1749725100-1749725100@eglise-methodiste-munster.fr
SUMMARY:Méditation Biblique
DESCRIPTION:
URL:https://eglise-methodiste-munster.fr/evenement/meditation-biblique-8/2025-06-12/
LOCATION:Bethesda-Caroline\, 20A Rue du Général de Lattre de Tassigny\, Munster\, 68140\, France
CATEGORIES:Études bibliques
END:VEVENT
BEGIN:VEVENT
DTSTART;TZID=Europe/Paris:20250608T104500
DTEND;TZID=Europe/Paris:20250608T104500
DTSTAMP:20260425T041604
CREATED:20250509T164059Z
LAST-MODIFIED:20250509T164059Z
UID:10003358-1749379500-1749379500@eglise-methodiste-munster.fr
SUMMARY:Culte à Béthesda-Caroline
DESCRIPTION:
URL:https://eglise-methodiste-munster.fr/evenement/culte-a-bethesda-caroline-11/2025-06-08/
LOCATION:Bethesda-Caroline\, 20A Rue du Général de Lattre de Tassigny\, Munster\, 68140\, France
CATEGORIES:Cultes
END:VEVENT
BEGIN:VEVENT
DTSTART;TZID=Europe/Paris:20250601T104500
DTEND;TZID=Europe/Paris:20250601T104500
DTSTAMP:20260425T041604
CREATED:20250509T164059Z
LAST-MODIFIED:20250509T164059Z
UID:10003357-1748774700-1748774700@eglise-methodiste-munster.fr
SUMMARY:Culte à Béthesda-Caroline
DESCRIPTION:
URL:https://eglise-methodiste-munster.fr/evenement/culte-a-bethesda-caroline-11/2025-06-01/
LOCATION:Bethesda-Caroline\, 20A Rue du Général de Lattre de Tassigny\, Munster\, 68140\, France
CATEGORIES:Cultes
END:VEVENT
BEGIN:VEVENT
DTSTART;TZID=Europe/Paris:20250529T104500
DTEND;TZID=Europe/Paris:20250529T104500
DTSTAMP:20260425T041604
CREATED:20250426T113041Z
LAST-MODIFIED:20250426T113041Z
UID:10003346-1748515500-1748515500@eglise-methodiste-munster.fr
SUMMARY:Méditation Biblique
DESCRIPTION:
URL:https://eglise-methodiste-munster.fr/evenement/meditation-biblique-7/2025-05-29/
LOCATION:Bethesda-Caroline\, 20A Rue du Général de Lattre de Tassigny\, Munster\, 68140\, France
CATEGORIES:Études bibliques
END:VEVENT
BEGIN:VEVENT
DTSTART;TZID=Europe/Paris:20250525T104500
DTEND;TZID=Europe/Paris:20250525T104500
DTSTAMP:20260425T041604
CREATED:20250426T112848Z
LAST-MODIFIED:20250426T112848Z
UID:10003332-1748169900-1748169900@eglise-methodiste-munster.fr
SUMMARY:Culte à Béthesda-Caroline
DESCRIPTION:
URL:https://eglise-methodiste-munster.fr/evenement/culte-a-bethesda-caroline-10/2025-05-25/
LOCATION:Bethesda-Caroline\, 20A Rue du Général de Lattre de Tassigny\, Munster\, 68140\, France
CATEGORIES:Cultes
END:VEVENT
BEGIN:VEVENT
DTSTART;TZID=Europe/Paris:20250522T104500
DTEND;TZID=Europe/Paris:20250522T104500
DTSTAMP:20260425T041604
CREATED:20250426T113041Z
LAST-MODIFIED:20250426T113041Z
UID:10003345-1747910700-1747910700@eglise-methodiste-munster.fr
SUMMARY:Méditation Biblique
DESCRIPTION:
URL:https://eglise-methodiste-munster.fr/evenement/meditation-biblique-7/2025-05-22/
LOCATION:Bethesda-Caroline\, 20A Rue du Général de Lattre de Tassigny\, Munster\, 68140\, France
CATEGORIES:Études bibliques
END:VEVENT
BEGIN:VEVENT
DTSTART;TZID=Europe/Paris:20250518T104500
DTEND;TZID=Europe/Paris:20250518T104500
DTSTAMP:20260425T041604
CREATED:20250426T112848Z
LAST-MODIFIED:20250426T112848Z
UID:10003331-1747565100-1747565100@eglise-methodiste-munster.fr
SUMMARY:Culte à Béthesda-Caroline
DESCRIPTION:
URL:https://eglise-methodiste-munster.fr/evenement/culte-a-bethesda-caroline-10/2025-05-18/
LOCATION:Bethesda-Caroline\, 20A Rue du Général de Lattre de Tassigny\, Munster\, 68140\, France
CATEGORIES:Cultes
END:VEVENT
BEGIN:VEVENT
DTSTART;TZID=Europe/Paris:20250515T104500
DTEND;TZID=Europe/Paris:20250515T104500
DTSTAMP:20260425T041604
CREATED:20250426T113041Z
LAST-MODIFIED:20250426T113041Z
UID:10003344-1747305900-1747305900@eglise-methodiste-munster.fr
SUMMARY:Méditation Biblique
DESCRIPTION:
URL:https://eglise-methodiste-munster.fr/evenement/meditation-biblique-7/2025-05-15/
LOCATION:Bethesda-Caroline\, 20A Rue du Général de Lattre de Tassigny\, Munster\, 68140\, France
CATEGORIES:Études bibliques
END:VEVENT
BEGIN:VEVENT
DTSTART;TZID=Europe/Paris:20250511T104500
DTEND;TZID=Europe/Paris:20250511T104500
DTSTAMP:20260425T041604
CREATED:20250426T112848Z
LAST-MODIFIED:20250426T112848Z
UID:10003330-1746960300-1746960300@eglise-methodiste-munster.fr
SUMMARY:Culte à Béthesda-Caroline
DESCRIPTION:
URL:https://eglise-methodiste-munster.fr/evenement/culte-a-bethesda-caroline-10/2025-05-11/
LOCATION:Bethesda-Caroline\, 20A Rue du Général de Lattre de Tassigny\, Munster\, 68140\, France
CATEGORIES:Cultes
END:VEVENT
BEGIN:VEVENT
DTSTART;TZID=Europe/Paris:20250508T104500
DTEND;TZID=Europe/Paris:20250508T104500
DTSTAMP:20260425T041604
CREATED:20250426T113041Z
LAST-MODIFIED:20250426T113041Z
UID:10003343-1746701100-1746701100@eglise-methodiste-munster.fr
SUMMARY:Méditation Biblique
DESCRIPTION:
URL:https://eglise-methodiste-munster.fr/evenement/meditation-biblique-7/2025-05-08/
LOCATION:Bethesda-Caroline\, 20A Rue du Général de Lattre de Tassigny\, Munster\, 68140\, France
CATEGORIES:Études bibliques
END:VEVENT
BEGIN:VEVENT
DTSTART;TZID=Europe/Paris:20250504T104500
DTEND;TZID=Europe/Paris:20250504T104500
DTSTAMP:20260425T041604
CREATED:20250426T112848Z
LAST-MODIFIED:20250426T112848Z
UID:10003329-1746355500-1746355500@eglise-methodiste-munster.fr
SUMMARY:Culte à Béthesda-Caroline
DESCRIPTION:
URL:https://eglise-methodiste-munster.fr/evenement/culte-a-bethesda-caroline-10/2025-05-04/
LOCATION:Bethesda-Caroline\, 20A Rue du Général de Lattre de Tassigny\, Munster\, 68140\, France
CATEGORIES:Cultes
END:VEVENT
END:VCALENDAR