BEGIN:VCALENDAR
VERSION:2.0
PRODID:-//Église Méthodiste de Munster - ECPv6.15.17.1//NONSGML v1.0//EN
CALSCALE:GREGORIAN
METHOD:PUBLISH
X-ORIGINAL-URL:https://eglise-methodiste-munster.fr
X-WR-CALDESC:Évènements pour Église Méthodiste de Munster
REFRESH-INTERVAL;VALUE=DURATION:PT1H
X-Robots-Tag:noindex
X-PUBLISHED-TTL:PT1H
BEGIN:VTIMEZONE
TZID:Europe/Paris
BEGIN:DAYLIGHT
TZOFFSETFROM:+0100
TZOFFSETTO:+0200
TZNAME:CEST
DTSTART:20240331T010000
END:DAYLIGHT
BEGIN:STANDARD
TZOFFSETFROM:+0200
TZOFFSETTO:+0100
TZNAME:CET
DTSTART:20241027T010000
END:STANDARD
BEGIN:DAYLIGHT
TZOFFSETFROM:+0100
TZOFFSETTO:+0200
TZNAME:CEST
DTSTART:20250330T010000
END:DAYLIGHT
BEGIN:STANDARD
TZOFFSETFROM:+0200
TZOFFSETTO:+0100
TZNAME:CET
DTSTART:20251026T010000
END:STANDARD
BEGIN:DAYLIGHT
TZOFFSETFROM:+0100
TZOFFSETTO:+0200
TZNAME:CEST
DTSTART:20260329T010000
END:DAYLIGHT
BEGIN:STANDARD
TZOFFSETFROM:+0200
TZOFFSETTO:+0100
TZNAME:CET
DTSTART:20261025T010000
END:STANDARD
END:VTIMEZONE
BEGIN:VEVENT
DTSTART;TZID=Europe/Paris:20251127T104500
DTEND;TZID=Europe/Paris:20251127T104500
DTSTAMP:20260425T014743
CREATED:20251003T134316Z
LAST-MODIFIED:20251003T134316Z
UID:10003636-1764240300-1764240300@eglise-methodiste-munster.fr
SUMMARY:Méditation Biblique
DESCRIPTION:
URL:https://eglise-methodiste-munster.fr/evenement/meditation-biblique-13/2025-11-27/
LOCATION:Bethesda-Caroline\, 20A Rue du Général de Lattre de Tassigny\, Munster\, 68140\, France
CATEGORIES:Études bibliques
END:VEVENT
BEGIN:VEVENT
DTSTART;TZID=Europe/Paris:20251123T104500
DTEND;TZID=Europe/Paris:20251123T104500
DTSTAMP:20260425T014743
CREATED:20251003T134117Z
LAST-MODIFIED:20251003T134118Z
UID:10003628-1763894700-1763894700@eglise-methodiste-munster.fr
SUMMARY:Culte à Béthesda-Caroline
DESCRIPTION:
URL:https://eglise-methodiste-munster.fr/evenement/culte-a-bethesda-caroline-16/2025-11-23/
LOCATION:Bethesda-Caroline\, 20A Rue du Général de Lattre de Tassigny\, Munster\, 68140\, France
CATEGORIES:Cultes
END:VEVENT
BEGIN:VEVENT
DTSTART;TZID=Europe/Paris:20251120T104500
DTEND;TZID=Europe/Paris:20251120T104500
DTSTAMP:20260425T014743
CREATED:20251003T134316Z
LAST-MODIFIED:20251003T134316Z
UID:10003635-1763635500-1763635500@eglise-methodiste-munster.fr
SUMMARY:Méditation Biblique
DESCRIPTION:
URL:https://eglise-methodiste-munster.fr/evenement/meditation-biblique-13/2025-11-20/
LOCATION:Bethesda-Caroline\, 20A Rue du Général de Lattre de Tassigny\, Munster\, 68140\, France
CATEGORIES:Études bibliques
END:VEVENT
BEGIN:VEVENT
DTSTART;TZID=Europe/Paris:20251116T104500
DTEND;TZID=Europe/Paris:20251116T104500
DTSTAMP:20260425T014743
CREATED:20251003T134117Z
LAST-MODIFIED:20251003T134118Z
UID:10003627-1763289900-1763289900@eglise-methodiste-munster.fr
SUMMARY:Culte à Béthesda-Caroline
DESCRIPTION:
URL:https://eglise-methodiste-munster.fr/evenement/culte-a-bethesda-caroline-16/2025-11-16/
LOCATION:Bethesda-Caroline\, 20A Rue du Général de Lattre de Tassigny\, Munster\, 68140\, France
CATEGORIES:Cultes
END:VEVENT
BEGIN:VEVENT
DTSTART;TZID=Europe/Paris:20251113T104500
DTEND;TZID=Europe/Paris:20251113T104500
DTSTAMP:20260425T014743
CREATED:20251003T134316Z
LAST-MODIFIED:20251003T134316Z
UID:10003634-1763030700-1763030700@eglise-methodiste-munster.fr
SUMMARY:Méditation Biblique
DESCRIPTION:
URL:https://eglise-methodiste-munster.fr/evenement/meditation-biblique-13/2025-11-13/
LOCATION:Bethesda-Caroline\, 20A Rue du Général de Lattre de Tassigny\, Munster\, 68140\, France
CATEGORIES:Études bibliques
END:VEVENT
BEGIN:VEVENT
DTSTART;TZID=Europe/Paris:20251109T104500
DTEND;TZID=Europe/Paris:20251109T104500
DTSTAMP:20260425T014743
CREATED:20251003T134117Z
LAST-MODIFIED:20251003T134118Z
UID:10003626-1762685100-1762685100@eglise-methodiste-munster.fr
SUMMARY:Culte à Béthesda-Caroline
DESCRIPTION:
URL:https://eglise-methodiste-munster.fr/evenement/culte-a-bethesda-caroline-16/2025-11-09/
LOCATION:Bethesda-Caroline\, 20A Rue du Général de Lattre de Tassigny\, Munster\, 68140\, France
CATEGORIES:Cultes
END:VEVENT
BEGIN:VEVENT
DTSTART;TZID=Europe/Paris:20251102T104500
DTEND;TZID=Europe/Paris:20251102T104500
DTSTAMP:20260425T014743
CREATED:20251003T134117Z
LAST-MODIFIED:20251003T134118Z
UID:10003625-1762080300-1762080300@eglise-methodiste-munster.fr
SUMMARY:Culte à Béthesda-Caroline
DESCRIPTION:
URL:https://eglise-methodiste-munster.fr/evenement/culte-a-bethesda-caroline-16/2025-11-02/
LOCATION:Bethesda-Caroline\, 20A Rue du Général de Lattre de Tassigny\, Munster\, 68140\, France
CATEGORIES:Cultes
END:VEVENT
BEGIN:VEVENT
DTSTART;TZID=Europe/Paris:20251030T104500
DTEND;TZID=Europe/Paris:20251030T104500
DTSTAMP:20260425T014743
CREATED:20250919T184827Z
LAST-MODIFIED:20250919T184827Z
UID:10003596-1761821100-1761821100@eglise-methodiste-munster.fr
SUMMARY:Méditation Biblique
DESCRIPTION:
URL:https://eglise-methodiste-munster.fr/evenement/meditation-biblique-12/2025-10-30/
LOCATION:Bethesda-Caroline\, 20A Rue du Général de Lattre de Tassigny\, Munster\, 68140\, France
CATEGORIES:Études bibliques
END:VEVENT
BEGIN:VEVENT
DTSTART;TZID=Europe/Paris:20251026T104500
DTEND;TZID=Europe/Paris:20251026T104500
DTSTAMP:20260425T014743
CREATED:20250919T184550Z
LAST-MODIFIED:20250919T184550Z
UID:10003589-1761475500-1761475500@eglise-methodiste-munster.fr
SUMMARY:Culte à Béthesda-Caroline
DESCRIPTION:
URL:https://eglise-methodiste-munster.fr/evenement/culte-a-bethesda-caroline-15/2025-10-26/
LOCATION:Bethesda-Caroline\, 20A Rue du Général de Lattre de Tassigny\, Munster\, 68140\, France
CATEGORIES:Cultes
END:VEVENT
BEGIN:VEVENT
DTSTART;TZID=Europe/Paris:20251023T104500
DTEND;TZID=Europe/Paris:20251023T104500
DTSTAMP:20260425T014743
CREATED:20250919T184827Z
LAST-MODIFIED:20250919T184827Z
UID:10003595-1761216300-1761216300@eglise-methodiste-munster.fr
SUMMARY:Méditation Biblique
DESCRIPTION:
URL:https://eglise-methodiste-munster.fr/evenement/meditation-biblique-12/2025-10-23/
LOCATION:Bethesda-Caroline\, 20A Rue du Général de Lattre de Tassigny\, Munster\, 68140\, France
CATEGORIES:Études bibliques
END:VEVENT
BEGIN:VEVENT
DTSTART;TZID=Europe/Paris:20251019T104500
DTEND;TZID=Europe/Paris:20251019T104500
DTSTAMP:20260425T014743
CREATED:20250919T184550Z
LAST-MODIFIED:20250919T184550Z
UID:10003588-1760870700-1760870700@eglise-methodiste-munster.fr
SUMMARY:Culte à Béthesda-Caroline
DESCRIPTION:
URL:https://eglise-methodiste-munster.fr/evenement/culte-a-bethesda-caroline-15/2025-10-19/
LOCATION:Bethesda-Caroline\, 20A Rue du Général de Lattre de Tassigny\, Munster\, 68140\, France
CATEGORIES:Cultes
END:VEVENT
BEGIN:VEVENT
DTSTART;TZID=Europe/Paris:20251016T104500
DTEND;TZID=Europe/Paris:20251016T104500
DTSTAMP:20260425T014743
CREATED:20250919T184827Z
LAST-MODIFIED:20250919T184827Z
UID:10003594-1760611500-1760611500@eglise-methodiste-munster.fr
SUMMARY:Méditation Biblique
DESCRIPTION:
URL:https://eglise-methodiste-munster.fr/evenement/meditation-biblique-12/2025-10-16/
LOCATION:Bethesda-Caroline\, 20A Rue du Général de Lattre de Tassigny\, Munster\, 68140\, France
CATEGORIES:Études bibliques
END:VEVENT
BEGIN:VEVENT
DTSTART;TZID=Europe/Paris:20251012T104500
DTEND;TZID=Europe/Paris:20251012T104500
DTSTAMP:20260425T014743
CREATED:20250919T184550Z
LAST-MODIFIED:20250919T184550Z
UID:10003587-1760265900-1760265900@eglise-methodiste-munster.fr
SUMMARY:Culte à Béthesda-Caroline
DESCRIPTION:
URL:https://eglise-methodiste-munster.fr/evenement/culte-a-bethesda-caroline-15/2025-10-12/
LOCATION:Bethesda-Caroline\, 20A Rue du Général de Lattre de Tassigny\, Munster\, 68140\, France
CATEGORIES:Cultes
END:VEVENT
BEGIN:VEVENT
DTSTART;TZID=Europe/Paris:20251009T104500
DTEND;TZID=Europe/Paris:20251009T104500
DTSTAMP:20260425T014743
CREATED:20250919T184827Z
LAST-MODIFIED:20250919T184827Z
UID:10003593-1760006700-1760006700@eglise-methodiste-munster.fr
SUMMARY:Méditation Biblique
DESCRIPTION:
URL:https://eglise-methodiste-munster.fr/evenement/meditation-biblique-12/2025-10-09/
LOCATION:Bethesda-Caroline\, 20A Rue du Général de Lattre de Tassigny\, Munster\, 68140\, France
CATEGORIES:Études bibliques
END:VEVENT
BEGIN:VEVENT
DTSTART;TZID=Europe/Paris:20251005T104500
DTEND;TZID=Europe/Paris:20251005T104500
DTSTAMP:20260425T014743
CREATED:20250919T184550Z
LAST-MODIFIED:20250919T184550Z
UID:10003586-1759661100-1759661100@eglise-methodiste-munster.fr
SUMMARY:Culte à Béthesda-Caroline
DESCRIPTION:
URL:https://eglise-methodiste-munster.fr/evenement/culte-a-bethesda-caroline-15/2025-10-05/
LOCATION:Bethesda-Caroline\, 20A Rue du Général de Lattre de Tassigny\, Munster\, 68140\, France
CATEGORIES:Cultes
END:VEVENT
BEGIN:VEVENT
DTSTART;TZID=Europe/Paris:20250928T104500
DTEND;TZID=Europe/Paris:20250928T104500
DTSTAMP:20260425T014743
CREATED:20250818T142448Z
LAST-MODIFIED:20250818T142448Z
UID:10003519-1759056300-1759056300@eglise-methodiste-munster.fr
SUMMARY:Culte à Béthesda-Caroline
DESCRIPTION:
URL:https://eglise-methodiste-munster.fr/evenement/culte-a-bethesda-caroline-14/2025-09-28/
LOCATION:Bethesda-Caroline\, 20A Rue du Général de Lattre de Tassigny\, Munster\, 68140\, France
CATEGORIES:Cultes
END:VEVENT
BEGIN:VEVENT
DTSTART;TZID=Europe/Paris:20250925T104500
DTEND;TZID=Europe/Paris:20250925T104500
DTSTAMP:20260425T014743
CREATED:20250818T142611Z
LAST-MODIFIED:20250818T142611Z
UID:10003525-1758797100-1758797100@eglise-methodiste-munster.fr
SUMMARY:Méditation Biblique
DESCRIPTION:
URL:https://eglise-methodiste-munster.fr/evenement/meditation-biblique-11/2025-09-25/
LOCATION:Bethesda-Caroline\, 20A Rue du Général de Lattre de Tassigny\, Munster\, 68140\, France
CATEGORIES:Études bibliques
END:VEVENT
BEGIN:VEVENT
DTSTART;TZID=Europe/Paris:20250921T104500
DTEND;TZID=Europe/Paris:20250921T104500
DTSTAMP:20260425T014743
CREATED:20250818T142448Z
LAST-MODIFIED:20250818T142448Z
UID:10003518-1758451500-1758451500@eglise-methodiste-munster.fr
SUMMARY:Culte à Béthesda-Caroline
DESCRIPTION:
URL:https://eglise-methodiste-munster.fr/evenement/culte-a-bethesda-caroline-14/2025-09-21/
LOCATION:Bethesda-Caroline\, 20A Rue du Général de Lattre de Tassigny\, Munster\, 68140\, France
CATEGORIES:Cultes
END:VEVENT
BEGIN:VEVENT
DTSTART;TZID=Europe/Paris:20250918T104500
DTEND;TZID=Europe/Paris:20250918T104500
DTSTAMP:20260425T014743
CREATED:20250818T142611Z
LAST-MODIFIED:20250818T142611Z
UID:10003524-1758192300-1758192300@eglise-methodiste-munster.fr
SUMMARY:Méditation Biblique
DESCRIPTION:
URL:https://eglise-methodiste-munster.fr/evenement/meditation-biblique-11/2025-09-18/
LOCATION:Bethesda-Caroline\, 20A Rue du Général de Lattre de Tassigny\, Munster\, 68140\, France
CATEGORIES:Études bibliques
END:VEVENT
BEGIN:VEVENT
DTSTART;TZID=Europe/Paris:20250914T104500
DTEND;TZID=Europe/Paris:20250914T104500
DTSTAMP:20260425T014743
CREATED:20250818T142448Z
LAST-MODIFIED:20250818T142448Z
UID:10003517-1757846700-1757846700@eglise-methodiste-munster.fr
SUMMARY:Culte à Béthesda-Caroline
DESCRIPTION:
URL:https://eglise-methodiste-munster.fr/evenement/culte-a-bethesda-caroline-14/2025-09-14/
LOCATION:Bethesda-Caroline\, 20A Rue du Général de Lattre de Tassigny\, Munster\, 68140\, France
CATEGORIES:Cultes
END:VEVENT
BEGIN:VEVENT
DTSTART;TZID=Europe/Paris:20250911T104500
DTEND;TZID=Europe/Paris:20250911T104500
DTSTAMP:20260425T014743
CREATED:20250818T142611Z
LAST-MODIFIED:20250818T142611Z
UID:10003523-1757587500-1757587500@eglise-methodiste-munster.fr
SUMMARY:Méditation Biblique
DESCRIPTION:
URL:https://eglise-methodiste-munster.fr/evenement/meditation-biblique-11/2025-09-11/
LOCATION:Bethesda-Caroline\, 20A Rue du Général de Lattre de Tassigny\, Munster\, 68140\, France
CATEGORIES:Études bibliques
END:VEVENT
BEGIN:VEVENT
DTSTART;TZID=Europe/Paris:20250907T104500
DTEND;TZID=Europe/Paris:20250907T104500
DTSTAMP:20260425T014743
CREATED:20250818T142448Z
LAST-MODIFIED:20250818T142448Z
UID:10003516-1757241900-1757241900@eglise-methodiste-munster.fr
SUMMARY:Culte à Béthesda-Caroline
DESCRIPTION:
URL:https://eglise-methodiste-munster.fr/evenement/culte-a-bethesda-caroline-14/2025-09-07/
LOCATION:Bethesda-Caroline\, 20A Rue du Général de Lattre de Tassigny\, Munster\, 68140\, France
CATEGORIES:Cultes
END:VEVENT
BEGIN:VEVENT
DTSTART;TZID=Europe/Paris:20250831T104500
DTEND;TZID=Europe/Paris:20250831T104500
DTSTAMP:20260425T014743
CREATED:20250518T201156Z
LAST-MODIFIED:20250518T201156Z
UID:10003417-1756637100-1756637100@eglise-methodiste-munster.fr
SUMMARY:Culte à Béthesda-Caroline
DESCRIPTION:
URL:https://eglise-methodiste-munster.fr/evenement/culte-a-bethesda-caroline-13/2025-08-31/
LOCATION:Bethesda-Caroline\, 20A Rue du Général de Lattre de Tassigny\, Munster\, 68140\, France
CATEGORIES:Cultes
END:VEVENT
BEGIN:VEVENT
DTSTART;TZID=Europe/Paris:20250828T104500
DTEND;TZID=Europe/Paris:20250828T104500
DTSTAMP:20260425T014743
CREATED:20250518T200451Z
LAST-MODIFIED:20250518T200451Z
UID:10003387-1756377900-1756377900@eglise-methodiste-munster.fr
SUMMARY:Méditation Biblique
DESCRIPTION:
URL:https://eglise-methodiste-munster.fr/evenement/meditation-biblique-10/2025-08-28/
LOCATION:Bethesda-Caroline\, 20A Rue du Général de Lattre de Tassigny\, Munster\, 68140\, France
CATEGORIES:Études bibliques
END:VEVENT
BEGIN:VEVENT
DTSTART;TZID=Europe/Paris:20250824T104500
DTEND;TZID=Europe/Paris:20250824T104500
DTSTAMP:20260425T014743
CREATED:20250518T201156Z
LAST-MODIFIED:20250518T201156Z
UID:10003416-1756032300-1756032300@eglise-methodiste-munster.fr
SUMMARY:Culte à Béthesda-Caroline
DESCRIPTION:
URL:https://eglise-methodiste-munster.fr/evenement/culte-a-bethesda-caroline-13/2025-08-24/
LOCATION:Bethesda-Caroline\, 20A Rue du Général de Lattre de Tassigny\, Munster\, 68140\, France
CATEGORIES:Cultes
END:VEVENT
BEGIN:VEVENT
DTSTART;TZID=Europe/Paris:20250821T104500
DTEND;TZID=Europe/Paris:20250821T104500
DTSTAMP:20260425T014743
CREATED:20250518T200451Z
LAST-MODIFIED:20250518T200451Z
UID:10003386-1755773100-1755773100@eglise-methodiste-munster.fr
SUMMARY:Méditation Biblique
DESCRIPTION:
URL:https://eglise-methodiste-munster.fr/evenement/meditation-biblique-10/2025-08-21/
LOCATION:Bethesda-Caroline\, 20A Rue du Général de Lattre de Tassigny\, Munster\, 68140\, France
CATEGORIES:Études bibliques
END:VEVENT
BEGIN:VEVENT
DTSTART;TZID=Europe/Paris:20250817T104500
DTEND;TZID=Europe/Paris:20250817T104500
DTSTAMP:20260425T014743
CREATED:20250518T201156Z
LAST-MODIFIED:20250518T201156Z
UID:10003415-1755427500-1755427500@eglise-methodiste-munster.fr
SUMMARY:Culte à Béthesda-Caroline
DESCRIPTION:
URL:https://eglise-methodiste-munster.fr/evenement/culte-a-bethesda-caroline-13/2025-08-17/
LOCATION:Bethesda-Caroline\, 20A Rue du Général de Lattre de Tassigny\, Munster\, 68140\, France
CATEGORIES:Cultes
END:VEVENT
BEGIN:VEVENT
DTSTART;TZID=Europe/Paris:20250814T104500
DTEND;TZID=Europe/Paris:20250814T104500
DTSTAMP:20260425T014743
CREATED:20250518T200451Z
LAST-MODIFIED:20250518T200451Z
UID:10003385-1755168300-1755168300@eglise-methodiste-munster.fr
SUMMARY:Méditation Biblique
DESCRIPTION:
URL:https://eglise-methodiste-munster.fr/evenement/meditation-biblique-10/2025-08-14/
LOCATION:Bethesda-Caroline\, 20A Rue du Général de Lattre de Tassigny\, Munster\, 68140\, France
CATEGORIES:Études bibliques
END:VEVENT
BEGIN:VEVENT
DTSTART;TZID=Europe/Paris:20250810T104500
DTEND;TZID=Europe/Paris:20250810T104500
DTSTAMP:20260425T014743
CREATED:20250518T201156Z
LAST-MODIFIED:20250518T201156Z
UID:10003414-1754822700-1754822700@eglise-methodiste-munster.fr
SUMMARY:Culte à Béthesda-Caroline
DESCRIPTION:
URL:https://eglise-methodiste-munster.fr/evenement/culte-a-bethesda-caroline-13/2025-08-10/
LOCATION:Bethesda-Caroline\, 20A Rue du Général de Lattre de Tassigny\, Munster\, 68140\, France
CATEGORIES:Cultes
END:VEVENT
BEGIN:VEVENT
DTSTART;TZID=Europe/Paris:20250803T104500
DTEND;TZID=Europe/Paris:20250803T104500
DTSTAMP:20260425T014743
CREATED:20250518T201156Z
LAST-MODIFIED:20250518T201156Z
UID:10003413-1754217900-1754217900@eglise-methodiste-munster.fr
SUMMARY:Culte à Béthesda-Caroline
DESCRIPTION:
URL:https://eglise-methodiste-munster.fr/evenement/culte-a-bethesda-caroline-13/2025-08-03/
LOCATION:Bethesda-Caroline\, 20A Rue du Général de Lattre de Tassigny\, Munster\, 68140\, France
CATEGORIES:Cultes
END:VEVENT
END:VCALENDAR