BEGIN:VCALENDAR
VERSION:2.0
PRODID:-//Église Méthodiste de Munster - ECPv6.15.17.1//NONSGML v1.0//EN
CALSCALE:GREGORIAN
METHOD:PUBLISH
X-WR-CALNAME:Église Méthodiste de Munster
X-ORIGINAL-URL:https://eglise-methodiste-munster.fr
X-WR-CALDESC:Évènements pour Église Méthodiste de Munster
REFRESH-INTERVAL;VALUE=DURATION:PT1H
X-Robots-Tag:noindex
X-PUBLISHED-TTL:PT1H
BEGIN:VTIMEZONE
TZID:Europe/Paris
BEGIN:DAYLIGHT
TZOFFSETFROM:+0100
TZOFFSETTO:+0200
TZNAME:CEST
DTSTART:20250330T010000
END:DAYLIGHT
BEGIN:STANDARD
TZOFFSETFROM:+0200
TZOFFSETTO:+0100
TZNAME:CET
DTSTART:20251026T010000
END:STANDARD
BEGIN:DAYLIGHT
TZOFFSETFROM:+0100
TZOFFSETTO:+0200
TZNAME:CEST
DTSTART:20260329T010000
END:DAYLIGHT
BEGIN:STANDARD
TZOFFSETFROM:+0200
TZOFFSETTO:+0100
TZNAME:CET
DTSTART:20261025T010000
END:STANDARD
BEGIN:DAYLIGHT
TZOFFSETFROM:+0100
TZOFFSETTO:+0200
TZNAME:CEST
DTSTART:20270328T010000
END:DAYLIGHT
BEGIN:STANDARD
TZOFFSETFROM:+0200
TZOFFSETTO:+0100
TZNAME:CET
DTSTART:20271031T010000
END:STANDARD
END:VTIMEZONE
BEGIN:VEVENT
DTSTART;TZID=Europe/Paris:20260426T104500
DTEND;TZID=Europe/Paris:20260426T104500
DTSTAMP:20260424T173251
CREATED:20260227T190253Z
LAST-MODIFIED:20260227T190253Z
UID:10003887-1777200300-1777200300@eglise-methodiste-munster.fr
SUMMARY:Culte à Béthesda-Caroline
DESCRIPTION:
URL:https://eglise-methodiste-munster.fr/evenement/culte-a-bethesda-caroline-3/2026-04-26/
LOCATION:Bethesda-Caroline\, 20A Rue du Général de Lattre de Tassigny\, Munster\, 68140\, France
CATEGORIES:Cultes
END:VEVENT
BEGIN:VEVENT
DTSTART;TZID=Europe/Paris:20260503T104500
DTEND;TZID=Europe/Paris:20260503T104500
DTSTAMP:20260424T173251
CREATED:20260227T190351Z
LAST-MODIFIED:20260227T190351Z
UID:10003893-1777805100-1777805100@eglise-methodiste-munster.fr
SUMMARY:Culte à Béthesda-Caroline
DESCRIPTION:
URL:https://eglise-methodiste-munster.fr/evenement/culte-a-bethesda-caroline-4/2026-05-03/
LOCATION:Bethesda-Caroline\, 20A Rue du Général de Lattre de Tassigny\, Munster\, 68140\, France
CATEGORIES:Cultes
END:VEVENT
BEGIN:VEVENT
DTSTART;TZID=Europe/Paris:20260510T104500
DTEND;TZID=Europe/Paris:20260510T104500
DTSTAMP:20260424T173251
CREATED:20260227T190351Z
LAST-MODIFIED:20260227T190351Z
UID:10003894-1778409900-1778409900@eglise-methodiste-munster.fr
SUMMARY:Culte à Béthesda-Caroline
DESCRIPTION:
URL:https://eglise-methodiste-munster.fr/evenement/culte-a-bethesda-caroline-4/2026-05-10/
LOCATION:Bethesda-Caroline\, 20A Rue du Général de Lattre de Tassigny\, Munster\, 68140\, France
CATEGORIES:Cultes
END:VEVENT
BEGIN:VEVENT
DTSTART;TZID=Europe/Paris:20260517T104500
DTEND;TZID=Europe/Paris:20260517T104500
DTSTAMP:20260424T173251
CREATED:20260227T190351Z
LAST-MODIFIED:20260227T190351Z
UID:10003895-1779014700-1779014700@eglise-methodiste-munster.fr
SUMMARY:Culte à Béthesda-Caroline
DESCRIPTION:
URL:https://eglise-methodiste-munster.fr/evenement/culte-a-bethesda-caroline-4/2026-05-17/
LOCATION:Bethesda-Caroline\, 20A Rue du Général de Lattre de Tassigny\, Munster\, 68140\, France
CATEGORIES:Cultes
END:VEVENT
BEGIN:VEVENT
DTSTART;TZID=Europe/Paris:20260524T104500
DTEND;TZID=Europe/Paris:20260524T104500
DTSTAMP:20260424T173251
CREATED:20260227T190351Z
LAST-MODIFIED:20260227T190351Z
UID:10003896-1779619500-1779619500@eglise-methodiste-munster.fr
SUMMARY:Culte à Béthesda-Caroline
DESCRIPTION:
URL:https://eglise-methodiste-munster.fr/evenement/culte-a-bethesda-caroline-4/2026-05-24/
LOCATION:Bethesda-Caroline\, 20A Rue du Général de Lattre de Tassigny\, Munster\, 68140\, France
CATEGORIES:Cultes
END:VEVENT
BEGIN:VEVENT
DTSTART;TZID=Europe/Paris:20260531T104500
DTEND;TZID=Europe/Paris:20260531T104500
DTSTAMP:20260424T173251
CREATED:20260227T190351Z
LAST-MODIFIED:20260227T190351Z
UID:10003897-1780224300-1780224300@eglise-methodiste-munster.fr
SUMMARY:Culte à Béthesda-Caroline
DESCRIPTION:
URL:https://eglise-methodiste-munster.fr/evenement/culte-a-bethesda-caroline-4/2026-05-31/
LOCATION:Bethesda-Caroline\, 20A Rue du Général de Lattre de Tassigny\, Munster\, 68140\, France
CATEGORIES:Cultes
END:VEVENT
END:VCALENDAR