BEGIN:VCALENDAR
VERSION:2.0
PRODID:-//Église Méthodiste de Munster - ECPv6.15.17.1//NONSGML v1.0//EN
CALSCALE:GREGORIAN
METHOD:PUBLISH
X-WR-CALNAME:Église Méthodiste de Munster
X-ORIGINAL-URL:https://eglise-methodiste-munster.fr
X-WR-CALDESC:Évènements pour Église Méthodiste de Munster
REFRESH-INTERVAL;VALUE=DURATION:PT1H
X-Robots-Tag:noindex
X-PUBLISHED-TTL:PT1H
BEGIN:VTIMEZONE
TZID:Europe/Paris
BEGIN:DAYLIGHT
TZOFFSETFROM:+0100
TZOFFSETTO:+0200
TZNAME:CEST
DTSTART:20250330T010000
END:DAYLIGHT
BEGIN:STANDARD
TZOFFSETFROM:+0200
TZOFFSETTO:+0100
TZNAME:CET
DTSTART:20251026T010000
END:STANDARD
BEGIN:DAYLIGHT
TZOFFSETFROM:+0100
TZOFFSETTO:+0200
TZNAME:CEST
DTSTART:20260329T010000
END:DAYLIGHT
BEGIN:STANDARD
TZOFFSETFROM:+0200
TZOFFSETTO:+0100
TZNAME:CET
DTSTART:20261025T010000
END:STANDARD
BEGIN:DAYLIGHT
TZOFFSETFROM:+0100
TZOFFSETTO:+0200
TZNAME:CEST
DTSTART:20270328T010000
END:DAYLIGHT
BEGIN:STANDARD
TZOFFSETFROM:+0200
TZOFFSETTO:+0100
TZNAME:CET
DTSTART:20271031T010000
END:STANDARD
END:VTIMEZONE
BEGIN:VEVENT
DTSTART;TZID=Europe/Paris:20260301T100000
DTEND;TZID=Europe/Paris:20260301T100000
DTSTAMP:20260424T195544
CREATED:20260214T171829Z
LAST-MODIFIED:20260214T171829Z
UID:10003838-1772359200-1772359200@eglise-methodiste-munster.fr
SUMMARY:Culte (TP)
DESCRIPTION:
URL:https://eglise-methodiste-munster.fr/evenement/culte-tp-2/2026-03-01/
LOCATION:Temple de la Paix (TP)\, 24 Rue du 9 Zouaves\, MUNSTER\, 68140
CATEGORIES:Cultes
END:VEVENT
BEGIN:VEVENT
DTSTART;TZID=Europe/Paris:20260301T104500
DTEND;TZID=Europe/Paris:20260301T104500
DTSTAMP:20260424T195544
CREATED:20260214T171916Z
LAST-MODIFIED:20260214T171916Z
UID:10003847-1772361900-1772361900@eglise-methodiste-munster.fr
SUMMARY:Culte à Béthesda-Caroline
DESCRIPTION:
URL:https://eglise-methodiste-munster.fr/evenement/culte-a-bethesda-caroline/2026-03-01/
LOCATION:Bethesda-Caroline\, 20A Rue du Général de Lattre de Tassigny\, Munster\, 68140\, France
CATEGORIES:Cultes
END:VEVENT
BEGIN:VEVENT
DTSTART;TZID=Europe/Paris:20260302T193000
DTEND;TZID=Europe/Paris:20260302T193000
DTSTAMP:20260424T195544
CREATED:20260225T153251Z
LAST-MODIFIED:20260225T153251Z
UID:10003856-1772479800-1772479800@eglise-methodiste-munster.fr
SUMMARY:Groupe de Maison - Griesbach au Val
DESCRIPTION:Réunion chez la famille BAUMGARTNER Daniel et Anne-Marie
URL:https://eglise-methodiste-munster.fr/evenement/groupe-de-maison-griesbach-au-val-8/
LOCATION:Famille BAUMGARTNER\, GRIESBACH DU VAL\, 68140\, France
CATEGORIES:Groupe de Maison
ATTACH;FMTTYPE=image/jpeg:https://eglise-methodiste-munster.fr/wp-content/uploads/2020/08/groupe-de-maison_eem-munster.jpg
END:VEVENT
BEGIN:VEVENT
DTSTART;TZID=Europe/Paris:20260303T060000
DTEND;TZID=Europe/Paris:20260303T180000
DTSTAMP:20260424T195544
CREATED:20260225T153902Z
LAST-MODIFIED:20260225T153902Z
UID:10003858-1772517600-1772560800@eglise-methodiste-munster.fr
SUMMARY:Journée jeûne et prières pour notre projet d'église
DESCRIPTION:
URL:https://eglise-methodiste-munster.fr/evenement/journee-jeune-et-prieres-pour-notre-projet-deglise-5/
LOCATION:Temple de la Paix (TP)\, 24 Rue du 9 Zouaves\, MUNSTER\, 68140
CATEGORIES:Réunion particulière
ATTACH;FMTTYPE=image/jpeg:https://eglise-methodiste-munster.fr/wp-content/uploads/2020/08/reunion-de-prieres_eem-munster.jpg
END:VEVENT
BEGIN:VEVENT
DTSTART;TZID=Europe/Paris:20260303T100000
DTEND;TZID=Europe/Paris:20260303T120000
DTSTAMP:20260424T195544
CREATED:20260103T165342Z
LAST-MODIFIED:20260417T134139Z
UID:10003778-1772532000-1772539200@eglise-methodiste-munster.fr
SUMMARY:Permanence pastorale
DESCRIPTION:
URL:https://eglise-methodiste-munster.fr/evenement/permanence-pastorale-6/2026-03-03/
LOCATION:Temple de la Paix (TP)\, 24 Rue du 9 Zouaves\, MUNSTER\, 68140
CATEGORIES:Permanence pastorale
END:VEVENT
BEGIN:VEVENT
DTSTART;TZID=Europe/Paris:20260303T193000
DTEND;TZID=Europe/Paris:20260303T193000
DTSTAMP:20260424T195544
CREATED:20260125T182236Z
LAST-MODIFIED:20260125T182236Z
UID:10003824-1772566200-1772566200@eglise-methodiste-munster.fr
SUMMARY:Conseil d'Église
DESCRIPTION:
URL:https://eglise-methodiste-munster.fr/evenement/conseil-deglise-14/
LOCATION:Temple de la Paix (TP)\, 24 Rue du 9 Zouaves\, MUNSTER\, 68140
CATEGORIES:Réunion Administrative
END:VEVENT
BEGIN:VEVENT
DTSTART;TZID=Europe/Paris:20260304T143000
DTEND;TZID=Europe/Paris:20260304T143000
DTSTAMP:20260424T195544
CREATED:20260225T154140Z
LAST-MODIFIED:20260225T154140Z
UID:10003859-1772634600-1772634600@eglise-methodiste-munster.fr
SUMMARY:Groupe de Maison - Hohrod
DESCRIPTION:Réunion au 41 Rue de la Saegmatt à Ampfersbach
URL:https://eglise-methodiste-munster.fr/evenement/groupe-de-maison-hohrod-3/
LOCATION:Famille OBERLÉ\, HOHROD\, 68142\, France
CATEGORIES:Groupe de Maison
ATTACH;FMTTYPE=image/jpeg:https://eglise-methodiste-munster.fr/wp-content/uploads/2020/08/groupe-de-maison_eem-munster.jpg
END:VEVENT
BEGIN:VEVENT
DTSTART;TZID=Europe/Paris:20260305T143000
DTEND;TZID=Europe/Paris:20260305T143000
DTSTAMP:20260424T195544
CREATED:20251021T082936Z
LAST-MODIFIED:20251021T082936Z
UID:10003688-1772721000-1772721000@eglise-methodiste-munster.fr
SUMMARY:Journée Mondiale de Prière
DESCRIPTION:
URL:https://eglise-methodiste-munster.fr/evenement/journee-mondiale-de-priere-2/
LOCATION:Eglise protestante de Soultzeren\, 2 rue du Rod\, Soultzeren\, 68140\, France
CATEGORIES:Œcuménisme
END:VEVENT
BEGIN:VEVENT
DTSTART;TZID=Europe/Paris:20260306T200000
DTEND;TZID=Europe/Paris:20260306T200000
DTSTAMP:20260424T195544
CREATED:20251021T082645Z
LAST-MODIFIED:20251021T082645Z
UID:10003689-1772827200-1772827200@eglise-methodiste-munster.fr
SUMMARY:Journée Mondiale de Prière
DESCRIPTION:
URL:https://eglise-methodiste-munster.fr/evenement/journee-mondiale-de-priere/
LOCATION:Eglise catholique Saint-Léger\, Rue de la République\, Munster\, 68140\, France
CATEGORIES:Œcuménisme
END:VEVENT
BEGIN:VEVENT
DTSTART;TZID=Europe/Paris:20260307T083000
DTEND;TZID=Europe/Paris:20260307T103000
DTSTAMP:20260424T195544
CREATED:20260214T172113Z
LAST-MODIFIED:20260214T172113Z
UID:10003852-1772872200-1772879400@eglise-methodiste-munster.fr
SUMMARY:Forum des Hommes
DESCRIPTION:Partage
URL:https://eglise-methodiste-munster.fr/evenement/forum-des-hommes-3/
LOCATION:Temple de la Paix (TP)\, 24 Rue du 9 Zouaves\, MUNSTER\, 68140
CATEGORIES:Groupe de Maison
END:VEVENT
BEGIN:VEVENT
DTSTART;TZID=Europe/Paris:20260307T140000
DTEND;TZID=Europe/Paris:20260307T140000
DTSTAMP:20260424T195544
CREATED:20260227T184748Z
LAST-MODIFIED:20260227T184748Z
UID:10003870-1772892000-1772892000@eglise-methodiste-munster.fr
SUMMARY:Eglise en Marche
DESCRIPTION:RDV à 14 h précises\, parking à côté du TP. \nContact J-Paul Jaegle.
URL:https://eglise-methodiste-munster.fr/evenement/eglise-en-marche-20/
LOCATION:En plein air
CATEGORIES:Église en Marche
END:VEVENT
BEGIN:VEVENT
DTSTART;TZID=Europe/Paris:20260308T100000
DTEND;TZID=Europe/Paris:20260308T100000
DTSTAMP:20260424T195544
CREATED:20260214T171829Z
LAST-MODIFIED:20260214T171829Z
UID:10003839-1772964000-1772964000@eglise-methodiste-munster.fr
SUMMARY:Culte (TP)
DESCRIPTION:
URL:https://eglise-methodiste-munster.fr/evenement/culte-tp-2/2026-03-08/
LOCATION:Temple de la Paix (TP)\, 24 Rue du 9 Zouaves\, MUNSTER\, 68140
CATEGORIES:Cultes
END:VEVENT
BEGIN:VEVENT
DTSTART;TZID=Europe/Paris:20260308T104500
DTEND;TZID=Europe/Paris:20260308T104500
DTSTAMP:20260424T195544
CREATED:20260214T171916Z
LAST-MODIFIED:20260214T171916Z
UID:10003848-1772966700-1772966700@eglise-methodiste-munster.fr
SUMMARY:Culte à Béthesda-Caroline
DESCRIPTION:
URL:https://eglise-methodiste-munster.fr/evenement/culte-a-bethesda-caroline/2026-03-08/
LOCATION:Bethesda-Caroline\, 20A Rue du Général de Lattre de Tassigny\, Munster\, 68140\, France
CATEGORIES:Cultes
END:VEVENT
BEGIN:VEVENT
DTSTART;TZID=Europe/Paris:20260308T120000
DTEND;TZID=Europe/Paris:20260308T160000
DTSTAMP:20260424T195544
CREATED:20260104T173946Z
LAST-MODIFIED:20260104T173946Z
UID:10003789-1772971200-1772985600@eglise-methodiste-munster.fr
SUMMARY:Parta'Jeunes
DESCRIPTION:
URL:https://eglise-methodiste-munster.fr/evenement/partajeunes-41/
LOCATION:Temple de la Paix (TP)\, 24 Rue du 9 Zouaves\, MUNSTER\, 68140
CATEGORIES:Parta'Jeunes
END:VEVENT
BEGIN:VEVENT
DTSTART;TZID=Europe/Paris:20260310T090000
DTEND;TZID=Europe/Paris:20260310T090000
DTSTAMP:20260424T195544
CREATED:20260227T192159Z
LAST-MODIFIED:20260227T192159Z
UID:10003898-1773133200-1773133200@eglise-methodiste-munster.fr
SUMMARY:Réunion de prières
DESCRIPTION:
URL:https://eglise-methodiste-munster.fr/evenement/reunion-de-prieres-2/
LOCATION:Temple de la Paix (TP)\, 24 Rue du 9 Zouaves\, MUNSTER\, 68140
CATEGORIES:Réunion de Prières
END:VEVENT
BEGIN:VEVENT
DTSTART;TZID=Europe/Paris:20260310T100000
DTEND;TZID=Europe/Paris:20260310T120000
DTSTAMP:20260424T195544
CREATED:20260103T165342Z
LAST-MODIFIED:20260417T134139Z
UID:10003779-1773136800-1773144000@eglise-methodiste-munster.fr
SUMMARY:Permanence pastorale
DESCRIPTION:
URL:https://eglise-methodiste-munster.fr/evenement/permanence-pastorale-6/2026-03-10/
LOCATION:Temple de la Paix (TP)\, 24 Rue du 9 Zouaves\, MUNSTER\, 68140
CATEGORIES:Permanence pastorale
END:VEVENT
BEGIN:VEVENT
DTSTART;TZID=Europe/Paris:20260310T200000
DTEND;TZID=Europe/Paris:20260310T213000
DTSTAMP:20260424T195544
CREATED:20251019T090752Z
LAST-MODIFIED:20251118T080241Z
UID:10003491-1773172800-1773178200@eglise-methodiste-munster.fr
SUMMARY:Étude biblique
DESCRIPTION:Nouveau cycle d’étude biblique sur les quatre premiers chapitres du livre de la Genèse.
URL:https://eglise-methodiste-munster.fr/evenement/etude-biblique-3-2-2/
LOCATION:Temple de la Paix (TP)\, 24 Rue du 9 Zouaves\, MUNSTER\, 68140
CATEGORIES:Études bibliques
END:VEVENT
BEGIN:VEVENT
DTSTART;TZID=Europe/Paris:20260311T193000
DTEND;TZID=Europe/Paris:20260311T203000
DTSTAMP:20260424T195544
CREATED:20250919T152301Z
LAST-MODIFIED:20250919T152301Z
UID:10003570-1773257400-1773261000@eglise-methodiste-munster.fr
SUMMARY:Veillée œcuménique de carême
DESCRIPTION:
URL:https://eglise-methodiste-munster.fr/evenement/veillee-oecumenique-de-careme-4/
LOCATION:Temple de la Paix (TP)\, 24 Rue du 9 Zouaves\, MUNSTER\, 68140
CATEGORIES:Œcuménisme
END:VEVENT
BEGIN:VEVENT
DTSTART;TZID=Europe/Paris:20260312T104500
DTEND;TZID=Europe/Paris:20260312T104500
DTSTAMP:20260424T195544
CREATED:20260225T155053Z
LAST-MODIFIED:20260225T155053Z
UID:10003864-1773312300-1773312300@eglise-methodiste-munster.fr
SUMMARY:Méditation Biblique
DESCRIPTION:
URL:https://eglise-methodiste-munster.fr/evenement/meditation-biblique-3/2026-03-12/
LOCATION:Bethesda-Caroline\, 20A Rue du Général de Lattre de Tassigny\, Munster\, 68140\, France
CATEGORIES:Études bibliques
END:VEVENT
BEGIN:VEVENT
DTSTART;TZID=Europe/Paris:20260313T193000
DTEND;TZID=Europe/Paris:20260313T193000
DTSTAMP:20260424T195544
CREATED:20251021T080624Z
LAST-MODIFIED:20251021T080624Z
UID:10003685-1773430200-1773430200@eglise-methodiste-munster.fr
SUMMARY:Assemblée générale du TP
DESCRIPTION:
URL:https://eglise-methodiste-munster.fr/evenement/assemblee-generale-du-tp-2/
LOCATION:Temple de la Paix (TP)\, 24 Rue du 9 Zouaves\, MUNSTER\, 68140
CATEGORIES:Réunion particulière
END:VEVENT
BEGIN:VEVENT
DTSTART;TZID=Europe/Paris:20260313T193000
DTEND;TZID=Europe/Paris:20260313T230000
DTSTAMP:20260424T195544
CREATED:20260104T174027Z
LAST-MODIFIED:20260104T174027Z
UID:10003790-1773430200-1773442800@eglise-methodiste-munster.fr
SUMMARY:Parta'Jeunes
DESCRIPTION:Soirée PJS avec participation à l’AG du TP ! 🙂
URL:https://eglise-methodiste-munster.fr/evenement/partajeunes-42/
LOCATION:Temple de la Paix (TP)\, 24 Rue du 9 Zouaves\, MUNSTER\, 68140
CATEGORIES:Parta'Jeunes
END:VEVENT
BEGIN:VEVENT
DTSTART;TZID=Europe/Paris:20260314T100000
DTEND;TZID=Europe/Paris:20260314T113000
DTSTAMP:20260424T195544
CREATED:20250905T131754Z
LAST-MODIFIED:20250905T131754Z
UID:10003557-1773482400-1773487800@eglise-methodiste-munster.fr
SUMMARY:KT
DESCRIPTION:
URL:https://eglise-methodiste-munster.fr/evenement/kt-4/2026-03-14/
LOCATION:Temple de la Paix (TP)\, 24 Rue du 9 Zouaves\, MUNSTER\, 68140
CATEGORIES:Caté
END:VEVENT
BEGIN:VEVENT
DTSTART;TZID=Europe/Paris:20260315T100000
DTEND;TZID=Europe/Paris:20260315T100000
DTSTAMP:20260424T195544
CREATED:20260214T171829Z
LAST-MODIFIED:20260214T171829Z
UID:10003840-1773568800-1773568800@eglise-methodiste-munster.fr
SUMMARY:Culte (TP)
DESCRIPTION:
URL:https://eglise-methodiste-munster.fr/evenement/culte-tp-2/2026-03-15/
LOCATION:Temple de la Paix (TP)\, 24 Rue du 9 Zouaves\, MUNSTER\, 68140
CATEGORIES:Cultes
END:VEVENT
BEGIN:VEVENT
DTSTART;TZID=Europe/Paris:20260315T104500
DTEND;TZID=Europe/Paris:20260315T104500
DTSTAMP:20260424T195544
CREATED:20260214T171916Z
LAST-MODIFIED:20260214T171916Z
UID:10003849-1773571500-1773571500@eglise-methodiste-munster.fr
SUMMARY:Culte à Béthesda-Caroline
DESCRIPTION:
URL:https://eglise-methodiste-munster.fr/evenement/culte-a-bethesda-caroline/2026-03-15/
LOCATION:Bethesda-Caroline\, 20A Rue du Général de Lattre de Tassigny\, Munster\, 68140\, France
CATEGORIES:Cultes
END:VEVENT
BEGIN:VEVENT
DTSTART;TZID=Europe/Paris:20260317T100000
DTEND;TZID=Europe/Paris:20260317T120000
DTSTAMP:20260424T195544
CREATED:20260103T165342Z
LAST-MODIFIED:20260417T134139Z
UID:10003780-1773741600-1773748800@eglise-methodiste-munster.fr
SUMMARY:Permanence pastorale
DESCRIPTION:
URL:https://eglise-methodiste-munster.fr/evenement/permanence-pastorale-6/2026-03-17/
LOCATION:Temple de la Paix (TP)\, 24 Rue du 9 Zouaves\, MUNSTER\, 68140
CATEGORIES:Permanence pastorale
END:VEVENT
BEGIN:VEVENT
DTSTART;TZID=Europe/Paris:20260317T193000
DTEND;TZID=Europe/Paris:20260317T193000
DTSTAMP:20260424T195544
CREATED:20260305T145827Z
LAST-MODIFIED:20260305T145827Z
UID:10003913-1773775800-1773775800@eglise-methodiste-munster.fr
SUMMARY:Groupe de Maison - Griesbach au Val
DESCRIPTION:Réunion chez la famille BAUMGARTNER Daniel et Anne-Marie
URL:https://eglise-methodiste-munster.fr/evenement/groupe-de-maison-griesbach-au-val-10/
LOCATION:Famille BAUMGARTNER\, GRIESBACH DU VAL\, 68140\, France
CATEGORIES:Groupe de Maison
ATTACH;FMTTYPE=image/jpeg:https://eglise-methodiste-munster.fr/wp-content/uploads/2020/08/groupe-de-maison_eem-munster.jpg
END:VEVENT
BEGIN:VEVENT
DTSTART;TZID=Europe/Paris:20260318T063000
DTEND;TZID=Europe/Paris:20260318T063000
DTSTAMP:20260424T195544
CREATED:20260227T192331Z
LAST-MODIFIED:20260315T110256Z
UID:10003900-1773815400-1773815400@eglise-methodiste-munster.fr
SUMMARY:Groupe de prières du matin
DESCRIPTION:Chez Ruth et Martin
URL:https://eglise-methodiste-munster.fr/evenement/groupe-de-prieres-du-matin-2/
LOCATION:Famille MOHR
CATEGORIES:Réunion de Prières
END:VEVENT
BEGIN:VEVENT
DTSTART;TZID=Europe/Paris:20260318T143000
DTEND;TZID=Europe/Paris:20260318T143000
DTSTAMP:20260424T195544
CREATED:20260225T154220Z
LAST-MODIFIED:20260225T154220Z
UID:10003860-1773844200-1773844200@eglise-methodiste-munster.fr
SUMMARY:Groupe de Maison - Hohrod
DESCRIPTION:Réunion chez la famille OBERLÉ à HOHROD
URL:https://eglise-methodiste-munster.fr/evenement/groupe-de-maison-hohrod-4/
LOCATION:Famille OBERLÉ\, HOHROD\, 68142\, France
CATEGORIES:Groupe de Maison
ATTACH;FMTTYPE=image/jpeg:https://eglise-methodiste-munster.fr/wp-content/uploads/2020/08/groupe-de-maison_eem-munster.jpg
END:VEVENT
BEGIN:VEVENT
DTSTART;TZID=Europe/Paris:20260319T104500
DTEND;TZID=Europe/Paris:20260319T104500
DTSTAMP:20260424T195544
CREATED:20260225T155053Z
LAST-MODIFIED:20260225T155053Z
UID:10003865-1773917100-1773917100@eglise-methodiste-munster.fr
SUMMARY:Méditation Biblique
DESCRIPTION:
URL:https://eglise-methodiste-munster.fr/evenement/meditation-biblique-3/2026-03-19/
LOCATION:Bethesda-Caroline\, 20A Rue du Général de Lattre de Tassigny\, Munster\, 68140\, France
CATEGORIES:Études bibliques
END:VEVENT
BEGIN:VEVENT
DTSTART;TZID=Europe/Paris:20260319T193000
DTEND;TZID=Europe/Paris:20260319T203000
DTSTAMP:20260424T195544
CREATED:20250919T152358Z
LAST-MODIFIED:20250919T152358Z
UID:10003571-1773948600-1773952200@eglise-methodiste-munster.fr
SUMMARY:Veillée œcuménique de carême
DESCRIPTION:
URL:https://eglise-methodiste-munster.fr/evenement/veillee-oecumenique-de-careme-5/
LOCATION:Eglise de Gunsbach\, 13 rue de Munster\, GUNSBACH\, France\, 68140
CATEGORIES:Œcuménisme
END:VEVENT
END:VCALENDAR