BEGIN:VCALENDAR
VERSION:2.0
PRODID:-//Église Méthodiste de Munster - ECPv6.15.17.1//NONSGML v1.0//EN
CALSCALE:GREGORIAN
METHOD:PUBLISH
X-ORIGINAL-URL:https://eglise-methodiste-munster.fr
X-WR-CALDESC:Évènements pour Église Méthodiste de Munster
REFRESH-INTERVAL;VALUE=DURATION:PT1H
X-Robots-Tag:noindex
X-PUBLISHED-TTL:PT1H
BEGIN:VTIMEZONE
TZID:Europe/Paris
BEGIN:DAYLIGHT
TZOFFSETFROM:+0100
TZOFFSETTO:+0200
TZNAME:CEST
DTSTART:20250330T010000
END:DAYLIGHT
BEGIN:STANDARD
TZOFFSETFROM:+0200
TZOFFSETTO:+0100
TZNAME:CET
DTSTART:20251026T010000
END:STANDARD
BEGIN:DAYLIGHT
TZOFFSETFROM:+0100
TZOFFSETTO:+0200
TZNAME:CEST
DTSTART:20260329T010000
END:DAYLIGHT
BEGIN:STANDARD
TZOFFSETFROM:+0200
TZOFFSETTO:+0100
TZNAME:CET
DTSTART:20261025T010000
END:STANDARD
BEGIN:DAYLIGHT
TZOFFSETFROM:+0100
TZOFFSETTO:+0200
TZNAME:CEST
DTSTART:20270328T010000
END:DAYLIGHT
BEGIN:STANDARD
TZOFFSETFROM:+0200
TZOFFSETTO:+0100
TZNAME:CET
DTSTART:20271031T010000
END:STANDARD
END:VTIMEZONE
BEGIN:VEVENT
DTSTART;TZID=Europe/Paris:20260201T100000
DTEND;TZID=Europe/Paris:20260201T100000
DTSTAMP:20260424T210618
CREATED:20260124T103356Z
LAST-MODIFIED:20260124T103356Z
UID:10003797-1769940000-1769940000@eglise-methodiste-munster.fr
SUMMARY:Culte (TP)
DESCRIPTION:
URL:https://eglise-methodiste-munster.fr/evenement/culte-tp/2026-02-01/
LOCATION:Temple de la Paix (TP)\, 24 Rue du 9 Zouaves\, MUNSTER\, 68140
CATEGORIES:Cultes
END:VEVENT
BEGIN:VEVENT
DTSTART;TZID=Europe/Paris:20260201T104500
DTEND;TZID=Europe/Paris:20260201T104500
DTSTAMP:20260424T210618
CREATED:20260124T103452Z
LAST-MODIFIED:20260124T103452Z
UID:10003805-1769942700-1769942700@eglise-methodiste-munster.fr
SUMMARY:Culte à Béthesda-Caroline
DESCRIPTION:
URL:https://eglise-methodiste-munster.fr/evenement/culte-a-bethesda-caroline-2/2026-02-01/
LOCATION:Bethesda-Caroline\, 20A Rue du Général de Lattre de Tassigny\, Munster\, 68140\, France
CATEGORIES:Cultes
END:VEVENT
BEGIN:VEVENT
DTSTART;TZID=Europe/Paris:20260201T120000
DTEND;TZID=Europe/Paris:20260201T120000
DTSTAMP:20260424T210618
CREATED:20260103T193759Z
LAST-MODIFIED:20260124T103620Z
UID:10003776-1769947200-1769947200@eglise-methodiste-munster.fr
SUMMARY:Fête de paroisse - Repas Communautaire
DESCRIPTION:
URL:https://eglise-methodiste-munster.fr/evenement/fete-de-paroisse-2/
LOCATION:Temple de la Paix (TP)\, 24 Rue du 9 Zouaves\, MUNSTER\, 68140
CATEGORIES:Réunion particulière
END:VEVENT
BEGIN:VEVENT
DTSTART;TZID=Europe/Paris:20260201T120000
DTEND;TZID=Europe/Paris:20260201T160000
DTSTAMP:20260424T210618
CREATED:20260104T173831Z
LAST-MODIFIED:20260104T173831Z
UID:10003786-1769947200-1769961600@eglise-methodiste-munster.fr
SUMMARY:Parta'Jeunes
DESCRIPTION:Fête de paroisse avec repas crêpes pour financer les activités PJS ! 😉
URL:https://eglise-methodiste-munster.fr/evenement/partajeunes-38/
LOCATION:Temple de la Paix (TP)\, 24 Rue du 9 Zouaves\, MUNSTER\, 68140
CATEGORIES:Parta'Jeunes
END:VEVENT
BEGIN:VEVENT
DTSTART;TZID=Europe/Paris:20260202T193000
DTEND;TZID=Europe/Paris:20260202T193000
DTSTAMP:20260424T210618
CREATED:20251222T075029Z
LAST-MODIFIED:20251222T075029Z
UID:10003758-1770060600-1770060600@eglise-methodiste-munster.fr
SUMMARY:Groupe de Maison - Griesbach au Val
DESCRIPTION:Réunion chez la famille BAUMGARTNER Daniel et Anne-Marie
URL:https://eglise-methodiste-munster.fr/evenement/groupe-de-maison-griesbach-au-val-7/
LOCATION:Famille BAUMGARTNER\, GRIESBACH DU VAL\, 68140\, France
CATEGORIES:Groupe de Maison
ATTACH;FMTTYPE=image/jpeg:https://eglise-methodiste-munster.fr/wp-content/uploads/2020/08/groupe-de-maison_eem-munster.jpg
END:VEVENT
BEGIN:VEVENT
DTSTART;TZID=Europe/Paris:20260203T060000
DTEND;TZID=Europe/Paris:20260203T180000
DTSTAMP:20260424T210618
CREATED:20260125T181127Z
LAST-MODIFIED:20260125T181127Z
UID:10003812-1770098400-1770141600@eglise-methodiste-munster.fr
SUMMARY:Journée jeûne et prières pour notre projet d'église
DESCRIPTION:
URL:https://eglise-methodiste-munster.fr/evenement/journee-jeune-et-prieres-pour-notre-projet-deglise-4/
LOCATION:Temple de la Paix (TP)\, 24 Rue du 9 Zouaves\, MUNSTER\, 68140
CATEGORIES:Réunion particulière
ATTACH;FMTTYPE=image/jpeg:https://eglise-methodiste-munster.fr/wp-content/uploads/2020/08/reunion-de-prieres_eem-munster.jpg
END:VEVENT
BEGIN:VEVENT
DTSTART;TZID=Europe/Paris:20260203T193000
DTEND;TZID=Europe/Paris:20260203T193000
DTSTAMP:20260424T210618
CREATED:20260125T182144Z
LAST-MODIFIED:20260125T182144Z
UID:10003823-1770147000-1770147000@eglise-methodiste-munster.fr
SUMMARY:Conseil d'Église
DESCRIPTION:
URL:https://eglise-methodiste-munster.fr/evenement/conseil-deglise/
LOCATION:Temple de la Paix (TP)\, 24 Rue du 9 Zouaves\, MUNSTER\, 68140
CATEGORIES:Réunion Administrative
END:VEVENT
BEGIN:VEVENT
DTSTART;TZID=Europe/Paris:20260205T200000
DTEND;TZID=Europe/Paris:20260205T200000
DTSTAMP:20260424T210618
CREATED:20251220T100052Z
LAST-MODIFIED:20251220T100052Z
UID:10003752-1770321600-1770321600@eglise-methodiste-munster.fr
SUMMARY:Réunion de prière: soeurs du Hohrodberg
DESCRIPTION:
URL:https://eglise-methodiste-munster.fr/evenement/reunion-de-priere-soeurs-du-hohrodberg-5/
LOCATION:Soeurs du Hohrodberg\, 21 route du Linge\, HOHRODBERG\, 68140
CATEGORIES:Réunion de Prières
END:VEVENT
BEGIN:VEVENT
DTSTART;TZID=Europe/Paris:20260206T200000
DTEND;TZID=Europe/Paris:20260206T213000
DTSTAMP:20260424T210618
CREATED:20251118T080316Z
LAST-MODIFIED:20260116T121552Z
UID:10003700-1770408000-1770413400@eglise-methodiste-munster.fr
SUMMARY:Étude biblique
DESCRIPTION:Nouveau cycle d’étude biblique sur les quatre premiers chapitre du livre de la Genèse.
URL:https://eglise-methodiste-munster.fr/evenement/etude-biblique-6/
LOCATION:Temple de la Paix (TP)\, 24 Rue du 9 Zouaves\, MUNSTER\, 68140
CATEGORIES:Études bibliques
END:VEVENT
BEGIN:VEVENT
DTSTART;TZID=Europe/Paris:20260207T083000
DTEND;TZID=Europe/Paris:20260207T103000
DTSTAMP:20260424T210618
CREATED:20260125T175713Z
LAST-MODIFIED:20260205T072855Z
UID:10003810-1770453000-1770460200@eglise-methodiste-munster.fr
SUMMARY:Forum des Hommes
DESCRIPTION:Pierre Valdo et les vaudois. Vivre l’Évangile avant la réforme. \navec Dan Reutenauer
URL:https://eglise-methodiste-munster.fr/evenement/forum-des-hommes/
LOCATION:Temple de la Paix (TP)\, 24 Rue du 9 Zouaves\, MUNSTER\, 68140
CATEGORIES:Groupe de Maison
END:VEVENT
BEGIN:VEVENT
DTSTART;TZID=Europe/Paris:20260207T193000
DTEND;TZID=Europe/Paris:20260207T230000
DTSTAMP:20260424T210618
CREATED:20260104T173853Z
LAST-MODIFIED:20260104T173853Z
UID:10003787-1770492600-1770505200@eglise-methodiste-munster.fr
SUMMARY:Parta'Jeunes
DESCRIPTION:
URL:https://eglise-methodiste-munster.fr/evenement/partajeunes-39/
LOCATION:Temple de la Paix (TP)\, 24 Rue du 9 Zouaves\, MUNSTER\, 68140
CATEGORIES:Parta'Jeunes
END:VEVENT
BEGIN:VEVENT
DTSTART;TZID=Europe/Paris:20260208T100000
DTEND;TZID=Europe/Paris:20260208T100000
DTSTAMP:20260424T210618
CREATED:20260124T103356Z
LAST-MODIFIED:20260124T103356Z
UID:10003798-1770544800-1770544800@eglise-methodiste-munster.fr
SUMMARY:Culte (TP)
DESCRIPTION:
URL:https://eglise-methodiste-munster.fr/evenement/culte-tp/2026-02-08/
LOCATION:Temple de la Paix (TP)\, 24 Rue du 9 Zouaves\, MUNSTER\, 68140
CATEGORIES:Cultes
END:VEVENT
BEGIN:VEVENT
DTSTART;TZID=Europe/Paris:20260208T104500
DTEND;TZID=Europe/Paris:20260208T104500
DTSTAMP:20260424T210618
CREATED:20260124T103452Z
LAST-MODIFIED:20260124T103452Z
UID:10003806-1770547500-1770547500@eglise-methodiste-munster.fr
SUMMARY:Culte à Béthesda-Caroline
DESCRIPTION:
URL:https://eglise-methodiste-munster.fr/evenement/culte-a-bethesda-caroline-2/2026-02-08/
LOCATION:Bethesda-Caroline\, 20A Rue du Général de Lattre de Tassigny\, Munster\, 68140\, France
CATEGORIES:Cultes
END:VEVENT
BEGIN:VEVENT
DTSTART;TZID=Europe/Paris:20260208T160000
DTEND;TZID=Europe/Paris:20260208T160000
DTSTAMP:20260424T210618
CREATED:20251222T131209Z
LAST-MODIFIED:20251222T131209Z
UID:10003765-1770566400-1770566400@eglise-methodiste-munster.fr
SUMMARY:Concert pour l'Autre (Chorales oecuméniques)
DESCRIPTION:En soutien à ???
URL:https://eglise-methodiste-munster.fr/evenement/concert-pour-lautre-chorales-oecumeniques/
LOCATION:Eglise catholique Saint-Léger\, Rue de la République\, Munster\, 68140\, France
CATEGORIES:Réunion particulière
END:VEVENT
BEGIN:VEVENT
DTSTART;TZID=Europe/Paris:20260210T090000
DTEND;TZID=Europe/Paris:20260210T090000
DTSTAMP:20260424T210618
CREATED:20260125T181525Z
LAST-MODIFIED:20260125T181525Z
UID:10003820-1770714000-1770714000@eglise-methodiste-munster.fr
SUMMARY:Réunion de prières
DESCRIPTION:
URL:https://eglise-methodiste-munster.fr/evenement/reunion-de-prieres/
LOCATION:Temple de la Paix (TP)\, 24 Rue du 9 Zouaves\, MUNSTER\, 68140
CATEGORIES:Réunion de Prières
END:VEVENT
BEGIN:VEVENT
DTSTART;TZID=Europe/Paris:20260211T143000
DTEND;TZID=Europe/Paris:20260211T143000
DTSTAMP:20260424T210618
CREATED:20260131T162303Z
LAST-MODIFIED:20260131T162303Z
UID:10003826-1770820200-1770820200@eglise-methodiste-munster.fr
SUMMARY:Groupe de Maison - Hohrod
DESCRIPTION:Réunion chez la famille OBERLÉ à HOHROD
URL:https://eglise-methodiste-munster.fr/evenement/groupe-de-maison-hohrod-2/
LOCATION:Famille OBERLÉ\, HOHROD\, 68142\, France
CATEGORIES:Groupe de Maison
ATTACH;FMTTYPE=image/jpeg:https://eglise-methodiste-munster.fr/wp-content/uploads/2020/08/groupe-de-maison_eem-munster.jpg
END:VEVENT
BEGIN:VEVENT
DTSTART;TZID=Europe/Paris:20260212T104500
DTEND;TZID=Europe/Paris:20260212T104500
DTSTAMP:20260424T210618
CREATED:20260125T181331Z
LAST-MODIFIED:20260125T181331Z
UID:10003817-1770893100-1770893100@eglise-methodiste-munster.fr
SUMMARY:Méditation Biblique
DESCRIPTION:
URL:https://eglise-methodiste-munster.fr/evenement/meditation-biblique-2/2026-02-12/
LOCATION:Bethesda-Caroline\, 20A Rue du Général de Lattre de Tassigny\, Munster\, 68140\, France
CATEGORIES:Études bibliques
END:VEVENT
BEGIN:VEVENT
DTSTART;TZID=Europe/Paris:20260213T200000
DTEND;TZID=Europe/Paris:20260213T200000
DTSTAMP:20260424T210618
CREATED:20260125T175545Z
LAST-MODIFIED:20260131T073203Z
UID:10003809-1771012800-1771012800@eglise-methodiste-munster.fr
SUMMARY:Groupe de Maison - Luttenbach
DESCRIPTION:Réunion chez la famille BRUA
URL:https://eglise-methodiste-munster.fr/evenement/groupe-de-maison-brua-luttenbach-3/
LOCATION:Famille Brua\, rue du Froeschwihr\, Luttenbach\, 68140\, France
CATEGORIES:Groupe de Maison
ATTACH;FMTTYPE=image/jpeg:https://eglise-methodiste-munster.fr/wp-content/uploads/2020/08/groupe-de-maison_eem-munster.jpg
END:VEVENT
BEGIN:VEVENT
DTSTART;TZID=Europe/Paris:20260214T100000
DTEND;TZID=Europe/Paris:20260214T113000
DTSTAMP:20260424T210618
CREATED:20250905T131715Z
LAST-MODIFIED:20250905T131715Z
UID:10003556-1771063200-1771068600@eglise-methodiste-munster.fr
SUMMARY:KT
DESCRIPTION:
URL:https://eglise-methodiste-munster.fr/evenement/kt-3/2026-02-14/
LOCATION:Temple de la Paix (TP)\, 24 Rue du 9 Zouaves\, MUNSTER\, 68140
CATEGORIES:Caté
END:VEVENT
BEGIN:VEVENT
DTSTART;TZID=Europe/Paris:20260215T100000
DTEND;TZID=Europe/Paris:20260215T100000
DTSTAMP:20260424T210618
CREATED:20260124T103356Z
LAST-MODIFIED:20260124T103356Z
UID:10003799-1771149600-1771149600@eglise-methodiste-munster.fr
SUMMARY:Culte (TP)
DESCRIPTION:
URL:https://eglise-methodiste-munster.fr/evenement/culte-tp/2026-02-15/
LOCATION:Temple de la Paix (TP)\, 24 Rue du 9 Zouaves\, MUNSTER\, 68140
CATEGORIES:Cultes
END:VEVENT
BEGIN:VEVENT
DTSTART;TZID=Europe/Paris:20260215T104500
DTEND;TZID=Europe/Paris:20260215T104500
DTSTAMP:20260424T210618
CREATED:20260124T103452Z
LAST-MODIFIED:20260124T103452Z
UID:10003807-1771152300-1771152300@eglise-methodiste-munster.fr
SUMMARY:Culte à Béthesda-Caroline
DESCRIPTION:
URL:https://eglise-methodiste-munster.fr/evenement/culte-a-bethesda-caroline-2/2026-02-15/
LOCATION:Bethesda-Caroline\, 20A Rue du Général de Lattre de Tassigny\, Munster\, 68140\, France
CATEGORIES:Cultes
END:VEVENT
BEGIN:VEVENT
DTSTART;TZID=Europe/Paris:20260215T120000
DTEND;TZID=Europe/Paris:20260215T160000
DTSTAMP:20260424T210618
CREATED:20260104T173916Z
LAST-MODIFIED:20260104T173916Z
UID:10003788-1771156800-1771171200@eglise-methodiste-munster.fr
SUMMARY:Parta'Jeunes
DESCRIPTION:
URL:https://eglise-methodiste-munster.fr/evenement/partajeunes-40/
LOCATION:Temple de la Paix (TP)\, 24 Rue du 9 Zouaves\, MUNSTER\, 68140
CATEGORIES:Parta'Jeunes
END:VEVENT
BEGIN:VEVENT
DTSTART;TZID=Europe/Paris:20260218T063000
DTEND;TZID=Europe/Paris:20260218T063000
DTSTAMP:20260424T210618
CREATED:20260125T181714Z
LAST-MODIFIED:20260214T161620Z
UID:10003822-1771396200-1771396200@eglise-methodiste-munster.fr
SUMMARY:Groupe de prières du matin
DESCRIPTION:Chez P. et S. K***f
URL:https://eglise-methodiste-munster.fr/evenement/groupe-de-prieres-du-matin/
LOCATION:Famille MOHR
CATEGORIES:Réunion de Prières
END:VEVENT
BEGIN:VEVENT
DTSTART;TZID=Europe/Paris:20260219T104500
DTEND;TZID=Europe/Paris:20260219T104500
DTSTAMP:20260424T210618
CREATED:20260125T181331Z
LAST-MODIFIED:20260125T181331Z
UID:10003818-1771497900-1771497900@eglise-methodiste-munster.fr
SUMMARY:Méditation Biblique
DESCRIPTION:
URL:https://eglise-methodiste-munster.fr/evenement/meditation-biblique-2/2026-02-19/
LOCATION:Bethesda-Caroline\, 20A Rue du Général de Lattre de Tassigny\, Munster\, 68140\, France
CATEGORIES:Études bibliques
END:VEVENT
BEGIN:VEVENT
DTSTART;TZID=Europe/Paris:20260222T100000
DTEND;TZID=Europe/Paris:20260222T100000
DTSTAMP:20260424T210618
CREATED:20260124T103356Z
LAST-MODIFIED:20260124T103356Z
UID:10003800-1771754400-1771754400@eglise-methodiste-munster.fr
SUMMARY:Culte (TP)
DESCRIPTION:
URL:https://eglise-methodiste-munster.fr/evenement/culte-tp/2026-02-22/
LOCATION:Temple de la Paix (TP)\, 24 Rue du 9 Zouaves\, MUNSTER\, 68140
CATEGORIES:Cultes
END:VEVENT
BEGIN:VEVENT
DTSTART;TZID=Europe/Paris:20260222T104500
DTEND;TZID=Europe/Paris:20260222T104500
DTSTAMP:20260424T210618
CREATED:20260124T103452Z
LAST-MODIFIED:20260124T103452Z
UID:10003808-1771757100-1771757100@eglise-methodiste-munster.fr
SUMMARY:Culte à Béthesda-Caroline
DESCRIPTION:
URL:https://eglise-methodiste-munster.fr/evenement/culte-a-bethesda-caroline-2/2026-02-22/
LOCATION:Bethesda-Caroline\, 20A Rue du Général de Lattre de Tassigny\, Munster\, 68140\, France
CATEGORIES:Cultes
END:VEVENT
BEGIN:VEVENT
DTSTART;TZID=Europe/Paris:20260224T090000
DTEND;TZID=Europe/Paris:20260224T090000
DTSTAMP:20260424T210618
CREATED:20260125T181557Z
LAST-MODIFIED:20260125T181557Z
UID:10003821-1771923600-1771923600@eglise-methodiste-munster.fr
SUMMARY:Réunion de prières
DESCRIPTION:
URL:https://eglise-methodiste-munster.fr/evenement/reunion-de-prieres-16/
LOCATION:Temple de la Paix (TP)\, 24 Rue du 9 Zouaves\, MUNSTER\, 68140
CATEGORIES:Réunion de Prières
END:VEVENT
BEGIN:VEVENT
DTSTART;TZID=Europe/Paris:20260224T100000
DTEND;TZID=Europe/Paris:20260224T120000
DTSTAMP:20260424T210618
CREATED:20260103T165342Z
LAST-MODIFIED:20260417T134139Z
UID:10003777-1771927200-1771934400@eglise-methodiste-munster.fr
SUMMARY:Permanence pastorale
DESCRIPTION:
URL:https://eglise-methodiste-munster.fr/evenement/permanence-pastorale-6/2026-02-24/
LOCATION:Temple de la Paix (TP)\, 24 Rue du 9 Zouaves\, MUNSTER\, 68140
CATEGORIES:Permanence pastorale
END:VEVENT
BEGIN:VEVENT
DTSTART;TZID=Europe/Paris:20260226T104500
DTEND;TZID=Europe/Paris:20260226T104500
DTSTAMP:20260424T210618
CREATED:20260125T181331Z
LAST-MODIFIED:20260125T181331Z
UID:10003819-1772102700-1772102700@eglise-methodiste-munster.fr
SUMMARY:Méditation Biblique
DESCRIPTION:
URL:https://eglise-methodiste-munster.fr/evenement/meditation-biblique-2/2026-02-26/
LOCATION:Bethesda-Caroline\, 20A Rue du Général de Lattre de Tassigny\, Munster\, 68140\, France
CATEGORIES:Études bibliques
END:VEVENT
BEGIN:VEVENT
DTSTART;TZID=Europe/Paris:20260227T200000
DTEND;TZID=Europe/Paris:20260227T200000
DTSTAMP:20260424T210618
CREATED:20260131T072232Z
LAST-MODIFIED:20260131T072232Z
UID:10003825-1772222400-1772222400@eglise-methodiste-munster.fr
SUMMARY:Groupe de Maison - Munster
DESCRIPTION:Réunion chez la famille REUTENAUER Sylvie et Dan
URL:https://eglise-methodiste-munster.fr/evenement/groupe-de-maison-munster-5/
LOCATION:Famille Reutenauer\, rue de Luttenbach\, Munster\, 68140\, France
CATEGORIES:Groupe de Maison
ATTACH;FMTTYPE=image/jpeg:https://eglise-methodiste-munster.fr/wp-content/uploads/2020/08/groupe-de-maison_eem-munster.jpg
END:VEVENT
END:VCALENDAR