BEGIN:VCALENDAR
VERSION:2.0
PRODID:-//Église Méthodiste de Munster - ECPv6.15.17.1//NONSGML v1.0//EN
CALSCALE:GREGORIAN
METHOD:PUBLISH
X-WR-CALNAME:Église Méthodiste de Munster
X-ORIGINAL-URL:https://eglise-methodiste-munster.fr
X-WR-CALDESC:Évènements pour Église Méthodiste de Munster
REFRESH-INTERVAL;VALUE=DURATION:PT1H
X-Robots-Tag:noindex
X-PUBLISHED-TTL:PT1H
BEGIN:VTIMEZONE
TZID:Europe/Paris
BEGIN:DAYLIGHT
TZOFFSETFROM:+0100
TZOFFSETTO:+0200
TZNAME:CEST
DTSTART:20240331T010000
END:DAYLIGHT
BEGIN:STANDARD
TZOFFSETFROM:+0200
TZOFFSETTO:+0100
TZNAME:CET
DTSTART:20241027T010000
END:STANDARD
BEGIN:DAYLIGHT
TZOFFSETFROM:+0100
TZOFFSETTO:+0200
TZNAME:CEST
DTSTART:20250330T010000
END:DAYLIGHT
BEGIN:STANDARD
TZOFFSETFROM:+0200
TZOFFSETTO:+0100
TZNAME:CET
DTSTART:20251026T010000
END:STANDARD
BEGIN:DAYLIGHT
TZOFFSETFROM:+0100
TZOFFSETTO:+0200
TZNAME:CEST
DTSTART:20260329T010000
END:DAYLIGHT
BEGIN:STANDARD
TZOFFSETFROM:+0200
TZOFFSETTO:+0100
TZNAME:CET
DTSTART:20261025T010000
END:STANDARD
END:VTIMEZONE
BEGIN:VEVENT
DTSTART;TZID=Europe/Paris:20251202T060000
DTEND;TZID=Europe/Paris:20251202T180000
DTSTAMP:20260424T232536
CREATED:20251126T164645Z
LAST-MODIFIED:20251126T164645Z
UID:10003736-1764655200-1764698400@eglise-methodiste-munster.fr
SUMMARY:Journée jeûne et prières pour notre projet d'église
DESCRIPTION:
URL:https://eglise-methodiste-munster.fr/evenement/journee-jeune-et-prieres-pour-notre-projet-deglise-3/
LOCATION:Temple de la Paix (TP)\, 24 Rue du 9 Zouaves\, MUNSTER\, 68140
CATEGORIES:Réunion particulière
ATTACH;FMTTYPE=image/jpeg:https://eglise-methodiste-munster.fr/wp-content/uploads/2020/08/reunion-de-prieres_eem-munster.jpg
END:VEVENT
BEGIN:VEVENT
DTSTART;TZID=Europe/Paris:20251202T100000
DTEND;TZID=Europe/Paris:20251202T120000
DTSTAMP:20260424T232536
CREATED:20250515T143032Z
LAST-MODIFIED:20251024T155734Z
UID:10003465-1764669600-1764676800@eglise-methodiste-munster.fr
SUMMARY:Permanence pastorale
DESCRIPTION:
URL:https://eglise-methodiste-munster.fr/evenement/permanence-pastorale-5-2/2025-12-02/
LOCATION:Temple de la Paix (TP)\, 24 Rue du 9 Zouaves\, MUNSTER\, 68140
CATEGORIES:Permanence pastorale
END:VEVENT
BEGIN:VEVENT
DTSTART;TZID=Europe/Paris:20251205T200000
DTEND;TZID=Europe/Paris:20251205T200000
DTSTAMP:20260424T232536
CREATED:20251107T205951Z
LAST-MODIFIED:20251107T205951Z
UID:10003696-1764964800-1764964800@eglise-methodiste-munster.fr
SUMMARY:Groupe de Maison - Munster
DESCRIPTION:Réunion chez la famille REUTENAUER Sylvie et Dan
URL:https://eglise-methodiste-munster.fr/evenement/groupe-de-maison-munster-4/
LOCATION:Famille Reutenauer\, rue de Luttenbach\, Munster\, 68140\, France
CATEGORIES:Groupe de Maison
ATTACH;FMTTYPE=image/jpeg:https://eglise-methodiste-munster.fr/wp-content/uploads/2020/08/groupe-de-maison_eem-munster.jpg
END:VEVENT
BEGIN:VEVENT
DTSTART;TZID=Europe/Paris:20251206T083000
DTEND;TZID=Europe/Paris:20251206T103000
DTSTAMP:20260424T232536
CREATED:20251126T165746Z
LAST-MODIFIED:20251126T165746Z
UID:10003740-1765009800-1765017000@eglise-methodiste-munster.fr
SUMMARY:Forum des Hommes
DESCRIPTION:Avec Charles Reinhardt
URL:https://eglise-methodiste-munster.fr/evenement/forum-des-hommes-11/
LOCATION:Temple de la Paix (TP)\, 24 Rue du 9 Zouaves\, MUNSTER\, 68140
CATEGORIES:Groupe de Maison
END:VEVENT
BEGIN:VEVENT
DTSTART;TZID=Europe/Paris:20251206T100000
DTEND;TZID=Europe/Paris:20251206T113000
DTSTAMP:20260424T232536
CREATED:20250905T131607Z
LAST-MODIFIED:20250905T131607Z
UID:10003552-1765015200-1765020600@eglise-methodiste-munster.fr
SUMMARY:KT
DESCRIPTION:
URL:https://eglise-methodiste-munster.fr/evenement/kt-2/2025-12-06/
LOCATION:Temple de la Paix (TP)\, 24 Rue du 9 Zouaves\, MUNSTER\, 68140
CATEGORIES:Caté
END:VEVENT
BEGIN:VEVENT
DTSTART;TZID=Europe/Paris:20251206T180000
DTEND;TZID=Europe/Paris:20251206T183000
DTSTAMP:20260424T232536
CREATED:20250409T060856Z
LAST-MODIFIED:20250604T143600Z
UID:10003176-1765044000-1765045800@eglise-methodiste-munster.fr
SUMMARY:Chocolat chaud et bredalas
DESCRIPTION:
URL:https://eglise-methodiste-munster.fr/evenement/chocolat-chaud-et-bredalas/2025-12-06/
LOCATION:Temple de la Paix (TP)\, 24 Rue du 9 Zouaves\, MUNSTER\, 68140
CATEGORIES:Cultes
END:VEVENT
BEGIN:VEVENT
DTSTART;TZID=Europe/Paris:20251206T180000
DTEND;TZID=Europe/Paris:20251206T230000
DTSTAMP:20260424T232536
CREATED:20250725T223547Z
LAST-MODIFIED:20250725T223547Z
UID:10003483-1765044000-1765062000@eglise-methodiste-munster.fr
SUMMARY:Parta'Jeunes
DESCRIPTION:Participation à la veillée de l’Avent puis soirée PJS ! 🙂
URL:https://eglise-methodiste-munster.fr/evenement/partajeunes-32/
LOCATION:Temple de la Paix (TP)\, 24 Rue du 9 Zouaves\, MUNSTER\, 68140
CATEGORIES:Parta'Jeunes
END:VEVENT
BEGIN:VEVENT
DTSTART;TZID=Europe/Paris:20251206T183000
DTEND;TZID=Europe/Paris:20251206T191500
DTSTAMP:20260424T232536
CREATED:20250409T060954Z
LAST-MODIFIED:20250604T143555Z
UID:10003232-1765045800-1765048500@eglise-methodiste-munster.fr
SUMMARY:Veillée de l'Avent
DESCRIPTION:
URL:https://eglise-methodiste-munster.fr/evenement/veillee-de-lavent-2/2025-12-06/
LOCATION:Temple de la Paix (TP)\, 24 Rue du 9 Zouaves\, MUNSTER\, 68140
CATEGORIES:Cultes
END:VEVENT
BEGIN:VEVENT
DTSTART;TZID=Europe/Paris:20251207T100000
DTEND;TZID=Europe/Paris:20251207T120000
DTSTAMP:20260424T232536
CREATED:20250409T060552Z
LAST-MODIFIED:20250604T143548Z
UID:10003173-1765101600-1765108800@eglise-methodiste-munster.fr
SUMMARY:Culte Connexio
DESCRIPTION:
URL:https://eglise-methodiste-munster.fr/evenement/culte-connexio/
LOCATION:Temple de la Paix (TP)\, 24 Rue du 9 Zouaves\, MUNSTER\, 68140
CATEGORIES:Cultes
END:VEVENT
BEGIN:VEVENT
DTSTART;TZID=Europe/Paris:20251207T104500
DTEND;TZID=Europe/Paris:20251207T104500
DTSTAMP:20260424T232536
CREATED:20251122T093200Z
LAST-MODIFIED:20251122T093200Z
UID:10003708-1765104300-1765104300@eglise-methodiste-munster.fr
SUMMARY:Culte à Béthesda-Caroline
DESCRIPTION:
URL:https://eglise-methodiste-munster.fr/evenement/culte-a-bethesda-caroline-17/2025-12-07/
LOCATION:Bethesda-Caroline\, 20A Rue du Général de Lattre de Tassigny\, Munster\, 68140\, France
CATEGORIES:Cultes
END:VEVENT
BEGIN:VEVENT
DTSTART;TZID=Europe/Paris:20251208T193000
DTEND;TZID=Europe/Paris:20251208T193000
DTSTAMP:20260424T232536
CREATED:20251127T091144Z
LAST-MODIFIED:20251128T102007Z
UID:10003744-1765222200-1765222200@eglise-methodiste-munster.fr
SUMMARY:Groupe de Maison - Griesbach au Val
DESCRIPTION:Réunion chez la famille BAUMGARTNER Daniel et Anne-Marie
URL:https://eglise-methodiste-munster.fr/evenement/groupe-de-maison-griesbach-au-val-6/
LOCATION:Famille BAUMGARTNER\, GRIESBACH DU VAL\, 68140\, France
CATEGORIES:Groupe de Maison
ATTACH;FMTTYPE=image/jpeg:https://eglise-methodiste-munster.fr/wp-content/uploads/2020/08/groupe-de-maison_eem-munster.jpg
END:VEVENT
BEGIN:VEVENT
DTSTART;TZID=Europe/Paris:20251209T090000
DTEND;TZID=Europe/Paris:20251209T090000
DTSTAMP:20260424T232536
CREATED:20251126T164920Z
LAST-MODIFIED:20251126T164920Z
UID:10003737-1765270800-1765270800@eglise-methodiste-munster.fr
SUMMARY:Réunion de prières
DESCRIPTION:
URL:https://eglise-methodiste-munster.fr/evenement/reunion-de-prieres-12/
LOCATION:Temple de la Paix (TP)\, 24 Rue du 9 Zouaves\, MUNSTER\, 68140
CATEGORIES:Réunion de Prières
END:VEVENT
BEGIN:VEVENT
DTSTART;TZID=Europe/Paris:20251209T100000
DTEND;TZID=Europe/Paris:20251209T120000
DTSTAMP:20260424T232536
CREATED:20250515T143032Z
LAST-MODIFIED:20251024T155734Z
UID:10003466-1765274400-1765281600@eglise-methodiste-munster.fr
SUMMARY:Permanence pastorale
DESCRIPTION:
URL:https://eglise-methodiste-munster.fr/evenement/permanence-pastorale-5-2/2025-12-09/
LOCATION:Temple de la Paix (TP)\, 24 Rue du 9 Zouaves\, MUNSTER\, 68140
CATEGORIES:Permanence pastorale
END:VEVENT
BEGIN:VEVENT
DTSTART;TZID=Europe/Paris:20251209T193000
DTEND;TZID=Europe/Paris:20251209T193000
DTSTAMP:20260424T232536
CREATED:20250919T190615Z
LAST-MODIFIED:20250919T190615Z
UID:10003602-1765308600-1765308600@eglise-methodiste-munster.fr
SUMMARY:Conseil d'Église
DESCRIPTION:
URL:https://eglise-methodiste-munster.fr/evenement/conseil-deglise-12/
LOCATION:Temple de la Paix (TP)\, 24 Rue du 9 Zouaves\, MUNSTER\, 68140
CATEGORIES:Réunion Administrative
END:VEVENT
BEGIN:VEVENT
DTSTART;TZID=Europe/Paris:20251210T143000
DTEND;TZID=Europe/Paris:20251210T143000
DTSTAMP:20260424T232536
CREATED:20251127T091342Z
LAST-MODIFIED:20251127T091342Z
UID:10003745-1765377000-1765377000@eglise-methodiste-munster.fr
SUMMARY:Groupe de Maison - Hohrod
DESCRIPTION:Réunion chez la famille OBERLÉ à HOHROD
URL:https://eglise-methodiste-munster.fr/evenement/groupe-de-maison-hohrod-16/
LOCATION:Famille OBERLÉ\, HOHROD\, 68142\, France
CATEGORIES:Groupe de Maison
ATTACH;FMTTYPE=image/jpeg:https://eglise-methodiste-munster.fr/wp-content/uploads/2020/08/groupe-de-maison_eem-munster.jpg
END:VEVENT
BEGIN:VEVENT
DTSTART;TZID=Europe/Paris:20251211T104500
DTEND;TZID=Europe/Paris:20251211T104500
DTSTAMP:20260424T232536
CREATED:20251128T104850Z
LAST-MODIFIED:20251128T104850Z
UID:10003749-1765449900-1765449900@eglise-methodiste-munster.fr
SUMMARY:Méditation Biblique
DESCRIPTION:
URL:https://eglise-methodiste-munster.fr/evenement/meditation-biblique/2025-12-11/
LOCATION:Bethesda-Caroline\, 20A Rue du Général de Lattre de Tassigny\, Munster\, 68140\, France
CATEGORIES:Études bibliques
END:VEVENT
BEGIN:VEVENT
DTSTART;TZID=Europe/Paris:20251211T141500
DTEND;TZID=Europe/Paris:20251211T141500
DTSTAMP:20260424T232536
CREATED:20251122T173931Z
LAST-MODIFIED:20251122T173931Z
UID:10003729-1765462500-1765462500@eglise-methodiste-munster.fr
SUMMARY:Carrefour des Femmes
DESCRIPTION:Avec Cyriane Rohner-OUVRY sur le thème: « Noël\, tout simplement »
URL:https://eglise-methodiste-munster.fr/evenement/carrefour-des-femmes-4/
LOCATION:Temple de la Paix (TP)\, 24 Rue du 9 Zouaves\, MUNSTER\, 68140
CATEGORIES:Groupe de Maison
END:VEVENT
BEGIN:VEVENT
DTSTART;TZID=Europe/Paris:20251211T200000
DTEND;TZID=Europe/Paris:20251211T200000
DTSTAMP:20260424T232536
CREATED:20251107T205909Z
LAST-MODIFIED:20251107T205909Z
UID:10003695-1765483200-1765483200@eglise-methodiste-munster.fr
SUMMARY:Réunion de prière: soeurs du Hohrodberg
DESCRIPTION:
URL:https://eglise-methodiste-munster.fr/evenement/reunion-de-priere-soeurs-du-hohrodberg-4/
LOCATION:Soeurs du Hohrodberg\, 21 route du Linge\, HOHRODBERG\, 68140
CATEGORIES:Réunion de Prières
END:VEVENT
BEGIN:VEVENT
DTSTART;TZID=Europe/Paris:20251213T150000
DTEND;TZID=Europe/Paris:20251213T153000
DTSTAMP:20260424T232536
CREATED:20250401T131928Z
LAST-MODIFIED:20250604T143534Z
UID:10003167-1765638000-1765639800@eglise-methodiste-munster.fr
SUMMARY:Chant participatif œcuménique de Noël
DESCRIPTION:
URL:https://eglise-methodiste-munster.fr/evenement/chant-participatif-oecumenique-de-noel/
LOCATION:Place du marché de Munster\, Place du Marché\, Munster\, 68140\, France
CATEGORIES:Œcuménisme
END:VEVENT
BEGIN:VEVENT
DTSTART;TZID=Europe/Paris:20251213T180000
DTEND;TZID=Europe/Paris:20251213T183000
DTSTAMP:20260424T232536
CREATED:20250409T060856Z
LAST-MODIFIED:20250604T143600Z
UID:10003177-1765648800-1765650600@eglise-methodiste-munster.fr
SUMMARY:Chocolat chaud et bredalas
DESCRIPTION:
URL:https://eglise-methodiste-munster.fr/evenement/chocolat-chaud-et-bredalas/2025-12-13/
LOCATION:Temple de la Paix (TP)\, 24 Rue du 9 Zouaves\, MUNSTER\, 68140
CATEGORIES:Cultes
END:VEVENT
BEGIN:VEVENT
DTSTART;TZID=Europe/Paris:20251213T183000
DTEND;TZID=Europe/Paris:20251213T191500
DTSTAMP:20260424T232536
CREATED:20250409T060954Z
LAST-MODIFIED:20250604T143555Z
UID:10003233-1765650600-1765653300@eglise-methodiste-munster.fr
SUMMARY:Veillée de l'Avent
DESCRIPTION:
URL:https://eglise-methodiste-munster.fr/evenement/veillee-de-lavent-2/2025-12-13/
LOCATION:Temple de la Paix (TP)\, 24 Rue du 9 Zouaves\, MUNSTER\, 68140
CATEGORIES:Cultes
END:VEVENT
BEGIN:VEVENT
DTSTART;TZID=Europe/Paris:20251214T100000
DTEND;TZID=Europe/Paris:20251214T100000
DTSTAMP:20260424T232536
CREATED:20251122T092955Z
LAST-MODIFIED:20251122T092955Z
UID:10003701-1765706400-1765706400@eglise-methodiste-munster.fr
SUMMARY:Culte (TP)
DESCRIPTION:
URL:https://eglise-methodiste-munster.fr/evenement/culte-tp-19/
LOCATION:Temple de la Paix (TP)\, 24 Rue du 9 Zouaves\, MUNSTER\, 68140
CATEGORIES:Cultes
END:VEVENT
BEGIN:VEVENT
DTSTART;TZID=Europe/Paris:20251214T104500
DTEND;TZID=Europe/Paris:20251214T104500
DTSTAMP:20260424T232536
CREATED:20251122T093200Z
LAST-MODIFIED:20251122T093200Z
UID:10003709-1765709100-1765709100@eglise-methodiste-munster.fr
SUMMARY:Culte à Béthesda-Caroline
DESCRIPTION:
URL:https://eglise-methodiste-munster.fr/evenement/culte-a-bethesda-caroline-17/2025-12-14/
LOCATION:Bethesda-Caroline\, 20A Rue du Général de Lattre de Tassigny\, Munster\, 68140\, France
CATEGORIES:Cultes
END:VEVENT
BEGIN:VEVENT
DTSTART;TZID=Europe/Paris:20251214T120000
DTEND;TZID=Europe/Paris:20251214T160000
DTSTAMP:20260424T232536
CREATED:20250725T223643Z
LAST-MODIFIED:20250725T223643Z
UID:10003484-1765713600-1765728000@eglise-methodiste-munster.fr
SUMMARY:Parta'Jeunes
DESCRIPTION:Préparation de la fête de Noël.
URL:https://eglise-methodiste-munster.fr/evenement/partajeunes-33/
LOCATION:Temple de la Paix (TP)\, 24 Rue du 9 Zouaves\, MUNSTER\, 68140
CATEGORIES:Parta'Jeunes
END:VEVENT
BEGIN:VEVENT
DTSTART;TZID=Europe/Paris:20251216T063000
DTEND;TZID=Europe/Paris:20251216T063000
DTSTAMP:20260424T232536
CREATED:20251126T165134Z
LAST-MODIFIED:20251126T165134Z
UID:10003739-1765866600-1765866600@eglise-methodiste-munster.fr
SUMMARY:Groupe de prières du matin
DESCRIPTION:
URL:https://eglise-methodiste-munster.fr/evenement/groupe-de-prieres-du-matin-12/
LOCATION:Famille MOHR
CATEGORIES:Réunion de Prières
END:VEVENT
BEGIN:VEVENT
DTSTART;TZID=Europe/Paris:20251216T100000
DTEND;TZID=Europe/Paris:20251216T120000
DTSTAMP:20260424T232536
CREATED:20250515T143032Z
LAST-MODIFIED:20251024T155734Z
UID:10003467-1765879200-1765886400@eglise-methodiste-munster.fr
SUMMARY:Permanence pastorale
DESCRIPTION:
URL:https://eglise-methodiste-munster.fr/evenement/permanence-pastorale-5-2/2025-12-16/
LOCATION:Temple de la Paix (TP)\, 24 Rue du 9 Zouaves\, MUNSTER\, 68140
CATEGORIES:Permanence pastorale
END:VEVENT
BEGIN:VEVENT
DTSTART;TZID=Europe/Paris:20251218T104500
DTEND;TZID=Europe/Paris:20251218T104500
DTSTAMP:20260424T232536
CREATED:20251128T104850Z
LAST-MODIFIED:20251128T104850Z
UID:10003750-1766054700-1766054700@eglise-methodiste-munster.fr
SUMMARY:Méditation Biblique
DESCRIPTION:
URL:https://eglise-methodiste-munster.fr/evenement/meditation-biblique/2025-12-18/
LOCATION:Bethesda-Caroline\, 20A Rue du Général de Lattre de Tassigny\, Munster\, 68140\, France
CATEGORIES:Études bibliques
END:VEVENT
BEGIN:VEVENT
DTSTART;TZID=Europe/Paris:20251220T100000
DTEND;TZID=Europe/Paris:20251220T113000
DTSTAMP:20260424T232536
CREATED:20250905T131607Z
LAST-MODIFIED:20250905T131607Z
UID:10003553-1766224800-1766230200@eglise-methodiste-munster.fr
SUMMARY:KT
DESCRIPTION:
URL:https://eglise-methodiste-munster.fr/evenement/kt-2/2025-12-20/
LOCATION:Temple de la Paix (TP)\, 24 Rue du 9 Zouaves\, MUNSTER\, 68140
CATEGORIES:Caté
END:VEVENT
BEGIN:VEVENT
DTSTART;TZID=Europe/Paris:20251220T180000
DTEND;TZID=Europe/Paris:20251220T183000
DTSTAMP:20260424T232536
CREATED:20250409T060856Z
LAST-MODIFIED:20250604T143600Z
UID:10003178-1766253600-1766255400@eglise-methodiste-munster.fr
SUMMARY:Chocolat chaud et bredalas
DESCRIPTION:
URL:https://eglise-methodiste-munster.fr/evenement/chocolat-chaud-et-bredalas/2025-12-20/
LOCATION:Temple de la Paix (TP)\, 24 Rue du 9 Zouaves\, MUNSTER\, 68140
CATEGORIES:Cultes
END:VEVENT
BEGIN:VEVENT
DTSTART;TZID=Europe/Paris:20251220T183000
DTEND;TZID=Europe/Paris:20251220T191500
DTSTAMP:20260424T232536
CREATED:20250409T060954Z
LAST-MODIFIED:20250604T143555Z
UID:10003234-1766255400-1766258100@eglise-methodiste-munster.fr
SUMMARY:Veillée de l'Avent
DESCRIPTION:
URL:https://eglise-methodiste-munster.fr/evenement/veillee-de-lavent-2/2025-12-20/
LOCATION:Temple de la Paix (TP)\, 24 Rue du 9 Zouaves\, MUNSTER\, 68140
CATEGORIES:Cultes
END:VEVENT
END:VCALENDAR