BEGIN:VCALENDAR
VERSION:2.0
PRODID:-//Église Méthodiste de Munster - ECPv6.15.17.1//NONSGML v1.0//EN
CALSCALE:GREGORIAN
METHOD:PUBLISH
X-ORIGINAL-URL:https://eglise-methodiste-munster.fr
X-WR-CALDESC:Évènements pour Église Méthodiste de Munster
REFRESH-INTERVAL;VALUE=DURATION:PT1H
X-Robots-Tag:noindex
X-PUBLISHED-TTL:PT1H
BEGIN:VTIMEZONE
TZID:Europe/Paris
BEGIN:DAYLIGHT
TZOFFSETFROM:+0100
TZOFFSETTO:+0200
TZNAME:CEST
DTSTART:20240331T010000
END:DAYLIGHT
BEGIN:STANDARD
TZOFFSETFROM:+0200
TZOFFSETTO:+0100
TZNAME:CET
DTSTART:20241027T010000
END:STANDARD
BEGIN:DAYLIGHT
TZOFFSETFROM:+0100
TZOFFSETTO:+0200
TZNAME:CEST
DTSTART:20250330T010000
END:DAYLIGHT
BEGIN:STANDARD
TZOFFSETFROM:+0200
TZOFFSETTO:+0100
TZNAME:CET
DTSTART:20251026T010000
END:STANDARD
BEGIN:DAYLIGHT
TZOFFSETFROM:+0100
TZOFFSETTO:+0200
TZNAME:CEST
DTSTART:20260329T010000
END:DAYLIGHT
BEGIN:STANDARD
TZOFFSETFROM:+0200
TZOFFSETTO:+0100
TZNAME:CET
DTSTART:20261025T010000
END:STANDARD
END:VTIMEZONE
BEGIN:VEVENT
DTSTART;TZID=Europe/Paris:20251031T193000
DTEND;TZID=Europe/Paris:20251102T160000
DTSTAMP:20260425T003020
CREATED:20250725T222757Z
LAST-MODIFIED:20250725T222757Z
UID:10003476-1761939000-1762099200@eglise-methodiste-munster.fr
SUMMARY:WE ados à Landersen
DESCRIPTION:WE Ados à Landersen 🙂
URL:https://eglise-methodiste-munster.fr/evenement/partajeunes-28/
LOCATION:Centre de Vacances LANDERSEN\, 4 Route du Petit Ballon\, Sondernach\, 68380\, France
CATEGORIES:Parta'Jeunes
END:VEVENT
BEGIN:VEVENT
DTSTART;TZID=Europe/Paris:20251102T100000
DTEND;TZID=Europe/Paris:20251102T100000
DTSTAMP:20260425T003020
CREATED:20251003T133900Z
LAST-MODIFIED:20251003T133900Z
UID:10003617-1762077600-1762077600@eglise-methodiste-munster.fr
SUMMARY:Culte (TP)
DESCRIPTION:
URL:https://eglise-methodiste-munster.fr/evenement/culte-tp-18/2025-11-02/
LOCATION:Temple de la Paix (TP)\, 24 Rue du 9 Zouaves\, MUNSTER\, 68140
CATEGORIES:Cultes
END:VEVENT
BEGIN:VEVENT
DTSTART;TZID=Europe/Paris:20251102T104500
DTEND;TZID=Europe/Paris:20251102T104500
DTSTAMP:20260425T003020
CREATED:20251003T134117Z
LAST-MODIFIED:20251003T134118Z
UID:10003625-1762080300-1762080300@eglise-methodiste-munster.fr
SUMMARY:Culte à Béthesda-Caroline
DESCRIPTION:
URL:https://eglise-methodiste-munster.fr/evenement/culte-a-bethesda-caroline-16/2025-11-02/
LOCATION:Bethesda-Caroline\, 20A Rue du Général de Lattre de Tassigny\, Munster\, 68140\, France
CATEGORIES:Cultes
END:VEVENT
BEGIN:VEVENT
DTSTART;TZID=Europe/Paris:20251104T060000
DTEND;TZID=Europe/Paris:20251104T180000
DTSTAMP:20260425T003020
CREATED:20250919T185559Z
LAST-MODIFIED:20250919T185559Z
UID:10003599-1762236000-1762279200@eglise-methodiste-munster.fr
SUMMARY:Journée jeûne et prières pour notre projet d'église
DESCRIPTION:
URL:https://eglise-methodiste-munster.fr/evenement/journee-jeune-et-prieres-pour-notre-projet-deglise-2/
LOCATION:Temple de la Paix (TP)\, 24 Rue du 9 Zouaves\, MUNSTER\, 68140
CATEGORIES:Réunion particulière
ATTACH;FMTTYPE=image/jpeg:https://eglise-methodiste-munster.fr/wp-content/uploads/2020/08/reunion-de-prieres_eem-munster.jpg
END:VEVENT
BEGIN:VEVENT
DTSTART;TZID=Europe/Paris:20251104T100000
DTEND;TZID=Europe/Paris:20251104T120000
DTSTAMP:20260425T003020
CREATED:20250515T143032Z
LAST-MODIFIED:20251024T155734Z
UID:10003462-1762250400-1762257600@eglise-methodiste-munster.fr
SUMMARY:Permanence pastorale
DESCRIPTION:
URL:https://eglise-methodiste-munster.fr/evenement/permanence-pastorale-5-2/2025-11-04/
LOCATION:Temple de la Paix (TP)\, 24 Rue du 9 Zouaves\, MUNSTER\, 68140
CATEGORIES:Permanence pastorale
END:VEVENT
BEGIN:VEVENT
DTSTART;TZID=Europe/Paris:20251106T200000
DTEND;TZID=Europe/Paris:20251106T200000
DTSTAMP:20260425T003020
CREATED:20251031T163020Z
LAST-MODIFIED:20251031T163020Z
UID:10003694-1762459200-1762459200@eglise-methodiste-munster.fr
SUMMARY:Réunion de prière: soeurs du Hohrodberg
DESCRIPTION:
URL:https://eglise-methodiste-munster.fr/evenement/reunion-de-priere-soeurs-du-hohrodberg-3/
LOCATION:Soeurs du Hohrodberg\, 21 route du Linge\, HOHRODBERG\, 68140
CATEGORIES:Réunion de Prières
END:VEVENT
BEGIN:VEVENT
DTSTART;TZID=Europe/Paris:20251107T200000
DTEND;TZID=Europe/Paris:20251107T200000
DTSTAMP:20260425T003020
CREATED:20251009T075950Z
LAST-MODIFIED:20251009T075950Z
UID:10003645-1762545600-1762545600@eglise-methodiste-munster.fr
SUMMARY:Groupe de Maison - Munster
DESCRIPTION:Réunion chez la famille REUTENAUER Sylvie et Dan
URL:https://eglise-methodiste-munster.fr/evenement/groupe-de-maison-munster-3/
LOCATION:Famille Reutenauer\, rue de Luttenbach\, Munster\, 68140\, France
CATEGORIES:Groupe de Maison
ATTACH;FMTTYPE=image/jpeg:https://eglise-methodiste-munster.fr/wp-content/uploads/2020/08/groupe-de-maison_eem-munster.jpg
END:VEVENT
BEGIN:VEVENT
DTSTART;TZID=Europe/Paris:20251108T100000
DTEND;TZID=Europe/Paris:20251109T170000
DTSTAMP:20260425T003020
CREATED:20250409T060517Z
LAST-MODIFIED:20250604T143604Z
UID:10003172-1762596000-1762707600@eglise-methodiste-munster.fr
SUMMARY:WE d'église
DESCRIPTION:
URL:https://eglise-methodiste-munster.fr/evenement/we-deglise/
CATEGORIES:Réunion particulière
END:VEVENT
BEGIN:VEVENT
DTSTART;TZID=Europe/Paris:20251109T100000
DTEND;TZID=Europe/Paris:20251109T100000
DTSTAMP:20260425T003020
CREATED:20251003T145118Z
LAST-MODIFIED:20251003T145118Z
UID:10003641-1762682400-1762682400@eglise-methodiste-munster.fr
SUMMARY:PAS DE Culte (TP)
DESCRIPTION:Participons au culte dans le cadre du WE d’église à Landersen
URL:https://eglise-methodiste-munster.fr/evenement/pas-de-culte-tp-8/
LOCATION:Temple de la Paix (TP)\, 24 Rue du 9 Zouaves\, MUNSTER\, 68140
CATEGORIES:Cultes
END:VEVENT
BEGIN:VEVENT
DTSTART;TZID=Europe/Paris:20251109T104500
DTEND;TZID=Europe/Paris:20251109T104500
DTSTAMP:20260425T003020
CREATED:20251003T134117Z
LAST-MODIFIED:20251003T134118Z
UID:10003626-1762685100-1762685100@eglise-methodiste-munster.fr
SUMMARY:Culte à Béthesda-Caroline
DESCRIPTION:
URL:https://eglise-methodiste-munster.fr/evenement/culte-a-bethesda-caroline-16/2025-11-09/
LOCATION:Bethesda-Caroline\, 20A Rue du Général de Lattre de Tassigny\, Munster\, 68140\, France
CATEGORIES:Cultes
END:VEVENT
BEGIN:VEVENT
DTSTART;TZID=Europe/Paris:20251111T090000
DTEND;TZID=Europe/Paris:20251111T090000
DTSTAMP:20260425T003020
CREATED:20251021T073401Z
LAST-MODIFIED:20251021T073401Z
UID:10003653-1762851600-1762851600@eglise-methodiste-munster.fr
SUMMARY:Réunion de prières
DESCRIPTION:
URL:https://eglise-methodiste-munster.fr/evenement/reunion-de-prieres-11/
LOCATION:Temple de la Paix (TP)\, 24 Rue du 9 Zouaves\, MUNSTER\, 68140
CATEGORIES:Réunion de Prières
END:VEVENT
BEGIN:VEVENT
DTSTART;TZID=Europe/Paris:20251112T140000
DTEND;TZID=Europe/Paris:20251112T180000
DTSTAMP:20260425T003020
CREATED:20250905T132050Z
LAST-MODIFIED:20250905T132050Z
UID:10003565-1762956000-1762970400@eglise-methodiste-munster.fr
SUMMARY:Après-midi KT
DESCRIPTION:Après-midi KT avec les catéchumènes de l’église évangélique méthodiste de Muntzenheim. \nA la découverte de différents lieux de culte à Colmar.
URL:https://eglise-methodiste-munster.fr/evenement/apres-midi-kt/
CATEGORIES:Caté
END:VEVENT
BEGIN:VEVENT
DTSTART;TZID=Europe/Paris:20251112T143000
DTEND;TZID=Europe/Paris:20251112T143000
DTSTAMP:20260425T003020
CREATED:20251021T073844Z
LAST-MODIFIED:20251026T165240Z
UID:10003692-1762957800-1762957800@eglise-methodiste-munster.fr
SUMMARY:Groupe de Maison - Hohrod
DESCRIPTION:Réunion chez la famille OBERLÉ à HOHROD
URL:https://eglise-methodiste-munster.fr/evenement/groupe-de-maison-hohrod-15/2025-11-12/
LOCATION:Famille OBERLÉ\, HOHROD\, 68142\, France
CATEGORIES:Groupe de Maison
ATTACH;FMTTYPE=image/jpeg:https://eglise-methodiste-munster.fr/wp-content/uploads/2020/08/groupe-de-maison_eem-munster.jpg
END:VEVENT
BEGIN:VEVENT
DTSTART;TZID=Europe/Paris:20251113T104500
DTEND;TZID=Europe/Paris:20251113T104500
DTSTAMP:20260425T003020
CREATED:20251003T134316Z
LAST-MODIFIED:20251003T134316Z
UID:10003634-1763030700-1763030700@eglise-methodiste-munster.fr
SUMMARY:Méditation Biblique
DESCRIPTION:
URL:https://eglise-methodiste-munster.fr/evenement/meditation-biblique-13/2025-11-13/
LOCATION:Bethesda-Caroline\, 20A Rue du Général de Lattre de Tassigny\, Munster\, 68140\, France
CATEGORIES:Études bibliques
END:VEVENT
BEGIN:VEVENT
DTSTART;TZID=Europe/Paris:20251113T193000
DTEND;TZID=Europe/Paris:20251113T193000
DTSTAMP:20260425T003020
CREATED:20251024T154609Z
LAST-MODIFIED:20251024T154609Z
UID:10003690-1763062200-1763062200@eglise-methodiste-munster.fr
SUMMARY:Groupe de Maison - Griesbach au Val
DESCRIPTION:Réunion chez la famille BAUMGARTNER Daniel et Anne-Marie
URL:https://eglise-methodiste-munster.fr/evenement/groupe-de-maison-griesbach-au-val-5/
LOCATION:Famille BAUMGARTNER\, GRIESBACH DU VAL\, 68140\, France
CATEGORIES:Groupe de Maison
ATTACH;FMTTYPE=image/jpeg:https://eglise-methodiste-munster.fr/wp-content/uploads/2020/08/groupe-de-maison_eem-munster.jpg
END:VEVENT
BEGIN:VEVENT
DTSTART;TZID=Europe/Paris:20251114T193000
DTEND;TZID=Europe/Paris:20251114T193000
DTSTAMP:20260425T003020
CREATED:20250919T190533Z
LAST-MODIFIED:20250919T190533Z
UID:10003601-1763148600-1763148600@eglise-methodiste-munster.fr
SUMMARY:Conseil d'Église
DESCRIPTION:
URL:https://eglise-methodiste-munster.fr/evenement/conseil-deglise-11/
LOCATION:Temple de la Paix (TP)\, 24 Rue du 9 Zouaves\, MUNSTER\, 68140
CATEGORIES:Réunion Administrative
END:VEVENT
BEGIN:VEVENT
DTSTART;TZID=Europe/Paris:20251115T083000
DTEND;TZID=Europe/Paris:20251115T103000
DTSTAMP:20260425T003020
CREATED:20251021T075138Z
LAST-MODIFIED:20251021T075756Z
UID:10003684-1763195400-1763202600@eglise-methodiste-munster.fr
SUMMARY:Forum des Hommes
DESCRIPTION:Avec Charles Reinhardt (à confirmer)
URL:https://eglise-methodiste-munster.fr/evenement/forum-des-hommes-10/
LOCATION:Temple de la Paix (TP)\, 24 Rue du 9 Zouaves\, MUNSTER\, 68140
CATEGORIES:Groupe de Maison
END:VEVENT
BEGIN:VEVENT
DTSTART;TZID=Europe/Paris:20251116T100000
DTEND;TZID=Europe/Paris:20251116T100000
DTSTAMP:20260425T003020
CREATED:20251003T133900Z
LAST-MODIFIED:20251003T133900Z
UID:10003618-1763287200-1763287200@eglise-methodiste-munster.fr
SUMMARY:Culte (TP)
DESCRIPTION:
URL:https://eglise-methodiste-munster.fr/evenement/culte-tp-18/2025-11-16/
LOCATION:Temple de la Paix (TP)\, 24 Rue du 9 Zouaves\, MUNSTER\, 68140
CATEGORIES:Cultes
END:VEVENT
BEGIN:VEVENT
DTSTART;TZID=Europe/Paris:20251116T104500
DTEND;TZID=Europe/Paris:20251116T104500
DTSTAMP:20260425T003020
CREATED:20251003T134117Z
LAST-MODIFIED:20251003T134118Z
UID:10003627-1763289900-1763289900@eglise-methodiste-munster.fr
SUMMARY:Culte à Béthesda-Caroline
DESCRIPTION:
URL:https://eglise-methodiste-munster.fr/evenement/culte-a-bethesda-caroline-16/2025-11-16/
LOCATION:Bethesda-Caroline\, 20A Rue du Général de Lattre de Tassigny\, Munster\, 68140\, France
CATEGORIES:Cultes
END:VEVENT
BEGIN:VEVENT
DTSTART;TZID=Europe/Paris:20251116T120000
DTEND;TZID=Europe/Paris:20251116T160000
DTSTAMP:20260425T003020
CREATED:20250725T222832Z
LAST-MODIFIED:20250725T222832Z
UID:10003477-1763294400-1763308800@eglise-methodiste-munster.fr
SUMMARY:Parta'Jeunes
DESCRIPTION:
URL:https://eglise-methodiste-munster.fr/evenement/partajeunes-29/
LOCATION:Temple de la Paix (TP)\, 24 Rue du 9 Zouaves\, MUNSTER\, 68140
CATEGORIES:Parta'Jeunes
END:VEVENT
BEGIN:VEVENT
DTSTART;TZID=Europe/Paris:20251118T100000
DTEND;TZID=Europe/Paris:20251118T120000
DTSTAMP:20260425T003020
CREATED:20250515T143032Z
LAST-MODIFIED:20251024T155734Z
UID:10003463-1763460000-1763467200@eglise-methodiste-munster.fr
SUMMARY:Permanence pastorale
DESCRIPTION:
URL:https://eglise-methodiste-munster.fr/evenement/permanence-pastorale-5-2/2025-11-18/
LOCATION:Temple de la Paix (TP)\, 24 Rue du 9 Zouaves\, MUNSTER\, 68140
CATEGORIES:Permanence pastorale
END:VEVENT
BEGIN:VEVENT
DTSTART;TZID=Europe/Paris:20251118T200000
DTEND;TZID=Europe/Paris:20251118T213000
DTSTAMP:20260425T003020
CREATED:20251019T090723Z
LAST-MODIFIED:20251019T090723Z
UID:10003647-1763496000-1763501400@eglise-methodiste-munster.fr
SUMMARY:Étude biblique
DESCRIPTION:Nouveau cycle d’étude biblique sur les quatre premiers chapitre du livre de la Genèse.
URL:https://eglise-methodiste-munster.fr/evenement/etude-biblique-4/
LOCATION:Temple de la Paix (TP)\, 24 Rue du 9 Zouaves\, MUNSTER\, 68140
CATEGORIES:Études bibliques
END:VEVENT
BEGIN:VEVENT
DTSTART;TZID=Europe/Paris:20251119T063000
DTEND;TZID=Europe/Paris:20251119T063000
DTSTAMP:20260425T003020
CREATED:20251021T072818Z
LAST-MODIFIED:20251021T072818Z
UID:10003648-1763533800-1763533800@eglise-methodiste-munster.fr
SUMMARY:Groupe de prières du matin
DESCRIPTION:
URL:https://eglise-methodiste-munster.fr/evenement/groupe-de-prieres-du-matin-11/
LOCATION:Famille MOHR
CATEGORIES:Réunion de Prières
END:VEVENT
BEGIN:VEVENT
DTSTART;TZID=Europe/Paris:20251120T104500
DTEND;TZID=Europe/Paris:20251120T104500
DTSTAMP:20260425T003020
CREATED:20251003T134316Z
LAST-MODIFIED:20251003T134316Z
UID:10003635-1763635500-1763635500@eglise-methodiste-munster.fr
SUMMARY:Méditation Biblique
DESCRIPTION:
URL:https://eglise-methodiste-munster.fr/evenement/meditation-biblique-13/2025-11-20/
LOCATION:Bethesda-Caroline\, 20A Rue du Général de Lattre de Tassigny\, Munster\, 68140\, France
CATEGORIES:Études bibliques
END:VEVENT
BEGIN:VEVENT
DTSTART;TZID=Europe/Paris:20251122T100000
DTEND;TZID=Europe/Paris:20251122T113000
DTSTAMP:20260425T003020
CREATED:20250905T131607Z
LAST-MODIFIED:20250905T131607Z
UID:10003551-1763805600-1763811000@eglise-methodiste-munster.fr
SUMMARY:KT
DESCRIPTION:
URL:https://eglise-methodiste-munster.fr/evenement/kt-2/2025-11-22/
LOCATION:Temple de la Paix (TP)\, 24 Rue du 9 Zouaves\, MUNSTER\, 68140
CATEGORIES:Caté
END:VEVENT
BEGIN:VEVENT
DTSTART;TZID=Europe/Paris:20251122T193000
DTEND;TZID=Europe/Paris:20251122T230000
DTSTAMP:20260425T003020
CREATED:20250725T222902Z
LAST-MODIFIED:20250725T222902Z
UID:10003478-1763839800-1763852400@eglise-methodiste-munster.fr
SUMMARY:Parta'Jeunes
DESCRIPTION:
URL:https://eglise-methodiste-munster.fr/evenement/partajeunes-30/
LOCATION:Temple de la Paix (TP)\, 24 Rue du 9 Zouaves\, MUNSTER\, 68140
CATEGORIES:Parta'Jeunes
END:VEVENT
BEGIN:VEVENT
DTSTART;TZID=Europe/Paris:20251123T100000
DTEND;TZID=Europe/Paris:20251123T100000
DTSTAMP:20260425T003020
CREATED:20251003T133900Z
LAST-MODIFIED:20251003T133900Z
UID:10003619-1763892000-1763892000@eglise-methodiste-munster.fr
SUMMARY:Culte (TP)
DESCRIPTION:
URL:https://eglise-methodiste-munster.fr/evenement/culte-tp-18/2025-11-23/
LOCATION:Temple de la Paix (TP)\, 24 Rue du 9 Zouaves\, MUNSTER\, 68140
CATEGORIES:Cultes
END:VEVENT
BEGIN:VEVENT
DTSTART;TZID=Europe/Paris:20251123T104500
DTEND;TZID=Europe/Paris:20251123T104500
DTSTAMP:20260425T003020
CREATED:20251003T134117Z
LAST-MODIFIED:20251003T134118Z
UID:10003628-1763894700-1763894700@eglise-methodiste-munster.fr
SUMMARY:Culte à Béthesda-Caroline
DESCRIPTION:
URL:https://eglise-methodiste-munster.fr/evenement/culte-a-bethesda-caroline-16/2025-11-23/
LOCATION:Bethesda-Caroline\, 20A Rue du Général de Lattre de Tassigny\, Munster\, 68140\, France
CATEGORIES:Cultes
END:VEVENT
BEGIN:VEVENT
DTSTART;TZID=Europe/Paris:20251125T100000
DTEND;TZID=Europe/Paris:20251125T120000
DTSTAMP:20260425T003020
CREATED:20250515T143032Z
LAST-MODIFIED:20251024T155734Z
UID:10003464-1764064800-1764072000@eglise-methodiste-munster.fr
SUMMARY:Permanence pastorale
DESCRIPTION:
URL:https://eglise-methodiste-munster.fr/evenement/permanence-pastorale-5-2/2025-11-25/
LOCATION:Temple de la Paix (TP)\, 24 Rue du 9 Zouaves\, MUNSTER\, 68140
CATEGORIES:Permanence pastorale
END:VEVENT
BEGIN:VEVENT
DTSTART;TZID=Europe/Paris:20251125T200000
DTEND;TZID=Europe/Paris:20251125T213000
DTSTAMP:20260425T003020
CREATED:20250919T151950Z
LAST-MODIFIED:20250919T151950Z
UID:10003568-1764100800-1764106200@eglise-methodiste-munster.fr
SUMMARY:Pastorale Évangélique: réunion de prières en commun
DESCRIPTION:
URL:https://eglise-methodiste-munster.fr/evenement/pastorale-evangelique-reunion-de-prieres-en-commun/
LOCATION:Eglise du Dubach\, 4 Chem. du Dubach\, Munster\, 68140\, France
CATEGORIES:Réunion de Prières
END:VEVENT
END:VCALENDAR