BEGIN:VCALENDAR
VERSION:2.0
PRODID:-//Église Méthodiste de Munster - ECPv6.15.17.1//NONSGML v1.0//EN
CALSCALE:GREGORIAN
METHOD:PUBLISH
X-WR-CALNAME:Église Méthodiste de Munster
X-ORIGINAL-URL:https://eglise-methodiste-munster.fr
X-WR-CALDESC:Évènements pour Église Méthodiste de Munster
REFRESH-INTERVAL;VALUE=DURATION:PT1H
X-Robots-Tag:noindex
X-PUBLISHED-TTL:PT1H
BEGIN:VTIMEZONE
TZID:Europe/Paris
BEGIN:DAYLIGHT
TZOFFSETFROM:+0100
TZOFFSETTO:+0200
TZNAME:CEST
DTSTART:20240331T010000
END:DAYLIGHT
BEGIN:STANDARD
TZOFFSETFROM:+0200
TZOFFSETTO:+0100
TZNAME:CET
DTSTART:20241027T010000
END:STANDARD
BEGIN:DAYLIGHT
TZOFFSETFROM:+0100
TZOFFSETTO:+0200
TZNAME:CEST
DTSTART:20250330T010000
END:DAYLIGHT
BEGIN:STANDARD
TZOFFSETFROM:+0200
TZOFFSETTO:+0100
TZNAME:CET
DTSTART:20251026T010000
END:STANDARD
BEGIN:DAYLIGHT
TZOFFSETFROM:+0100
TZOFFSETTO:+0200
TZNAME:CEST
DTSTART:20260329T010000
END:DAYLIGHT
BEGIN:STANDARD
TZOFFSETFROM:+0200
TZOFFSETTO:+0100
TZNAME:CET
DTSTART:20261025T010000
END:STANDARD
END:VTIMEZONE
BEGIN:VEVENT
DTSTART;TZID=Europe/Paris:20250902T090000
DTEND;TZID=Europe/Paris:20250902T090000
DTSTAMP:20260425T025607
CREATED:20250830T143211Z
LAST-MODIFIED:20250830T143211Z
UID:10003545-1756803600-1756803600@eglise-methodiste-munster.fr
SUMMARY:Réunion de prières
DESCRIPTION:
URL:https://eglise-methodiste-munster.fr/evenement/reunion-de-prieres-9/2025-09-02/
LOCATION:Temple de la Paix (TP)\, 24 Rue du 9 Zouaves\, MUNSTER\, 68140
CATEGORIES:Réunion de Prières
END:VEVENT
BEGIN:VEVENT
DTSTART;TZID=Europe/Paris:20250902T100000
DTEND;TZID=Europe/Paris:20250902T120000
DTSTAMP:20260425T025607
CREATED:20250515T143032Z
LAST-MODIFIED:20251024T155734Z
UID:10003454-1756807200-1756814400@eglise-methodiste-munster.fr
SUMMARY:Permanence pastorale
DESCRIPTION:
URL:https://eglise-methodiste-munster.fr/evenement/permanence-pastorale-5-2/2025-09-02/
LOCATION:Temple de la Paix (TP)\, 24 Rue du 9 Zouaves\, MUNSTER\, 68140
CATEGORIES:Permanence pastorale
END:VEVENT
BEGIN:VEVENT
DTSTART;TZID=Europe/Paris:20250902T193000
DTEND;TZID=Europe/Paris:20250902T193000
DTSTAMP:20260425T025607
CREATED:20251003T133606Z
LAST-MODIFIED:20251003T133606Z
UID:10003614-1756841400-1756841400@eglise-methodiste-munster.fr
SUMMARY:Conseil Temps de Partage
DESCRIPTION:
URL:https://eglise-methodiste-munster.fr/evenement/conseil-temps-de-partage-7/
LOCATION:Internet – via Zoom
CATEGORIES:Réunion Administrative
END:VEVENT
BEGIN:VEVENT
DTSTART;TZID=Europe/Paris:20250902T200000
DTEND;TZID=Europe/Paris:20250902T200000
DTSTAMP:20260425T025607
CREATED:20250823T095815Z
LAST-MODIFIED:20250823T095815Z
UID:10003528-1756843200-1756843200@eglise-methodiste-munster.fr
SUMMARY:Réunion d'information travaux
DESCRIPTION:
URL:https://eglise-methodiste-munster.fr/evenement/reunion-dinformation-travaux/
LOCATION:Temple de la Paix (TP)\, 24 Rue du 9 Zouaves\, MUNSTER\, 68140
CATEGORIES:Réunion particulière
END:VEVENT
BEGIN:VEVENT
DTSTART;TZID=Europe/Paris:20250905T193000
DTEND;TZID=Europe/Paris:20250905T193000
DTSTAMP:20260425T025607
CREATED:20250818T143234Z
LAST-MODIFIED:20250818T143252Z
UID:10003526-1757100600-1757100600@eglise-methodiste-munster.fr
SUMMARY:Conseil d'Église
DESCRIPTION:
URL:https://eglise-methodiste-munster.fr/evenement/conseil-deglise-9/
LOCATION:Temple de la Paix (TP)\, 24 Rue du 9 Zouaves\, MUNSTER\, 68140
CATEGORIES:Réunion Administrative
END:VEVENT
BEGIN:VEVENT
DTSTART;TZID=Europe/Paris:20250906T083000
DTEND;TZID=Europe/Paris:20250906T103000
DTSTAMP:20260425T025607
CREATED:20250818T143707Z
LAST-MODIFIED:20250818T143707Z
UID:10003527-1757147400-1757154600@eglise-methodiste-munster.fr
SUMMARY:Forum des Hommes
DESCRIPTION:
URL:https://eglise-methodiste-munster.fr/evenement/forum-des-hommes-8/
LOCATION:Temple de la Paix (TP)\, 24 Rue du 9 Zouaves\, MUNSTER\, 68140
CATEGORIES:Groupe de Maison
END:VEVENT
BEGIN:VEVENT
DTSTART;TZID=Europe/Paris:20250906T193000
DTEND;TZID=Europe/Paris:20250906T230000
DTSTAMP:20260425T025607
CREATED:20250725T222450Z
LAST-MODIFIED:20250725T222450Z
UID:10003471-1757187000-1757199600@eglise-methodiste-munster.fr
SUMMARY:Parta'Jeunes
DESCRIPTION:Rentrée de PJS 🙂
URL:https://eglise-methodiste-munster.fr/evenement/partajeunes-23/
LOCATION:Temple de la Paix (TP)\, 24 Rue du 9 Zouaves\, MUNSTER\, 68140
CATEGORIES:Parta'Jeunes
END:VEVENT
BEGIN:VEVENT
DTSTART;TZID=Europe/Paris:20250907T100000
DTEND;TZID=Europe/Paris:20250907T100000
DTSTAMP:20260425T025607
CREATED:20250818T142150Z
LAST-MODIFIED:20250818T142304Z
UID:10003507-1757239200-1757239200@eglise-methodiste-munster.fr
SUMMARY:Culte (TP)
DESCRIPTION:
URL:https://eglise-methodiste-munster.fr/evenement/culte-tp-16/2025-09-07/
LOCATION:Temple de la Paix (TP)\, 24 Rue du 9 Zouaves\, MUNSTER\, 68140
CATEGORIES:Cultes
END:VEVENT
BEGIN:VEVENT
DTSTART;TZID=Europe/Paris:20250907T104500
DTEND;TZID=Europe/Paris:20250907T104500
DTSTAMP:20260425T025607
CREATED:20250818T142448Z
LAST-MODIFIED:20250818T142448Z
UID:10003516-1757241900-1757241900@eglise-methodiste-munster.fr
SUMMARY:Culte à Béthesda-Caroline
DESCRIPTION:
URL:https://eglise-methodiste-munster.fr/evenement/culte-a-bethesda-caroline-14/2025-09-07/
LOCATION:Bethesda-Caroline\, 20A Rue du Général de Lattre de Tassigny\, Munster\, 68140\, France
CATEGORIES:Cultes
END:VEVENT
BEGIN:VEVENT
DTSTART;TZID=Europe/Paris:20250908T140000
DTEND;TZID=Europe/Paris:20250908T140000
DTSTAMP:20260425T025607
CREATED:20250705T074439Z
LAST-MODIFIED:20250705T074439Z
UID:10003437-1757340000-1757340000@eglise-methodiste-munster.fr
SUMMARY:Eglise en Marche
DESCRIPTION:RDV à 14 h précises\, parking à côté du TP. \nContact J-Paul Jaegle.
URL:https://eglise-methodiste-munster.fr/evenement/eglise-en-marche-14/
LOCATION:En plein air
CATEGORIES:Église en Marche
END:VEVENT
BEGIN:VEVENT
DTSTART;TZID=Europe/Paris:20250909T061500
DTEND;TZID=Europe/Paris:20250909T061500
DTSTAMP:20260425T025607
CREATED:20250830T143057Z
LAST-MODIFIED:20250830T143057Z
UID:10003539-1757398500-1757398500@eglise-methodiste-munster.fr
SUMMARY:Groupe de prières du matin
DESCRIPTION:
URL:https://eglise-methodiste-munster.fr/evenement/groupe-de-prieres-du-matin-9/2025-09-09/
LOCATION:Famille MOHR
CATEGORIES:Réunion de Prières
END:VEVENT
BEGIN:VEVENT
DTSTART;TZID=Europe/Paris:20250909T200000
DTEND;TZID=Europe/Paris:20250909T213000
DTSTAMP:20260425T025607
CREATED:20250912T081743Z
LAST-MODIFIED:20250912T082037Z
UID:10003567-1757448000-1757453400@eglise-methodiste-munster.fr
SUMMARY:Étude biblique
DESCRIPTION:Nouveau cycle d’étude biblique sur les quatre premiers chapitres du livre de la Genèse.
URL:https://eglise-methodiste-munster.fr/evenement/etude-biblique-3-2/
LOCATION:Temple de la Paix (TP)\, 24 Rue du 9 Zouaves\, MUNSTER\, 68140
CATEGORIES:Études bibliques
END:VEVENT
BEGIN:VEVENT
DTSTART;TZID=Europe/Paris:20250910T143000
DTEND;TZID=Europe/Paris:20250910T143000
DTSTAMP:20260425T025607
CREATED:20250830T141535Z
LAST-MODIFIED:20250830T141535Z
UID:10003531-1757514600-1757514600@eglise-methodiste-munster.fr
SUMMARY:Groupe de Maison - Hohrod
DESCRIPTION:Réunion chez la famille OBERLÉ à HOHROD
URL:https://eglise-methodiste-munster.fr/evenement/groupe-de-maison-hohrod-13/
LOCATION:Famille OBERLÉ\, HOHROD\, 68142\, France
CATEGORIES:Groupe de Maison
ATTACH;FMTTYPE=image/jpeg:https://eglise-methodiste-munster.fr/wp-content/uploads/2020/08/groupe-de-maison_eem-munster.jpg
END:VEVENT
BEGIN:VEVENT
DTSTART;TZID=Europe/Paris:20250911T104500
DTEND;TZID=Europe/Paris:20250911T104500
DTSTAMP:20260425T025607
CREATED:20250818T142611Z
LAST-MODIFIED:20250818T142611Z
UID:10003523-1757587500-1757587500@eglise-methodiste-munster.fr
SUMMARY:Méditation Biblique
DESCRIPTION:
URL:https://eglise-methodiste-munster.fr/evenement/meditation-biblique-11/2025-09-11/
LOCATION:Bethesda-Caroline\, 20A Rue du Général de Lattre de Tassigny\, Munster\, 68140\, France
CATEGORIES:Études bibliques
END:VEVENT
BEGIN:VEVENT
DTSTART;TZID=Europe/Paris:20250913T100000
DTEND;TZID=Europe/Paris:20250913T113000
DTSTAMP:20260425T025607
CREATED:20250905T131425Z
LAST-MODIFIED:20250905T131425Z
UID:10003548-1757757600-1757763000@eglise-methodiste-munster.fr
SUMMARY:KT
DESCRIPTION:
URL:https://eglise-methodiste-munster.fr/evenement/kt/2025-09-13/
LOCATION:Temple de la Paix (TP)\, 24 Rue du 9 Zouaves\, MUNSTER\, 68140
CATEGORIES:Caté
END:VEVENT
BEGIN:VEVENT
DTSTART;TZID=Europe/Paris:20250914T100000
DTEND;TZID=Europe/Paris:20250914T120000
DTSTAMP:20260425T025607
CREATED:20250409T060304Z
LAST-MODIFIED:20250604T143630Z
UID:10003168-1757844000-1757851200@eglise-methodiste-munster.fr
SUMMARY:Culte de rentrée
DESCRIPTION:
URL:https://eglise-methodiste-munster.fr/evenement/culte-de-rentree/
CATEGORIES:Cultes
END:VEVENT
BEGIN:VEVENT
DTSTART;TZID=Europe/Paris:20250914T104500
DTEND;TZID=Europe/Paris:20250914T104500
DTSTAMP:20260425T025607
CREATED:20250818T142448Z
LAST-MODIFIED:20250818T142448Z
UID:10003517-1757846700-1757846700@eglise-methodiste-munster.fr
SUMMARY:Culte à Béthesda-Caroline
DESCRIPTION:
URL:https://eglise-methodiste-munster.fr/evenement/culte-a-bethesda-caroline-14/2025-09-14/
LOCATION:Bethesda-Caroline\, 20A Rue du Général de Lattre de Tassigny\, Munster\, 68140\, France
CATEGORIES:Cultes
END:VEVENT
BEGIN:VEVENT
DTSTART;TZID=Europe/Paris:20250914T120000
DTEND;TZID=Europe/Paris:20250914T130000
DTSTAMP:20260425T025607
CREATED:20250409T060340Z
LAST-MODIFIED:20250604T143625Z
UID:10003169-1757851200-1757854800@eglise-methodiste-munster.fr
SUMMARY:Verre de l'amitié
DESCRIPTION:
URL:https://eglise-methodiste-munster.fr/evenement/verre-de-lamitie/
CATEGORIES:Cultes
END:VEVENT
BEGIN:VEVENT
DTSTART;TZID=Europe/Paris:20250914T120000
DTEND;TZID=Europe/Paris:20250914T160000
DTSTAMP:20260425T025607
CREATED:20250725T222520Z
LAST-MODIFIED:20250725T222520Z
UID:10003472-1757851200-1757865600@eglise-methodiste-munster.fr
SUMMARY:Parta'Jeunes
DESCRIPTION:
URL:https://eglise-methodiste-munster.fr/evenement/partajeunes-24/
LOCATION:Temple de la Paix (TP)\, 24 Rue du 9 Zouaves\, MUNSTER\, 68140
CATEGORIES:Parta'Jeunes
END:VEVENT
BEGIN:VEVENT
DTSTART;TZID=Europe/Paris:20250916T090000
DTEND;TZID=Europe/Paris:20250916T090000
DTSTAMP:20260425T025607
CREATED:20250830T143211Z
LAST-MODIFIED:20250830T143211Z
UID:10003546-1758013200-1758013200@eglise-methodiste-munster.fr
SUMMARY:Réunion de prières
DESCRIPTION:
URL:https://eglise-methodiste-munster.fr/evenement/reunion-de-prieres-9/2025-09-16/
LOCATION:Temple de la Paix (TP)\, 24 Rue du 9 Zouaves\, MUNSTER\, 68140
CATEGORIES:Réunion de Prières
END:VEVENT
BEGIN:VEVENT
DTSTART;TZID=Europe/Paris:20250916T100000
DTEND;TZID=Europe/Paris:20250916T120000
DTSTAMP:20260425T025607
CREATED:20250515T143032Z
LAST-MODIFIED:20251024T155734Z
UID:10003455-1758016800-1758024000@eglise-methodiste-munster.fr
SUMMARY:Permanence pastorale
DESCRIPTION:
URL:https://eglise-methodiste-munster.fr/evenement/permanence-pastorale-5-2/2025-09-16/
LOCATION:Temple de la Paix (TP)\, 24 Rue du 9 Zouaves\, MUNSTER\, 68140
CATEGORIES:Permanence pastorale
END:VEVENT
BEGIN:VEVENT
DTSTART;TZID=Europe/Paris:20250918T104500
DTEND;TZID=Europe/Paris:20250918T104500
DTSTAMP:20260425T025607
CREATED:20250818T142611Z
LAST-MODIFIED:20250818T142611Z
UID:10003524-1758192300-1758192300@eglise-methodiste-munster.fr
SUMMARY:Méditation Biblique
DESCRIPTION:
URL:https://eglise-methodiste-munster.fr/evenement/meditation-biblique-11/2025-09-18/
LOCATION:Bethesda-Caroline\, 20A Rue du Général de Lattre de Tassigny\, Munster\, 68140\, France
CATEGORIES:Études bibliques
END:VEVENT
BEGIN:VEVENT
DTSTART;TZID=Europe/Paris:20250919T193000
DTEND;TZID=Europe/Paris:20250919T230000
DTSTAMP:20260425T025607
CREATED:20250725T222544Z
LAST-MODIFIED:20250725T224308Z
UID:10003473-1758310200-1758322800@eglise-methodiste-munster.fr
SUMMARY:Parta'Jeunes
DESCRIPTION:
URL:https://eglise-methodiste-munster.fr/evenement/partajeunes-25/
LOCATION:Temple de la Paix (TP)\, 24 Rue du 9 Zouaves\, MUNSTER\, 68140
CATEGORIES:Parta'Jeunes
END:VEVENT
BEGIN:VEVENT
DTSTART;TZID=Europe/Paris:20250921T100000
DTEND;TZID=Europe/Paris:20250921T100000
DTSTAMP:20260425T025607
CREATED:20250818T142150Z
LAST-MODIFIED:20250818T142304Z
UID:10003510-1758448800-1758448800@eglise-methodiste-munster.fr
SUMMARY:Culte (TP)
DESCRIPTION:
URL:https://eglise-methodiste-munster.fr/evenement/culte-tp-16/2025-09-21/
LOCATION:Temple de la Paix (TP)\, 24 Rue du 9 Zouaves\, MUNSTER\, 68140
CATEGORIES:Cultes
END:VEVENT
BEGIN:VEVENT
DTSTART;TZID=Europe/Paris:20250921T104500
DTEND;TZID=Europe/Paris:20250921T104500
DTSTAMP:20260425T025607
CREATED:20250818T142448Z
LAST-MODIFIED:20250818T142448Z
UID:10003518-1758451500-1758451500@eglise-methodiste-munster.fr
SUMMARY:Culte à Béthesda-Caroline
DESCRIPTION:
URL:https://eglise-methodiste-munster.fr/evenement/culte-a-bethesda-caroline-14/2025-09-21/
LOCATION:Bethesda-Caroline\, 20A Rue du Général de Lattre de Tassigny\, Munster\, 68140\, France
CATEGORIES:Cultes
END:VEVENT
BEGIN:VEVENT
DTSTART;TZID=Europe/Paris:20250923T061500
DTEND;TZID=Europe/Paris:20250923T061500
DTSTAMP:20260425T025607
CREATED:20250830T143057Z
LAST-MODIFIED:20250830T143057Z
UID:10003540-1758608100-1758608100@eglise-methodiste-munster.fr
SUMMARY:Groupe de prières du matin
DESCRIPTION:
URL:https://eglise-methodiste-munster.fr/evenement/groupe-de-prieres-du-matin-9/2025-09-23/
LOCATION:Famille MOHR
CATEGORIES:Réunion de Prières
END:VEVENT
BEGIN:VEVENT
DTSTART;TZID=Europe/Paris:20250923T100000
DTEND;TZID=Europe/Paris:20250923T120000
DTSTAMP:20260425T025607
CREATED:20250515T143032Z
LAST-MODIFIED:20251024T155734Z
UID:10003456-1758621600-1758628800@eglise-methodiste-munster.fr
SUMMARY:Permanence pastorale
DESCRIPTION:
URL:https://eglise-methodiste-munster.fr/evenement/permanence-pastorale-5-2/2025-09-23/
LOCATION:Temple de la Paix (TP)\, 24 Rue du 9 Zouaves\, MUNSTER\, 68140
CATEGORIES:Permanence pastorale
END:VEVENT
BEGIN:VEVENT
DTSTART;TZID=Europe/Paris:20250924T143000
DTEND;TZID=Europe/Paris:20250924T143000
DTSTAMP:20260425T025607
CREATED:20250830T141618Z
LAST-MODIFIED:20250830T141618Z
UID:10003532-1758724200-1758724200@eglise-methodiste-munster.fr
SUMMARY:Groupe de Maison - Hohrod
DESCRIPTION:Réunion chez la famille OBERLÉ à HOHROD
URL:https://eglise-methodiste-munster.fr/evenement/groupe-de-maison-hohrod-duplicate-1/
LOCATION:Famille OBERLÉ\, HOHROD\, 68142\, France
CATEGORIES:Groupe de Maison
ATTACH;FMTTYPE=image/jpeg:https://eglise-methodiste-munster.fr/wp-content/uploads/2020/08/groupe-de-maison_eem-munster.jpg
END:VEVENT
BEGIN:VEVENT
DTSTART;TZID=Europe/Paris:20250925T104500
DTEND;TZID=Europe/Paris:20250925T104500
DTSTAMP:20260425T025607
CREATED:20250818T142611Z
LAST-MODIFIED:20250818T142611Z
UID:10003525-1758797100-1758797100@eglise-methodiste-munster.fr
SUMMARY:Méditation Biblique
DESCRIPTION:
URL:https://eglise-methodiste-munster.fr/evenement/meditation-biblique-11/2025-09-25/
LOCATION:Bethesda-Caroline\, 20A Rue du Général de Lattre de Tassigny\, Munster\, 68140\, France
CATEGORIES:Études bibliques
END:VEVENT
BEGIN:VEVENT
DTSTART;TZID=Europe/Paris:20250927T100000
DTEND;TZID=Europe/Paris:20250927T113000
DTSTAMP:20260425T025607
CREATED:20250905T131425Z
LAST-MODIFIED:20250905T131425Z
UID:10003549-1758967200-1758972600@eglise-methodiste-munster.fr
SUMMARY:KT
DESCRIPTION:
URL:https://eglise-methodiste-munster.fr/evenement/kt/2025-09-27/
LOCATION:Temple de la Paix (TP)\, 24 Rue du 9 Zouaves\, MUNSTER\, 68140
CATEGORIES:Caté
END:VEVENT
END:VCALENDAR