BEGIN:VCALENDAR
VERSION:2.0
PRODID:-//Église Méthodiste de Munster - ECPv6.15.17.1//NONSGML v1.0//EN
CALSCALE:GREGORIAN
METHOD:PUBLISH
X-ORIGINAL-URL:https://eglise-methodiste-munster.fr
X-WR-CALDESC:Évènements pour Église Méthodiste de Munster
REFRESH-INTERVAL;VALUE=DURATION:PT1H
X-Robots-Tag:noindex
X-PUBLISHED-TTL:PT1H
BEGIN:VTIMEZONE
TZID:Europe/Paris
BEGIN:DAYLIGHT
TZOFFSETFROM:+0100
TZOFFSETTO:+0200
TZNAME:CEST
DTSTART:20240331T010000
END:DAYLIGHT
BEGIN:STANDARD
TZOFFSETFROM:+0200
TZOFFSETTO:+0100
TZNAME:CET
DTSTART:20241027T010000
END:STANDARD
BEGIN:DAYLIGHT
TZOFFSETFROM:+0100
TZOFFSETTO:+0200
TZNAME:CEST
DTSTART:20250330T010000
END:DAYLIGHT
BEGIN:STANDARD
TZOFFSETFROM:+0200
TZOFFSETTO:+0100
TZNAME:CET
DTSTART:20251026T010000
END:STANDARD
BEGIN:DAYLIGHT
TZOFFSETFROM:+0100
TZOFFSETTO:+0200
TZNAME:CEST
DTSTART:20260329T010000
END:DAYLIGHT
BEGIN:STANDARD
TZOFFSETFROM:+0200
TZOFFSETTO:+0100
TZNAME:CET
DTSTART:20261025T010000
END:STANDARD
END:VTIMEZONE
BEGIN:VEVENT
DTSTART;TZID=Europe/Paris:20250701T100000
DTEND;TZID=Europe/Paris:20250701T120000
DTSTAMP:20260425T051056
CREATED:20250515T143032Z
LAST-MODIFIED:20251024T155734Z
UID:10003063-1751364000-1751371200@eglise-methodiste-munster.fr
SUMMARY:Permanence pastorale
DESCRIPTION:
URL:https://eglise-methodiste-munster.fr/evenement/permanence-pastorale-5-2/2025-07-01/
LOCATION:Temple de la Paix (TP)\, 24 Rue du 9 Zouaves\, MUNSTER\, 68140
CATEGORIES:Permanence pastorale
END:VEVENT
BEGIN:VEVENT
DTSTART;TZID=Europe/Paris:20250701T193000
DTEND;TZID=Europe/Paris:20250701T193000
DTSTAMP:20260425T051056
CREATED:20250328T191936Z
LAST-MODIFIED:20250328T191936Z
UID:10003165-1751398200-1751398200@eglise-methodiste-munster.fr
SUMMARY:Conseil d'Église
DESCRIPTION:
URL:https://eglise-methodiste-munster.fr/evenement/conseil-deglise-7/
LOCATION:Temple de la Paix (TP)\, 24 Rue du 9 Zouaves\, MUNSTER\, 68140
CATEGORIES:Réunion Administrative
END:VEVENT
BEGIN:VEVENT
DTSTART;TZID=Europe/Paris:20250706T100000
DTEND;TZID=Europe/Paris:20250706T100000
DTSTAMP:20260425T051056
CREATED:20250518T200824Z
LAST-MODIFIED:20250604T144550Z
UID:10003390-1751796000-1751796000@eglise-methodiste-munster.fr
SUMMARY:Culte (TP)
DESCRIPTION:
URL:https://eglise-methodiste-munster.fr/evenement/culte-tp-12/2025-07-06/
LOCATION:Temple de la Paix (TP)\, 24 Rue du 9 Zouaves\, MUNSTER\, 68140
CATEGORIES:Cultes
END:VEVENT
BEGIN:VEVENT
DTSTART;TZID=Europe/Paris:20250706T104500
DTEND;TZID=Europe/Paris:20250706T104500
DTSTAMP:20260425T051056
CREATED:20250518T201118Z
LAST-MODIFIED:20250518T201118Z
UID:10003404-1751798700-1751798700@eglise-methodiste-munster.fr
SUMMARY:Culte à Béthesda-Caroline
DESCRIPTION:
URL:https://eglise-methodiste-munster.fr/evenement/culte-a-bethesda-caroline-12/2025-07-06/
LOCATION:Bethesda-Caroline\, 20A Rue du Général de Lattre de Tassigny\, Munster\, 68140\, France
CATEGORIES:Cultes
END:VEVENT
BEGIN:VEVENT
DTSTART;TZID=Europe/Paris:20250706T120000
DTEND;TZID=Europe/Paris:20250706T120000
DTSTAMP:20260425T051056
CREATED:20250310T085538Z
LAST-MODIFIED:20250310T085538Z
UID:10003036-1751803200-1751803200@eglise-methodiste-munster.fr
SUMMARY:Pique-Nique
DESCRIPTION:Des précisions suivront
URL:https://eglise-methodiste-munster.fr/evenement/pique-nique/
LOCATION:Centre de Vacances LANDERSEN\, 4 Route du Petit Ballon\, Sondernach\, 68380\, France
CATEGORIES:Réunion particulière
END:VEVENT
BEGIN:VEVENT
DTSTART;TZID=Europe/Paris:20250707T140000
DTEND;TZID=Europe/Paris:20250707T140000
DTSTAMP:20260425T051056
CREATED:20250705T074108Z
LAST-MODIFIED:20250705T074108Z
UID:10003433-1751896800-1751896800@eglise-methodiste-munster.fr
SUMMARY:Eglise en Marche
DESCRIPTION:RDV à 14 h précises\, parking à côté du TP. \nContact J-Paul Jaegle.
URL:https://eglise-methodiste-munster.fr/evenement/eglise-en-marche-10/
LOCATION:En plein air
CATEGORIES:Église en Marche
END:VEVENT
BEGIN:VEVENT
DTSTART;TZID=Europe/Paris:20250708T090000
DTEND;TZID=Europe/Paris:20250708T090000
DTSTAMP:20260425T051056
CREATED:20250705T075633Z
LAST-MODIFIED:20250705T075633Z
UID:10003444-1751965200-1751965200@eglise-methodiste-munster.fr
SUMMARY:Réunion de prières
DESCRIPTION:
URL:https://eglise-methodiste-munster.fr/evenement/reunion-de-prieres-8/2025-07-08/
LOCATION:Temple de la Paix (TP)\, 24 Rue du 9 Zouaves\, MUNSTER\, 68140
CATEGORIES:Réunion de Prières
END:VEVENT
BEGIN:VEVENT
DTSTART;TZID=Europe/Paris:20250708T100000
DTEND;TZID=Europe/Paris:20250708T120000
DTSTAMP:20260425T051056
CREATED:20250515T143032Z
LAST-MODIFIED:20251024T155734Z
UID:10003064-1751968800-1751976000@eglise-methodiste-munster.fr
SUMMARY:Permanence pastorale
DESCRIPTION:
URL:https://eglise-methodiste-munster.fr/evenement/permanence-pastorale-5-2/2025-07-08/
LOCATION:Temple de la Paix (TP)\, 24 Rue du 9 Zouaves\, MUNSTER\, 68140
CATEGORIES:Permanence pastorale
END:VEVENT
BEGIN:VEVENT
DTSTART;TZID=Europe/Paris:20250708T200000
DTEND;TZID=Europe/Paris:20250708T220000
DTSTAMP:20260425T051056
CREATED:20250619T115322Z
LAST-MODIFIED:20250619T115322Z
UID:10003432-1752004800-1752012000@eglise-methodiste-munster.fr
SUMMARY:Étude biblique
DESCRIPTION:
URL:https://eglise-methodiste-munster.fr/evenement/etude-biblique-2/
LOCATION:Temple de la Paix (TP)\, 24 Rue du 9 Zouaves\, MUNSTER\, 68140
CATEGORIES:Études bibliques
END:VEVENT
BEGIN:VEVENT
DTSTART;TZID=Europe/Paris:20250710T104500
DTEND;TZID=Europe/Paris:20250710T104500
DTSTAMP:20260425T051056
CREATED:20250518T200328Z
LAST-MODIFIED:20250518T200328Z
UID:10003377-1752144300-1752144300@eglise-methodiste-munster.fr
SUMMARY:Méditation Biblique
DESCRIPTION:
URL:https://eglise-methodiste-munster.fr/evenement/meditation-biblique-9/2025-07-10/
LOCATION:Bethesda-Caroline\, 20A Rue du Général de Lattre de Tassigny\, Munster\, 68140\, France
CATEGORIES:Études bibliques
END:VEVENT
BEGIN:VEVENT
DTSTART;TZID=Europe/Paris:20250713T100000
DTEND;TZID=Europe/Paris:20250713T100000
DTSTAMP:20260425T051056
CREATED:20250518T200824Z
LAST-MODIFIED:20250604T144550Z
UID:10003391-1752400800-1752400800@eglise-methodiste-munster.fr
SUMMARY:Culte (TP)
DESCRIPTION:
URL:https://eglise-methodiste-munster.fr/evenement/culte-tp-12/2025-07-13/
LOCATION:Temple de la Paix (TP)\, 24 Rue du 9 Zouaves\, MUNSTER\, 68140
CATEGORIES:Cultes
END:VEVENT
BEGIN:VEVENT
DTSTART;TZID=Europe/Paris:20250713T104500
DTEND;TZID=Europe/Paris:20250713T104500
DTSTAMP:20260425T051056
CREATED:20250518T201118Z
LAST-MODIFIED:20250518T201118Z
UID:10003405-1752403500-1752403500@eglise-methodiste-munster.fr
SUMMARY:Culte à Béthesda-Caroline
DESCRIPTION:
URL:https://eglise-methodiste-munster.fr/evenement/culte-a-bethesda-caroline-12/2025-07-13/
LOCATION:Bethesda-Caroline\, 20A Rue du Général de Lattre de Tassigny\, Munster\, 68140\, France
CATEGORIES:Cultes
END:VEVENT
BEGIN:VEVENT
DTSTART;TZID=Europe/Paris:20250715T061500
DTEND;TZID=Europe/Paris:20250715T061500
DTSTAMP:20260425T051056
CREATED:20250705T075827Z
LAST-MODIFIED:20250705T075827Z
UID:10003450-1752560100-1752560100@eglise-methodiste-munster.fr
SUMMARY:Groupe de prières du matin
DESCRIPTION:
URL:https://eglise-methodiste-munster.fr/evenement/groupe-de-prieres-du-matin-8/2025-07-15/
LOCATION:Famille MOHR
CATEGORIES:Réunion de Prières
END:VEVENT
BEGIN:VEVENT
DTSTART;TZID=Europe/Paris:20250715T100000
DTEND;TZID=Europe/Paris:20250715T120000
DTSTAMP:20260425T051056
CREATED:20250515T143032Z
LAST-MODIFIED:20251024T155734Z
UID:10003065-1752573600-1752580800@eglise-methodiste-munster.fr
SUMMARY:Permanence pastorale
DESCRIPTION:
URL:https://eglise-methodiste-munster.fr/evenement/permanence-pastorale-5-2/2025-07-15/
LOCATION:Temple de la Paix (TP)\, 24 Rue du 9 Zouaves\, MUNSTER\, 68140
CATEGORIES:Permanence pastorale
END:VEVENT
BEGIN:VEVENT
DTSTART;TZID=Europe/Paris:20250716T143000
DTEND;TZID=Europe/Paris:20250716T143000
DTSTAMP:20260425T051056
CREATED:20250531T185202Z
LAST-MODIFIED:20250706T180118Z
UID:10003420-1752676200-1752676200@eglise-methodiste-munster.fr
SUMMARY:Groupe de Maison - Hohrod
DESCRIPTION:Réunion chez la famille OBERLÉ à HOHROD
URL:https://eglise-methodiste-munster.fr/evenement/groupe-de-maison-hohrod-12/
LOCATION:Famille OBERLÉ\, HOHROD\, 68142\, France
CATEGORIES:Groupe de Maison
ATTACH;FMTTYPE=image/jpeg:https://eglise-methodiste-munster.fr/wp-content/uploads/2020/08/groupe-de-maison_eem-munster.jpg
END:VEVENT
BEGIN:VEVENT
DTSTART;TZID=Europe/Paris:20250717T104500
DTEND;TZID=Europe/Paris:20250717T104500
DTSTAMP:20260425T051056
CREATED:20250518T200328Z
LAST-MODIFIED:20250518T200328Z
UID:10003378-1752749100-1752749100@eglise-methodiste-munster.fr
SUMMARY:Méditation Biblique
DESCRIPTION:
URL:https://eglise-methodiste-munster.fr/evenement/meditation-biblique-9/2025-07-17/
LOCATION:Bethesda-Caroline\, 20A Rue du Général de Lattre de Tassigny\, Munster\, 68140\, France
CATEGORIES:Études bibliques
END:VEVENT
BEGIN:VEVENT
DTSTART;TZID=Europe/Paris:20250720T100000
DTEND;TZID=Europe/Paris:20250720T100000
DTSTAMP:20260425T051056
CREATED:20250518T200824Z
LAST-MODIFIED:20250604T144550Z
UID:10003392-1753005600-1753005600@eglise-methodiste-munster.fr
SUMMARY:Culte (TP)
DESCRIPTION:
URL:https://eglise-methodiste-munster.fr/evenement/culte-tp-12/2025-07-20/
LOCATION:Temple de la Paix (TP)\, 24 Rue du 9 Zouaves\, MUNSTER\, 68140
CATEGORIES:Cultes
END:VEVENT
BEGIN:VEVENT
DTSTART;TZID=Europe/Paris:20250720T104500
DTEND;TZID=Europe/Paris:20250720T104500
DTSTAMP:20260425T051056
CREATED:20250518T201118Z
LAST-MODIFIED:20250518T201118Z
UID:10003406-1753008300-1753008300@eglise-methodiste-munster.fr
SUMMARY:Culte à Béthesda-Caroline
DESCRIPTION:
URL:https://eglise-methodiste-munster.fr/evenement/culte-a-bethesda-caroline-12/2025-07-20/
LOCATION:Bethesda-Caroline\, 20A Rue du Général de Lattre de Tassigny\, Munster\, 68140\, France
CATEGORIES:Cultes
END:VEVENT
BEGIN:VEVENT
DTSTART;TZID=Europe/Paris:20250722T090000
DTEND;TZID=Europe/Paris:20250722T090000
DTSTAMP:20260425T051056
CREATED:20250705T075633Z
LAST-MODIFIED:20250705T075633Z
UID:10003445-1753174800-1753174800@eglise-methodiste-munster.fr
SUMMARY:Réunion de prières
DESCRIPTION:
URL:https://eglise-methodiste-munster.fr/evenement/reunion-de-prieres-8/2025-07-22/
LOCATION:Temple de la Paix (TP)\, 24 Rue du 9 Zouaves\, MUNSTER\, 68140
CATEGORIES:Réunion de Prières
END:VEVENT
BEGIN:VEVENT
DTSTART;TZID=Europe/Paris:20250722T100000
DTEND;TZID=Europe/Paris:20250722T120000
DTSTAMP:20260425T051056
CREATED:20250515T143032Z
LAST-MODIFIED:20251024T155734Z
UID:10003066-1753178400-1753185600@eglise-methodiste-munster.fr
SUMMARY:Permanence pastorale
DESCRIPTION:
URL:https://eglise-methodiste-munster.fr/evenement/permanence-pastorale-5-2/2025-07-22/
LOCATION:Temple de la Paix (TP)\, 24 Rue du 9 Zouaves\, MUNSTER\, 68140
CATEGORIES:Permanence pastorale
END:VEVENT
BEGIN:VEVENT
DTSTART;TZID=Europe/Paris:20250724T104500
DTEND;TZID=Europe/Paris:20250724T104500
DTSTAMP:20260425T051056
CREATED:20250518T200328Z
LAST-MODIFIED:20250518T200328Z
UID:10003379-1753353900-1753353900@eglise-methodiste-munster.fr
SUMMARY:Méditation Biblique
DESCRIPTION:
URL:https://eglise-methodiste-munster.fr/evenement/meditation-biblique-9/2025-07-24/
LOCATION:Bethesda-Caroline\, 20A Rue du Général de Lattre de Tassigny\, Munster\, 68140\, France
CATEGORIES:Études bibliques
END:VEVENT
BEGIN:VEVENT
DTSTART;TZID=Europe/Paris:20250726T140000
DTEND;TZID=Europe/Paris:20250726T140000
DTSTAMP:20260425T051056
CREATED:20250705T074154Z
LAST-MODIFIED:20250705T074154Z
UID:10003434-1753538400-1753538400@eglise-methodiste-munster.fr
SUMMARY:Eglise en Marche
DESCRIPTION:RDV à 14 h précises\, parking à côté du TP. \nContact J-Paul Jaegle.
URL:https://eglise-methodiste-munster.fr/evenement/eglise-en-marche-11/
LOCATION:En plein air
CATEGORIES:Église en Marche
END:VEVENT
BEGIN:VEVENT
DTSTART;TZID=Europe/Paris:20250727T100000
DTEND;TZID=Europe/Paris:20250727T100000
DTSTAMP:20260425T051056
CREATED:20250518T194228Z
LAST-MODIFIED:20250518T194228Z
UID:10003372-1753610400-1753610400@eglise-methodiste-munster.fr
SUMMARY:Culte en commun avec l'Eglise du Dubach
DESCRIPTION:Culte en commun avec l’église du Dubach
URL:https://eglise-methodiste-munster.fr/evenement/culte-en-commun-2/
LOCATION:Temple de la Paix (TP)\, 24 Rue du 9 Zouaves\, MUNSTER\, 68140
CATEGORIES:Cultes
END:VEVENT
BEGIN:VEVENT
DTSTART;TZID=Europe/Paris:20250727T104500
DTEND;TZID=Europe/Paris:20250727T104500
DTSTAMP:20260425T051056
CREATED:20250518T201118Z
LAST-MODIFIED:20250518T201118Z
UID:10003407-1753613100-1753613100@eglise-methodiste-munster.fr
SUMMARY:Culte à Béthesda-Caroline
DESCRIPTION:
URL:https://eglise-methodiste-munster.fr/evenement/culte-a-bethesda-caroline-12/2025-07-27/
LOCATION:Bethesda-Caroline\, 20A Rue du Général de Lattre de Tassigny\, Munster\, 68140\, France
CATEGORIES:Cultes
END:VEVENT
BEGIN:VEVENT
DTSTART;TZID=Europe/Paris:20250729T061500
DTEND;TZID=Europe/Paris:20250729T061500
DTSTAMP:20260425T051056
CREATED:20250705T075827Z
LAST-MODIFIED:20250705T075827Z
UID:10003451-1753769700-1753769700@eglise-methodiste-munster.fr
SUMMARY:Groupe de prières du matin
DESCRIPTION:
URL:https://eglise-methodiste-munster.fr/evenement/groupe-de-prieres-du-matin-8/2025-07-29/
LOCATION:Famille MOHR
CATEGORIES:Réunion de Prières
END:VEVENT
BEGIN:VEVENT
DTSTART;TZID=Europe/Paris:20250729T100000
DTEND;TZID=Europe/Paris:20250729T120000
DTSTAMP:20260425T051056
CREATED:20250515T143032Z
LAST-MODIFIED:20251024T155734Z
UID:10003067-1753783200-1753790400@eglise-methodiste-munster.fr
SUMMARY:Permanence pastorale
DESCRIPTION:
URL:https://eglise-methodiste-munster.fr/evenement/permanence-pastorale-5-2/2025-07-29/
LOCATION:Temple de la Paix (TP)\, 24 Rue du 9 Zouaves\, MUNSTER\, 68140
CATEGORIES:Permanence pastorale
END:VEVENT
BEGIN:VEVENT
DTSTART;TZID=Europe/Paris:20250731T104500
DTEND;TZID=Europe/Paris:20250731T104500
DTSTAMP:20260425T051056
CREATED:20250518T200328Z
LAST-MODIFIED:20250518T200328Z
UID:10003380-1753958700-1753958700@eglise-methodiste-munster.fr
SUMMARY:Méditation Biblique
DESCRIPTION:
URL:https://eglise-methodiste-munster.fr/evenement/meditation-biblique-9/2025-07-31/
LOCATION:Bethesda-Caroline\, 20A Rue du Général de Lattre de Tassigny\, Munster\, 68140\, France
CATEGORIES:Études bibliques
END:VEVENT
END:VCALENDAR