BEGIN:VCALENDAR
VERSION:2.0
PRODID:-//Église Méthodiste de Munster - ECPv6.15.17.1//NONSGML v1.0//EN
CALSCALE:GREGORIAN
METHOD:PUBLISH
X-WR-CALNAME:Église Méthodiste de Munster
X-ORIGINAL-URL:https://eglise-methodiste-munster.fr
X-WR-CALDESC:Évènements pour Église Méthodiste de Munster
REFRESH-INTERVAL;VALUE=DURATION:PT1H
X-Robots-Tag:noindex
X-PUBLISHED-TTL:PT1H
BEGIN:VTIMEZONE
TZID:Europe/Paris
BEGIN:DAYLIGHT
TZOFFSETFROM:+0100
TZOFFSETTO:+0200
TZNAME:CEST
DTSTART:20250330T010000
END:DAYLIGHT
BEGIN:STANDARD
TZOFFSETFROM:+0200
TZOFFSETTO:+0100
TZNAME:CET
DTSTART:20251026T010000
END:STANDARD
BEGIN:DAYLIGHT
TZOFFSETFROM:+0100
TZOFFSETTO:+0200
TZNAME:CEST
DTSTART:20260329T010000
END:DAYLIGHT
BEGIN:STANDARD
TZOFFSETFROM:+0200
TZOFFSETTO:+0100
TZNAME:CET
DTSTART:20261025T010000
END:STANDARD
BEGIN:DAYLIGHT
TZOFFSETFROM:+0100
TZOFFSETTO:+0200
TZNAME:CEST
DTSTART:20270328T010000
END:DAYLIGHT
BEGIN:STANDARD
TZOFFSETFROM:+0200
TZOFFSETTO:+0100
TZNAME:CET
DTSTART:20271031T010000
END:STANDARD
END:VTIMEZONE
BEGIN:VEVENT
DTSTART;TZID=Europe/Paris:20260620T100000
DTEND;TZID=Europe/Paris:20260620T113000
DTSTAMP:20260425T000801
CREATED:20250905T131832Z
LAST-MODIFIED:20250905T131832Z
UID:10003563-1781949600-1781955000@eglise-methodiste-munster.fr
SUMMARY:KT
DESCRIPTION:
URL:https://eglise-methodiste-munster.fr/evenement/kt-5/2026-06-20/
LOCATION:Temple de la Paix (TP)\, 24 Rue du 9 Zouaves\, MUNSTER\, 68140
CATEGORIES:Caté
END:VEVENT
BEGIN:VEVENT
DTSTART;TZID=Europe/Paris:20260621T120000
DTEND;TZID=Europe/Paris:20260621T120000
DTSTAMP:20260425T000801
CREATED:20260326T212703Z
LAST-MODIFIED:20260326T212703Z
UID:10003966-1782043200-1782043200@eglise-methodiste-munster.fr
SUMMARY:Parta'Jeunes
DESCRIPTION:
URL:https://eglise-methodiste-munster.fr/evenement/partajeunes-8/
LOCATION:Temple de la Paix (TP)\, 24 Rue du 9 Zouaves\, MUNSTER\, 68140
CATEGORIES:Parta'Jeunes
END:VEVENT
BEGIN:VEVENT
DTSTART;TZID=Europe/Paris:20260622T140000
DTEND;TZID=Europe/Paris:20260622T140000
DTSTAMP:20260425T000801
CREATED:20260227T185234Z
LAST-MODIFIED:20260227T185234Z
UID:10003875-1782136800-1782136800@eglise-methodiste-munster.fr
SUMMARY:Eglise en Marche
DESCRIPTION:RDV à 14 h précises\, parking à côté du TP. \nContact J-Paul Jaegle.
URL:https://eglise-methodiste-munster.fr/evenement/eglise-en-marche-25/
LOCATION:En plein air
CATEGORIES:Église en Marche
END:VEVENT
BEGIN:VEVENT
DTSTART;TZID=Europe/Paris:20260623T100000
DTEND;TZID=Europe/Paris:20260623T120000
DTSTAMP:20260425T000801
CREATED:20260103T165342Z
LAST-MODIFIED:20260417T134139Z
UID:10003923-1782208800-1782216000@eglise-methodiste-munster.fr
SUMMARY:Permanence pastorale
DESCRIPTION:
URL:https://eglise-methodiste-munster.fr/evenement/permanence-pastorale-6/2026-06-23/
LOCATION:Temple de la Paix (TP)\, 24 Rue du 9 Zouaves\, MUNSTER\, 68140
CATEGORIES:Permanence pastorale
END:VEVENT
BEGIN:VEVENT
DTSTART;TZID=Europe/Paris:20260627T193000
DTEND;TZID=Europe/Paris:20260627T193000
DTSTAMP:20260425T000801
CREATED:20260326T212747Z
LAST-MODIFIED:20260326T212747Z
UID:10003967-1782588600-1782588600@eglise-methodiste-munster.fr
SUMMARY:Parta'Jeunes
DESCRIPTION:
URL:https://eglise-methodiste-munster.fr/evenement/partajeunes-44/
LOCATION:Temple de la Paix (TP)\, 24 Rue du 9 Zouaves\, MUNSTER\, 68140
CATEGORIES:Parta'Jeunes
END:VEVENT
BEGIN:VEVENT
DTSTART;TZID=Europe/Paris:20260628T100000
DTEND;TZID=Europe/Paris:20260628T120000
DTSTAMP:20260425T000801
CREATED:20250919T152650Z
LAST-MODIFIED:20250919T152650Z
UID:10003573-1782640800-1782648000@eglise-methodiste-munster.fr
SUMMARY:Célébration œcuménique
DESCRIPTION:Les églises de la Vallée sont invitées à se retrouver le dimanche 28 juin 2026 pour une célébration œcuménique qui marquera le centenaire des églises protestante et catholique de Stosswihr.
URL:https://eglise-methodiste-munster.fr/evenement/celebration-oecumenique-3/
LOCATION:Église protestante de Stosswihr\, 52-54 Grand'rue\, Stosswihr\, 68140\, France
CATEGORIES:Œcuménisme
END:VEVENT
BEGIN:VEVENT
DTSTART;TZID=Europe/Paris:20260703T193000
DTEND;TZID=Europe/Paris:20260703T193000
DTSTAMP:20260425T000801
CREATED:20260204T183802Z
LAST-MODIFIED:20260204T183802Z
UID:10003830-1783107000-1783107000@eglise-methodiste-munster.fr
SUMMARY:Conseil d'Église
DESCRIPTION:
URL:https://eglise-methodiste-munster.fr/evenement/conseil-deglise-18/
LOCATION:Temple de la Paix (TP)\, 24 Rue du 9 Zouaves\, MUNSTER\, 68140
CATEGORIES:Réunion Administrative
END:VEVENT
BEGIN:VEVENT
DTSTART;TZID=Europe/Paris:20260705T120000
DTEND;TZID=Europe/Paris:20260705T120000
DTSTAMP:20260425T000801
CREATED:20260321T095616Z
LAST-MODIFIED:20260321T095616Z
UID:10003935-1783252800-1783252800@eglise-methodiste-munster.fr
SUMMARY:Pique-Nique
DESCRIPTION:Des précisions suivront (lieu\, horaires\, etc…)
URL:https://eglise-methodiste-munster.fr/evenement/pique-nique-2/
LOCATION:En plein air
CATEGORIES:Réunion particulière
END:VEVENT
BEGIN:VEVENT
DTSTART;TZID=Europe/Paris:20260707T100000
DTEND;TZID=Europe/Paris:20260707T120000
DTSTAMP:20260425T000801
CREATED:20260103T165342Z
LAST-MODIFIED:20260417T134139Z
UID:10003924-1783418400-1783425600@eglise-methodiste-munster.fr
SUMMARY:Permanence pastorale
DESCRIPTION:
URL:https://eglise-methodiste-munster.fr/evenement/permanence-pastorale-6/2026-07-07/
LOCATION:Temple de la Paix (TP)\, 24 Rue du 9 Zouaves\, MUNSTER\, 68140
CATEGORIES:Permanence pastorale
END:VEVENT
BEGIN:VEVENT
DTSTART;TZID=Europe/Paris:20260721T100000
DTEND;TZID=Europe/Paris:20260721T120000
DTSTAMP:20260425T000801
CREATED:20260103T165342Z
LAST-MODIFIED:20260417T134139Z
UID:10003925-1784628000-1784635200@eglise-methodiste-munster.fr
SUMMARY:Permanence pastorale
DESCRIPTION:
URL:https://eglise-methodiste-munster.fr/evenement/permanence-pastorale-6/2026-07-21/
LOCATION:Temple de la Paix (TP)\, 24 Rue du 9 Zouaves\, MUNSTER\, 68140
CATEGORIES:Permanence pastorale
END:VEVENT
BEGIN:VEVENT
DTSTART;TZID=Europe/Paris:20260815T090000
DTEND;TZID=Europe/Paris:20260815T170000
DTSTAMP:20260425T000801
CREATED:20260227T185509Z
LAST-MODIFIED:20260227T185509Z
UID:10003876-1786784400-1786813200@eglise-methodiste-munster.fr
SUMMARY:Eglise en Marche
DESCRIPTION:RDV à 09 h\, parking à côté du TP pour une rando à la journée \ndans le secteur… à préciser \nContact J-Paul Jaegle.
URL:https://eglise-methodiste-munster.fr/evenement/eglise-en-marche-26/
LOCATION:En plein air
CATEGORIES:Église en Marche
END:VEVENT
END:VCALENDAR