BEGIN:VCALENDAR
VERSION:2.0
PRODID:-//Église Méthodiste de Munster - ECPv6.15.17.1//NONSGML v1.0//EN
CALSCALE:GREGORIAN
METHOD:PUBLISH
X-ORIGINAL-URL:https://eglise-methodiste-munster.fr
X-WR-CALDESC:Évènements pour Église Méthodiste de Munster
REFRESH-INTERVAL;VALUE=DURATION:PT1H
X-Robots-Tag:noindex
X-PUBLISHED-TTL:PT1H
BEGIN:VTIMEZONE
TZID:Europe/Paris
BEGIN:DAYLIGHT
TZOFFSETFROM:+0100
TZOFFSETTO:+0200
TZNAME:CEST
DTSTART:20250330T010000
END:DAYLIGHT
BEGIN:STANDARD
TZOFFSETFROM:+0200
TZOFFSETTO:+0100
TZNAME:CET
DTSTART:20251026T010000
END:STANDARD
BEGIN:DAYLIGHT
TZOFFSETFROM:+0100
TZOFFSETTO:+0200
TZNAME:CEST
DTSTART:20260329T010000
END:DAYLIGHT
BEGIN:STANDARD
TZOFFSETFROM:+0200
TZOFFSETTO:+0100
TZNAME:CET
DTSTART:20261025T010000
END:STANDARD
BEGIN:DAYLIGHT
TZOFFSETFROM:+0100
TZOFFSETTO:+0200
TZNAME:CEST
DTSTART:20270328T010000
END:DAYLIGHT
BEGIN:STANDARD
TZOFFSETFROM:+0200
TZOFFSETTO:+0100
TZNAME:CET
DTSTART:20271031T010000
END:STANDARD
END:VTIMEZONE
BEGIN:VEVENT
DTSTART;TZID=Europe/Paris:20260521T104500
DTEND;TZID=Europe/Paris:20260521T104500
DTSTAMP:20260424T215552
CREATED:20260321T102841Z
LAST-MODIFIED:20260321T102841Z
UID:10003948-1779360300-1779360300@eglise-methodiste-munster.fr
SUMMARY:Méditation Biblique
DESCRIPTION:
URL:https://eglise-methodiste-munster.fr/evenement/meditation-biblique-15/2026-05-21/
LOCATION:Bethesda-Caroline\, 20A Rue du Général de Lattre de Tassigny\, Munster\, 68140\, France
CATEGORIES:Études bibliques
END:VEVENT
BEGIN:VEVENT
DTSTART;TZID=Europe/Paris:20260522T193000
DTEND;TZID=Europe/Paris:20260522T193000
DTSTAMP:20260424T215552
CREATED:20260326T212406Z
LAST-MODIFIED:20260326T212406Z
UID:10003962-1779478200-1779478200@eglise-methodiste-munster.fr
SUMMARY:Parta'Jeunes
DESCRIPTION:
URL:https://eglise-methodiste-munster.fr/evenement/partajeunes-4/
LOCATION:Temple de la Paix (TP)\, 24 Rue du 9 Zouaves\, MUNSTER\, 68140
CATEGORIES:Parta'Jeunes
END:VEVENT
BEGIN:VEVENT
DTSTART;TZID=Europe/Paris:20260523T100000
DTEND;TZID=Europe/Paris:20260523T113000
DTSTAMP:20260424T215552
CREATED:20250905T131832Z
LAST-MODIFIED:20250905T131832Z
UID:10003561-1779530400-1779535800@eglise-methodiste-munster.fr
SUMMARY:KT
DESCRIPTION:
URL:https://eglise-methodiste-munster.fr/evenement/kt-5/2026-05-23/
LOCATION:Temple de la Paix (TP)\, 24 Rue du 9 Zouaves\, MUNSTER\, 68140
CATEGORIES:Caté
END:VEVENT
BEGIN:VEVENT
DTSTART;TZID=Europe/Paris:20260523T140000
DTEND;TZID=Europe/Paris:20260523T140000
DTSTAMP:20260424T215552
CREATED:20260227T185037Z
LAST-MODIFIED:20260227T185037Z
UID:10003873-1779544800-1779544800@eglise-methodiste-munster.fr
SUMMARY:Eglise en Marche
DESCRIPTION:RDV à 14 h précises\, parking à côté du TP. \nContact J-Paul Jaegle.
URL:https://eglise-methodiste-munster.fr/evenement/eglise-en-marche-23/
LOCATION:En plein air
CATEGORIES:Église en Marche
END:VEVENT
BEGIN:VEVENT
DTSTART;TZID=Europe/Paris:20260524T100000
DTEND;TZID=Europe/Paris:20260524T100000
DTSTAMP:20260424T215552
CREATED:20260321T095404Z
LAST-MODIFIED:20260321T100518Z
UID:10003934-1779616800-1779616800@eglise-methodiste-munster.fr
SUMMARY:Fête de fin de KT
DESCRIPTION:
URL:https://eglise-methodiste-munster.fr/evenement/fete-de-fin-de-kt-2/
LOCATION:Temple de la Paix (TP)\, 24 Rue du 9 Zouaves\, MUNSTER\, 68140
CATEGORIES:Réunion particulière
END:VEVENT
BEGIN:VEVENT
DTSTART;TZID=Europe/Paris:20260524T104500
DTEND;TZID=Europe/Paris:20260524T104500
DTSTAMP:20260424T215552
CREATED:20260227T190351Z
LAST-MODIFIED:20260227T190351Z
UID:10003896-1779619500-1779619500@eglise-methodiste-munster.fr
SUMMARY:Culte à Béthesda-Caroline
DESCRIPTION:
URL:https://eglise-methodiste-munster.fr/evenement/culte-a-bethesda-caroline-4/2026-05-24/
LOCATION:Bethesda-Caroline\, 20A Rue du Général de Lattre de Tassigny\, Munster\, 68140\, France
CATEGORIES:Cultes
END:VEVENT
BEGIN:VEVENT
DTSTART;TZID=Europe/Paris:20260526T100000
DTEND;TZID=Europe/Paris:20260526T120000
DTSTAMP:20260424T215552
CREATED:20260103T165342Z
LAST-MODIFIED:20260417T134139Z
UID:10003919-1779789600-1779796800@eglise-methodiste-munster.fr
SUMMARY:Permanence pastorale
DESCRIPTION:
URL:https://eglise-methodiste-munster.fr/evenement/permanence-pastorale-6/2026-05-26/
LOCATION:Temple de la Paix (TP)\, 24 Rue du 9 Zouaves\, MUNSTER\, 68140
CATEGORIES:Permanence pastorale
END:VEVENT
BEGIN:VEVENT
DTSTART;TZID=Europe/Paris:20260528T104500
DTEND;TZID=Europe/Paris:20260528T104500
DTSTAMP:20260424T215552
CREATED:20260321T102841Z
LAST-MODIFIED:20260321T102841Z
UID:10003949-1779965100-1779965100@eglise-methodiste-munster.fr
SUMMARY:Méditation Biblique
DESCRIPTION:
URL:https://eglise-methodiste-munster.fr/evenement/meditation-biblique-15/2026-05-28/
LOCATION:Bethesda-Caroline\, 20A Rue du Général de Lattre de Tassigny\, Munster\, 68140\, France
CATEGORIES:Études bibliques
END:VEVENT
BEGIN:VEVENT
DTSTART;TZID=Europe/Paris:20260529T193000
DTEND;TZID=Europe/Paris:20260529T193000
DTSTAMP:20260424T215552
CREATED:20260326T212443Z
LAST-MODIFIED:20260326T212443Z
UID:10003963-1780083000-1780083000@eglise-methodiste-munster.fr
SUMMARY:Parta'Jeunes
DESCRIPTION:
URL:https://eglise-methodiste-munster.fr/evenement/partajeunes-5/
LOCATION:Temple de la Paix (TP)\, 24 Rue du 9 Zouaves\, MUNSTER\, 68140
CATEGORIES:Parta'Jeunes
END:VEVENT
BEGIN:VEVENT
DTSTART;TZID=Europe/Paris:20260531T100000
DTEND;TZID=Europe/Paris:20260531T100000
DTSTAMP:20260424T215552
CREATED:20260321T095222Z
LAST-MODIFIED:20260321T095749Z
UID:10003933-1780221600-1780221600@eglise-methodiste-munster.fr
SUMMARY:Culte (TP)
DESCRIPTION:
URL:https://eglise-methodiste-munster.fr/evenement/culte-tp-4/2026-05-31/
LOCATION:Temple de la Paix (TP)\, 24 Rue du 9 Zouaves\, MUNSTER\, 68140
CATEGORIES:Cultes
END:VEVENT
BEGIN:VEVENT
DTSTART;TZID=Europe/Paris:20260531T104500
DTEND;TZID=Europe/Paris:20260531T104500
DTSTAMP:20260424T215552
CREATED:20260227T190351Z
LAST-MODIFIED:20260227T190351Z
UID:10003897-1780224300-1780224300@eglise-methodiste-munster.fr
SUMMARY:Culte à Béthesda-Caroline
DESCRIPTION:
URL:https://eglise-methodiste-munster.fr/evenement/culte-a-bethesda-caroline-4/2026-05-31/
LOCATION:Bethesda-Caroline\, 20A Rue du Général de Lattre de Tassigny\, Munster\, 68140\, France
CATEGORIES:Cultes
END:VEVENT
BEGIN:VEVENT
DTSTART;TZID=Europe/Paris:20260602T100000
DTEND;TZID=Europe/Paris:20260602T120000
DTSTAMP:20260424T215552
CREATED:20260103T165342Z
LAST-MODIFIED:20260417T134139Z
UID:10003920-1780394400-1780401600@eglise-methodiste-munster.fr
SUMMARY:Permanence pastorale
DESCRIPTION:
URL:https://eglise-methodiste-munster.fr/evenement/permanence-pastorale-6/2026-06-02/
LOCATION:Temple de la Paix (TP)\, 24 Rue du 9 Zouaves\, MUNSTER\, 68140
CATEGORIES:Permanence pastorale
END:VEVENT
BEGIN:VEVENT
DTSTART;TZID=Europe/Paris:20260602T200000
DTEND;TZID=Europe/Paris:20260602T213000
DTSTAMP:20260424T215552
CREATED:20260321T105201Z
LAST-MODIFIED:20260321T105202Z
UID:10003955-1780430400-1780435800@eglise-methodiste-munster.fr
SUMMARY:Étude biblique
DESCRIPTION:Nouveau cycle d’étude biblique sur les quatre premiers chapitres du livre de la Genèse.
URL:https://eglise-methodiste-munster.fr/evenement/etude-biblique-3-2-2-2/2026-06-02/
LOCATION:Temple de la Paix (TP)\, 24 Rue du 9 Zouaves\, MUNSTER\, 68140
CATEGORIES:Études bibliques
END:VEVENT
BEGIN:VEVENT
DTSTART;TZID=Europe/Paris:20260605T193000
DTEND;TZID=Europe/Paris:20260605T193000
DTSTAMP:20260424T215552
CREATED:20260204T183640Z
LAST-MODIFIED:20260204T183640Z
UID:10003829-1780687800-1780687800@eglise-methodiste-munster.fr
SUMMARY:Conseil d'Église
DESCRIPTION:
URL:https://eglise-methodiste-munster.fr/evenement/conseil-deglise-17/
LOCATION:Temple de la Paix (TP)\, 24 Rue du 9 Zouaves\, MUNSTER\, 68140
CATEGORIES:Réunion Administrative
END:VEVENT
BEGIN:VEVENT
DTSTART;TZID=Europe/Paris:20260606T100000
DTEND;TZID=Europe/Paris:20260606T113000
DTSTAMP:20260424T215552
CREATED:20250905T131832Z
LAST-MODIFIED:20250905T131832Z
UID:10003562-1780740000-1780745400@eglise-methodiste-munster.fr
SUMMARY:KT
DESCRIPTION:
URL:https://eglise-methodiste-munster.fr/evenement/kt-5/2026-06-06/
LOCATION:Temple de la Paix (TP)\, 24 Rue du 9 Zouaves\, MUNSTER\, 68140
CATEGORIES:Caté
END:VEVENT
BEGIN:VEVENT
DTSTART;TZID=Europe/Paris:20260606T140000
DTEND;TZID=Europe/Paris:20260606T140000
DTSTAMP:20260424T215552
CREATED:20260227T185126Z
LAST-MODIFIED:20260227T185126Z
UID:10003874-1780754400-1780754400@eglise-methodiste-munster.fr
SUMMARY:Eglise en Marche
DESCRIPTION:RDV à 14 h précises\, parking à côté du TP. \nContact J-Paul Jaegle.
URL:https://eglise-methodiste-munster.fr/evenement/eglise-en-marche-24/
LOCATION:En plein air
CATEGORIES:Église en Marche
END:VEVENT
BEGIN:VEVENT
DTSTART;TZID=Europe/Paris:20260607T120000
DTEND;TZID=Europe/Paris:20260607T120000
DTSTAMP:20260424T215552
CREATED:20260326T212532Z
LAST-MODIFIED:20260326T212532Z
UID:10003964-1780833600-1780833600@eglise-methodiste-munster.fr
SUMMARY:Parta'Jeunes
DESCRIPTION:
URL:https://eglise-methodiste-munster.fr/evenement/partajeunes-6/
LOCATION:Temple de la Paix (TP)\, 24 Rue du 9 Zouaves\, MUNSTER\, 68140
CATEGORIES:Parta'Jeunes
END:VEVENT
BEGIN:VEVENT
DTSTART;TZID=Europe/Paris:20260607T143000
DTEND;TZID=Europe/Paris:20260607T173000
DTSTAMP:20260424T215552
CREATED:20251123T071321Z
LAST-MODIFIED:20251123T071321Z
UID:10003730-1780842600-1780853400@eglise-methodiste-munster.fr
SUMMARY:Célébration pour la fin du bâtiment - EEM Colmar
DESCRIPTION:Venez vivre la célébration que l’EEM Colmar organise avant la vente définitive de son bâtiment historique.
URL:https://eglise-methodiste-munster.fr/evenement/celebration-pour-la-fin-du-batiment-eem-colmar/
LOCATION:Temple de la Paix Colmar
CATEGORIES:Cultes
END:VEVENT
BEGIN:VEVENT
DTSTART;TZID=Europe/Paris:20260609T100000
DTEND;TZID=Europe/Paris:20260609T120000
DTSTAMP:20260424T215552
CREATED:20260103T165342Z
LAST-MODIFIED:20260417T134139Z
UID:10003921-1780999200-1781006400@eglise-methodiste-munster.fr
SUMMARY:Permanence pastorale
DESCRIPTION:
URL:https://eglise-methodiste-munster.fr/evenement/permanence-pastorale-6/2026-06-09/
LOCATION:Temple de la Paix (TP)\, 24 Rue du 9 Zouaves\, MUNSTER\, 68140
CATEGORIES:Permanence pastorale
END:VEVENT
BEGIN:VEVENT
DTSTART;TZID=Europe/Paris:20260613T083000
DTEND;TZID=Europe/Paris:20260613T103000
DTSTAMP:20260424T215552
CREATED:20260214T172642Z
LAST-MODIFIED:20260227T185746Z
UID:10003855-1781339400-1781346600@eglise-methodiste-munster.fr
SUMMARY:Forum des Hommes
DESCRIPTION:Avec  Grégoire Chahinian
URL:https://eglise-methodiste-munster.fr/evenement/forum-des-hommes-14/
LOCATION:Temple de la Paix (TP)\, 24 Rue du 9 Zouaves\, MUNSTER\, 68140
CATEGORIES:Groupe de Maison
END:VEVENT
BEGIN:VEVENT
DTSTART;TZID=Europe/Paris:20260613T193000
DTEND;TZID=Europe/Paris:20260613T193000
DTSTAMP:20260424T215552
CREATED:20260326T212617Z
LAST-MODIFIED:20260326T212617Z
UID:10003965-1781379000-1781379000@eglise-methodiste-munster.fr
SUMMARY:Parta'Jeunes
DESCRIPTION:
URL:https://eglise-methodiste-munster.fr/evenement/partajeunes-7/
LOCATION:Temple de la Paix (TP)\, 24 Rue du 9 Zouaves\, MUNSTER\, 68140
CATEGORIES:Parta'Jeunes
END:VEVENT
BEGIN:VEVENT
DTSTART;TZID=Europe/Paris:20260613T200000
DTEND;TZID=Europe/Paris:20260613T200000
DTSTAMP:20260424T215552
CREATED:20260214T161951Z
LAST-MODIFIED:20260214T161951Z
UID:10003833-1781380800-1781380800@eglise-methodiste-munster.fr
SUMMARY:Carrefour des Femmes
DESCRIPTION:Ouvert à tous ! \nAvec…
URL:https://eglise-methodiste-munster.fr/evenement/carrefour-des-femmes-7/
LOCATION:Temple de la Paix (TP)\, 24 Rue du 9 Zouaves\, MUNSTER\, 68140
CATEGORIES:Groupe de Maison
END:VEVENT
BEGIN:VEVENT
DTSTART;TZID=Europe/Paris:20260616T100000
DTEND;TZID=Europe/Paris:20260616T120000
DTSTAMP:20260424T215552
CREATED:20260103T165342Z
LAST-MODIFIED:20260417T134139Z
UID:10003922-1781604000-1781611200@eglise-methodiste-munster.fr
SUMMARY:Permanence pastorale
DESCRIPTION:
URL:https://eglise-methodiste-munster.fr/evenement/permanence-pastorale-6/2026-06-16/
LOCATION:Temple de la Paix (TP)\, 24 Rue du 9 Zouaves\, MUNSTER\, 68140
CATEGORIES:Permanence pastorale
END:VEVENT
BEGIN:VEVENT
DTSTART;VALUE=DATE:20260618
DTEND;VALUE=DATE:20260622
DTSTAMP:20260424T215552
CREATED:20251021T081530Z
LAST-MODIFIED:20251021T081530Z
UID:10003687-1781740800-1782086399@eglise-methodiste-munster.fr
SUMMARY:Conférence Annuelle Suisse-France-Afrique du Nord
DESCRIPTION:Conférence Annuelle à Hunzenschwil  (Argau-Argovie)
URL:https://eglise-methodiste-munster.fr/evenement/conference-annuelle-suisse-france-afrique-du-nord-2/
LOCATION:Suisse\, Suisse
CATEGORIES:Réunion Administrative
END:VEVENT
BEGIN:VEVENT
DTSTART;TZID=Europe/Paris:20260620T100000
DTEND;TZID=Europe/Paris:20260620T113000
DTSTAMP:20260424T215552
CREATED:20250905T131832Z
LAST-MODIFIED:20250905T131832Z
UID:10003563-1781949600-1781955000@eglise-methodiste-munster.fr
SUMMARY:KT
DESCRIPTION:
URL:https://eglise-methodiste-munster.fr/evenement/kt-5/2026-06-20/
LOCATION:Temple de la Paix (TP)\, 24 Rue du 9 Zouaves\, MUNSTER\, 68140
CATEGORIES:Caté
END:VEVENT
BEGIN:VEVENT
DTSTART;TZID=Europe/Paris:20260621T120000
DTEND;TZID=Europe/Paris:20260621T120000
DTSTAMP:20260424T215552
CREATED:20260326T212703Z
LAST-MODIFIED:20260326T212703Z
UID:10003966-1782043200-1782043200@eglise-methodiste-munster.fr
SUMMARY:Parta'Jeunes
DESCRIPTION:
URL:https://eglise-methodiste-munster.fr/evenement/partajeunes-8/
LOCATION:Temple de la Paix (TP)\, 24 Rue du 9 Zouaves\, MUNSTER\, 68140
CATEGORIES:Parta'Jeunes
END:VEVENT
BEGIN:VEVENT
DTSTART;TZID=Europe/Paris:20260622T140000
DTEND;TZID=Europe/Paris:20260622T140000
DTSTAMP:20260424T215552
CREATED:20260227T185234Z
LAST-MODIFIED:20260227T185234Z
UID:10003875-1782136800-1782136800@eglise-methodiste-munster.fr
SUMMARY:Eglise en Marche
DESCRIPTION:RDV à 14 h précises\, parking à côté du TP. \nContact J-Paul Jaegle.
URL:https://eglise-methodiste-munster.fr/evenement/eglise-en-marche-25/
LOCATION:En plein air
CATEGORIES:Église en Marche
END:VEVENT
BEGIN:VEVENT
DTSTART;TZID=Europe/Paris:20260623T100000
DTEND;TZID=Europe/Paris:20260623T120000
DTSTAMP:20260424T215552
CREATED:20260103T165342Z
LAST-MODIFIED:20260417T134139Z
UID:10003923-1782208800-1782216000@eglise-methodiste-munster.fr
SUMMARY:Permanence pastorale
DESCRIPTION:
URL:https://eglise-methodiste-munster.fr/evenement/permanence-pastorale-6/2026-06-23/
LOCATION:Temple de la Paix (TP)\, 24 Rue du 9 Zouaves\, MUNSTER\, 68140
CATEGORIES:Permanence pastorale
END:VEVENT
BEGIN:VEVENT
DTSTART;TZID=Europe/Paris:20260627T193000
DTEND;TZID=Europe/Paris:20260627T193000
DTSTAMP:20260424T215552
CREATED:20260326T212747Z
LAST-MODIFIED:20260326T212747Z
UID:10003967-1782588600-1782588600@eglise-methodiste-munster.fr
SUMMARY:Parta'Jeunes
DESCRIPTION:
URL:https://eglise-methodiste-munster.fr/evenement/partajeunes-44/
LOCATION:Temple de la Paix (TP)\, 24 Rue du 9 Zouaves\, MUNSTER\, 68140
CATEGORIES:Parta'Jeunes
END:VEVENT
BEGIN:VEVENT
DTSTART;TZID=Europe/Paris:20260628T100000
DTEND;TZID=Europe/Paris:20260628T120000
DTSTAMP:20260424T215552
CREATED:20250919T152650Z
LAST-MODIFIED:20250919T152650Z
UID:10003573-1782640800-1782648000@eglise-methodiste-munster.fr
SUMMARY:Célébration œcuménique
DESCRIPTION:Les églises de la Vallée sont invitées à se retrouver le dimanche 28 juin 2026 pour une célébration œcuménique qui marquera le centenaire des églises protestante et catholique de Stosswihr.
URL:https://eglise-methodiste-munster.fr/evenement/celebration-oecumenique-3/
LOCATION:Église protestante de Stosswihr\, 52-54 Grand'rue\, Stosswihr\, 68140\, France
CATEGORIES:Œcuménisme
END:VEVENT
END:VCALENDAR