BEGIN:VCALENDAR
VERSION:2.0
PRODID:-//Église Méthodiste de Munster - ECPv6.15.17.1//NONSGML v1.0//EN
CALSCALE:GREGORIAN
METHOD:PUBLISH
X-WR-CALNAME:Église Méthodiste de Munster
X-ORIGINAL-URL:https://eglise-methodiste-munster.fr
X-WR-CALDESC:Évènements pour Église Méthodiste de Munster
REFRESH-INTERVAL;VALUE=DURATION:PT1H
X-Robots-Tag:noindex
X-PUBLISHED-TTL:PT1H
BEGIN:VTIMEZONE
TZID:Europe/Paris
BEGIN:DAYLIGHT
TZOFFSETFROM:+0100
TZOFFSETTO:+0200
TZNAME:CEST
DTSTART:20250330T010000
END:DAYLIGHT
BEGIN:STANDARD
TZOFFSETFROM:+0200
TZOFFSETTO:+0100
TZNAME:CET
DTSTART:20251026T010000
END:STANDARD
BEGIN:DAYLIGHT
TZOFFSETFROM:+0100
TZOFFSETTO:+0200
TZNAME:CEST
DTSTART:20260329T010000
END:DAYLIGHT
BEGIN:STANDARD
TZOFFSETFROM:+0200
TZOFFSETTO:+0100
TZNAME:CET
DTSTART:20261025T010000
END:STANDARD
BEGIN:DAYLIGHT
TZOFFSETFROM:+0100
TZOFFSETTO:+0200
TZNAME:CEST
DTSTART:20270328T010000
END:DAYLIGHT
BEGIN:STANDARD
TZOFFSETFROM:+0200
TZOFFSETTO:+0100
TZNAME:CET
DTSTART:20271031T010000
END:STANDARD
END:VTIMEZONE
BEGIN:VEVENT
DTSTART;TZID=Europe/Paris:20260405T080000
DTEND;TZID=Europe/Paris:20260405T093000
DTSTAMP:20260424T210121
CREATED:20260227T202433Z
LAST-MODIFIED:20260227T202433Z
UID:10003902-1775376000-1775381400@eglise-methodiste-munster.fr
SUMMARY:Petit-déjeuner de Pâques
DESCRIPTION:
URL:https://eglise-methodiste-munster.fr/evenement/petit-dejeuner-de-paques/
LOCATION:Temple de la Paix (TP)\, 24 Rue du 9 Zouaves\, MUNSTER\, 68140
CATEGORIES:Réunion particulière
END:VEVENT
BEGIN:VEVENT
DTSTART;TZID=Europe/Paris:20260405T100000
DTEND;TZID=Europe/Paris:20260405T100000
DTSTAMP:20260424T210121
CREATED:20260227T190136Z
LAST-MODIFIED:20260227T190136Z
UID:10003878-1775383200-1775383200@eglise-methodiste-munster.fr
SUMMARY:Culte de Pâques
DESCRIPTION:
URL:https://eglise-methodiste-munster.fr/evenement/culte-de-paques-2/
LOCATION:Temple de la Paix (TP)\, 24 Rue du 9 Zouaves\, MUNSTER\, 68140
CATEGORIES:Réunion particulière
END:VEVENT
END:VCALENDAR