BEGIN:VCALENDAR
VERSION:2.0
PRODID:-//Église Méthodiste de Munster - ECPv6.15.17.1//NONSGML v1.0//EN
CALSCALE:GREGORIAN
METHOD:PUBLISH
X-ORIGINAL-URL:https://eglise-methodiste-munster.fr
X-WR-CALDESC:Évènements pour Église Méthodiste de Munster
REFRESH-INTERVAL;VALUE=DURATION:PT1H
X-Robots-Tag:noindex
X-PUBLISHED-TTL:PT1H
BEGIN:VTIMEZONE
TZID:Europe/Paris
BEGIN:DAYLIGHT
TZOFFSETFROM:+0100
TZOFFSETTO:+0200
TZNAME:CEST
DTSTART:20240331T010000
END:DAYLIGHT
BEGIN:STANDARD
TZOFFSETFROM:+0200
TZOFFSETTO:+0100
TZNAME:CET
DTSTART:20241027T010000
END:STANDARD
BEGIN:DAYLIGHT
TZOFFSETFROM:+0100
TZOFFSETTO:+0200
TZNAME:CEST
DTSTART:20250330T010000
END:DAYLIGHT
BEGIN:STANDARD
TZOFFSETFROM:+0200
TZOFFSETTO:+0100
TZNAME:CET
DTSTART:20251026T010000
END:STANDARD
BEGIN:DAYLIGHT
TZOFFSETFROM:+0100
TZOFFSETTO:+0200
TZNAME:CEST
DTSTART:20260329T010000
END:DAYLIGHT
BEGIN:STANDARD
TZOFFSETFROM:+0200
TZOFFSETTO:+0100
TZNAME:CET
DTSTART:20261025T010000
END:STANDARD
END:VTIMEZONE
BEGIN:VEVENT
DTSTART;TZID=Europe/Paris:20251009T200000
DTEND;TZID=Europe/Paris:20251009T200000
DTSTAMP:20260425T043021
CREATED:20251003T203513Z
LAST-MODIFIED:20251003T203513Z
UID:10003642-1760040000-1760040000@eglise-methodiste-munster.fr
SUMMARY:Réunion de prière: soeurs du Hohrodberg
DESCRIPTION:
URL:https://eglise-methodiste-munster.fr/evenement/reunion-de-priere-soeurs-du-hohrodberg-2/
LOCATION:Soeurs du Hohrodberg\, 21 route du Linge\, HOHRODBERG\, 68140
CATEGORIES:Réunion de Prières
END:VEVENT
BEGIN:VEVENT
DTSTART;TZID=Europe/Paris:20251014T090000
DTEND;TZID=Europe/Paris:20251014T090000
DTSTAMP:20260425T043021
CREATED:20250919T191520Z
LAST-MODIFIED:20250919T191520Z
UID:10003606-1760432400-1760432400@eglise-methodiste-munster.fr
SUMMARY:Réunion de prières
DESCRIPTION:
URL:https://eglise-methodiste-munster.fr/evenement/reunion-de-prieres-10/2025-10-14/
LOCATION:Temple de la Paix (TP)\, 24 Rue du 9 Zouaves\, MUNSTER\, 68140
CATEGORIES:Réunion de Prières
END:VEVENT
BEGIN:VEVENT
DTSTART;TZID=Europe/Paris:20251021T061500
DTEND;TZID=Europe/Paris:20251021T061500
DTSTAMP:20260425T043021
CREATED:20250919T191632Z
LAST-MODIFIED:20250919T191632Z
UID:10003610-1761027300-1761027300@eglise-methodiste-munster.fr
SUMMARY:Groupe de prières du matin
DESCRIPTION:
URL:https://eglise-methodiste-munster.fr/evenement/groupe-de-prieres-du-matin-10/2025-10-21/
LOCATION:Famille MOHR
CATEGORIES:Réunion de Prières
END:VEVENT
BEGIN:VEVENT
DTSTART;TZID=Europe/Paris:20251028T090000
DTEND;TZID=Europe/Paris:20251028T090000
DTSTAMP:20260425T043021
CREATED:20250919T191520Z
LAST-MODIFIED:20250919T191520Z
UID:10003607-1761642000-1761642000@eglise-methodiste-munster.fr
SUMMARY:Réunion de prières
DESCRIPTION:
URL:https://eglise-methodiste-munster.fr/evenement/reunion-de-prieres-10/2025-10-28/
LOCATION:Temple de la Paix (TP)\, 24 Rue du 9 Zouaves\, MUNSTER\, 68140
CATEGORIES:Réunion de Prières
END:VEVENT
END:VCALENDAR