BEGIN:VCALENDAR
VERSION:2.0
PRODID:-//Église Méthodiste de Munster - ECPv6.15.17.1//NONSGML v1.0//EN
CALSCALE:GREGORIAN
METHOD:PUBLISH
X-WR-CALNAME:Église Méthodiste de Munster
X-ORIGINAL-URL:https://eglise-methodiste-munster.fr
X-WR-CALDESC:Évènements pour Église Méthodiste de Munster
REFRESH-INTERVAL;VALUE=DURATION:PT1H
X-Robots-Tag:noindex
X-PUBLISHED-TTL:PT1H
BEGIN:VTIMEZONE
TZID:Europe/Paris
BEGIN:DAYLIGHT
TZOFFSETFROM:+0100
TZOFFSETTO:+0200
TZNAME:CEST
DTSTART:20250330T010000
END:DAYLIGHT
BEGIN:STANDARD
TZOFFSETFROM:+0200
TZOFFSETTO:+0100
TZNAME:CET
DTSTART:20251026T010000
END:STANDARD
BEGIN:DAYLIGHT
TZOFFSETFROM:+0100
TZOFFSETTO:+0200
TZNAME:CEST
DTSTART:20260329T010000
END:DAYLIGHT
BEGIN:STANDARD
TZOFFSETFROM:+0200
TZOFFSETTO:+0100
TZNAME:CET
DTSTART:20261025T010000
END:STANDARD
BEGIN:DAYLIGHT
TZOFFSETFROM:+0100
TZOFFSETTO:+0200
TZNAME:CEST
DTSTART:20270328T010000
END:DAYLIGHT
BEGIN:STANDARD
TZOFFSETFROM:+0200
TZOFFSETTO:+0100
TZNAME:CET
DTSTART:20271031T010000
END:STANDARD
END:VTIMEZONE
BEGIN:VEVENT
DTSTART;TZID=Europe/Paris:20260305T143000
DTEND;TZID=Europe/Paris:20260305T143000
DTSTAMP:20260424T232806
CREATED:20251021T082936Z
LAST-MODIFIED:20251021T082936Z
UID:10003688-1772721000-1772721000@eglise-methodiste-munster.fr
SUMMARY:Journée Mondiale de Prière
DESCRIPTION:
URL:https://eglise-methodiste-munster.fr/evenement/journee-mondiale-de-priere-2/
LOCATION:Eglise protestante de Soultzeren\, 2 rue du Rod\, Soultzeren\, 68140\, France
CATEGORIES:Œcuménisme
END:VEVENT
BEGIN:VEVENT
DTSTART;TZID=Europe/Paris:20260306T200000
DTEND;TZID=Europe/Paris:20260306T200000
DTSTAMP:20260424T232806
CREATED:20251021T082645Z
LAST-MODIFIED:20251021T082645Z
UID:10003689-1772827200-1772827200@eglise-methodiste-munster.fr
SUMMARY:Journée Mondiale de Prière
DESCRIPTION:
URL:https://eglise-methodiste-munster.fr/evenement/journee-mondiale-de-priere/
LOCATION:Eglise catholique Saint-Léger\, Rue de la République\, Munster\, 68140\, France
CATEGORIES:Œcuménisme
END:VEVENT
BEGIN:VEVENT
DTSTART;TZID=Europe/Paris:20260311T193000
DTEND;TZID=Europe/Paris:20260311T203000
DTSTAMP:20260424T232806
CREATED:20250919T152301Z
LAST-MODIFIED:20250919T152301Z
UID:10003570-1773257400-1773261000@eglise-methodiste-munster.fr
SUMMARY:Veillée œcuménique de carême
DESCRIPTION:
URL:https://eglise-methodiste-munster.fr/evenement/veillee-oecumenique-de-careme-4/
LOCATION:Temple de la Paix (TP)\, 24 Rue du 9 Zouaves\, MUNSTER\, 68140
CATEGORIES:Œcuménisme
END:VEVENT
BEGIN:VEVENT
DTSTART;TZID=Europe/Paris:20260319T193000
DTEND;TZID=Europe/Paris:20260319T203000
DTSTAMP:20260424T232806
CREATED:20250919T152358Z
LAST-MODIFIED:20250919T152358Z
UID:10003571-1773948600-1773952200@eglise-methodiste-munster.fr
SUMMARY:Veillée œcuménique de carême
DESCRIPTION:
URL:https://eglise-methodiste-munster.fr/evenement/veillee-oecumenique-de-careme-5/
LOCATION:Eglise de Gunsbach\, 13 rue de Munster\, GUNSBACH\, France\, 68140
CATEGORIES:Œcuménisme
END:VEVENT
BEGIN:VEVENT
DTSTART;TZID=Europe/Paris:20260325T193000
DTEND;TZID=Europe/Paris:20260325T203000
DTSTAMP:20260424T232806
CREATED:20250919T152415Z
LAST-MODIFIED:20260227T200953Z
UID:10003572-1774467000-1774470600@eglise-methodiste-munster.fr
SUMMARY:Veillée œcuménique de carême
DESCRIPTION:
URL:https://eglise-methodiste-munster.fr/evenement/veillee-oecumenique-de-careme-6/
LOCATION:Eglise protestante de Soultzeren\, 2 rue du Rod\, Soultzeren\, 68140\, France
CATEGORIES:Œcuménisme
END:VEVENT
END:VCALENDAR