BEGIN:VCALENDAR
VERSION:2.0
PRODID:-//Église Méthodiste de Munster - ECPv6.15.17.1//NONSGML v1.0//EN
CALSCALE:GREGORIAN
METHOD:PUBLISH
X-ORIGINAL-URL:https://eglise-methodiste-munster.fr
X-WR-CALDESC:Évènements pour Église Méthodiste de Munster
REFRESH-INTERVAL;VALUE=DURATION:PT1H
X-Robots-Tag:noindex
X-PUBLISHED-TTL:PT1H
BEGIN:VTIMEZONE
TZID:Europe/Paris
BEGIN:DAYLIGHT
TZOFFSETFROM:+0100
TZOFFSETTO:+0200
TZNAME:CEST
DTSTART:20240331T010000
END:DAYLIGHT
BEGIN:STANDARD
TZOFFSETFROM:+0200
TZOFFSETTO:+0100
TZNAME:CET
DTSTART:20241027T010000
END:STANDARD
BEGIN:DAYLIGHT
TZOFFSETFROM:+0100
TZOFFSETTO:+0200
TZNAME:CEST
DTSTART:20250330T010000
END:DAYLIGHT
BEGIN:STANDARD
TZOFFSETFROM:+0200
TZOFFSETTO:+0100
TZNAME:CET
DTSTART:20251026T010000
END:STANDARD
BEGIN:DAYLIGHT
TZOFFSETFROM:+0100
TZOFFSETTO:+0200
TZNAME:CEST
DTSTART:20260329T010000
END:DAYLIGHT
BEGIN:STANDARD
TZOFFSETFROM:+0200
TZOFFSETTO:+0100
TZNAME:CET
DTSTART:20261025T010000
END:STANDARD
END:VTIMEZONE
BEGIN:VEVENT
DTSTART;TZID=Europe/Paris:20251205T200000
DTEND;TZID=Europe/Paris:20251205T200000
DTSTAMP:20260425T020833
CREATED:20251107T205951Z
LAST-MODIFIED:20251107T205951Z
UID:10003696-1764964800-1764964800@eglise-methodiste-munster.fr
SUMMARY:Groupe de Maison - Munster
DESCRIPTION:Réunion chez la famille REUTENAUER Sylvie et Dan
URL:https://eglise-methodiste-munster.fr/evenement/groupe-de-maison-munster-4/
LOCATION:Famille Reutenauer\, rue de Luttenbach\, Munster\, 68140\, France
CATEGORIES:Groupe de Maison
ATTACH;FMTTYPE=image/jpeg:https://eglise-methodiste-munster.fr/wp-content/uploads/2020/08/groupe-de-maison_eem-munster.jpg
END:VEVENT
BEGIN:VEVENT
DTSTART;TZID=Europe/Paris:20251206T083000
DTEND;TZID=Europe/Paris:20251206T103000
DTSTAMP:20260425T020833
CREATED:20251126T165746Z
LAST-MODIFIED:20251126T165746Z
UID:10003740-1765009800-1765017000@eglise-methodiste-munster.fr
SUMMARY:Forum des Hommes
DESCRIPTION:Avec Charles Reinhardt
URL:https://eglise-methodiste-munster.fr/evenement/forum-des-hommes-11/
LOCATION:Temple de la Paix (TP)\, 24 Rue du 9 Zouaves\, MUNSTER\, 68140
CATEGORIES:Groupe de Maison
END:VEVENT
BEGIN:VEVENT
DTSTART;TZID=Europe/Paris:20251208T193000
DTEND;TZID=Europe/Paris:20251208T193000
DTSTAMP:20260425T020833
CREATED:20251127T091144Z
LAST-MODIFIED:20251128T102007Z
UID:10003744-1765222200-1765222200@eglise-methodiste-munster.fr
SUMMARY:Groupe de Maison - Griesbach au Val
DESCRIPTION:Réunion chez la famille BAUMGARTNER Daniel et Anne-Marie
URL:https://eglise-methodiste-munster.fr/evenement/groupe-de-maison-griesbach-au-val-6/
LOCATION:Famille BAUMGARTNER\, GRIESBACH DU VAL\, 68140\, France
CATEGORIES:Groupe de Maison
ATTACH;FMTTYPE=image/jpeg:https://eglise-methodiste-munster.fr/wp-content/uploads/2020/08/groupe-de-maison_eem-munster.jpg
END:VEVENT
BEGIN:VEVENT
DTSTART;TZID=Europe/Paris:20251210T143000
DTEND;TZID=Europe/Paris:20251210T143000
DTSTAMP:20260425T020833
CREATED:20251127T091342Z
LAST-MODIFIED:20251127T091342Z
UID:10003745-1765377000-1765377000@eglise-methodiste-munster.fr
SUMMARY:Groupe de Maison - Hohrod
DESCRIPTION:Réunion chez la famille OBERLÉ à HOHROD
URL:https://eglise-methodiste-munster.fr/evenement/groupe-de-maison-hohrod-16/
LOCATION:Famille OBERLÉ\, HOHROD\, 68142\, France
CATEGORIES:Groupe de Maison
ATTACH;FMTTYPE=image/jpeg:https://eglise-methodiste-munster.fr/wp-content/uploads/2020/08/groupe-de-maison_eem-munster.jpg
END:VEVENT
BEGIN:VEVENT
DTSTART;TZID=Europe/Paris:20251211T141500
DTEND;TZID=Europe/Paris:20251211T141500
DTSTAMP:20260425T020833
CREATED:20251122T173931Z
LAST-MODIFIED:20251122T173931Z
UID:10003729-1765462500-1765462500@eglise-methodiste-munster.fr
SUMMARY:Carrefour des Femmes
DESCRIPTION:Avec Cyriane Rohner-OUVRY sur le thème: « Noël\, tout simplement »
URL:https://eglise-methodiste-munster.fr/evenement/carrefour-des-femmes-4/
LOCATION:Temple de la Paix (TP)\, 24 Rue du 9 Zouaves\, MUNSTER\, 68140
CATEGORIES:Groupe de Maison
END:VEVENT
END:VCALENDAR