BEGIN:VCALENDAR
VERSION:2.0
PRODID:-//Église Méthodiste de Munster - ECPv6.15.17.1//NONSGML v1.0//EN
CALSCALE:GREGORIAN
METHOD:PUBLISH
X-ORIGINAL-URL:https://eglise-methodiste-munster.fr
X-WR-CALDESC:Évènements pour Église Méthodiste de Munster
REFRESH-INTERVAL;VALUE=DURATION:PT1H
X-Robots-Tag:noindex
X-PUBLISHED-TTL:PT1H
BEGIN:VTIMEZONE
TZID:Europe/Paris
BEGIN:DAYLIGHT
TZOFFSETFROM:+0100
TZOFFSETTO:+0200
TZNAME:CEST
DTSTART:20240331T010000
END:DAYLIGHT
BEGIN:STANDARD
TZOFFSETFROM:+0200
TZOFFSETTO:+0100
TZNAME:CET
DTSTART:20241027T010000
END:STANDARD
BEGIN:DAYLIGHT
TZOFFSETFROM:+0100
TZOFFSETTO:+0200
TZNAME:CEST
DTSTART:20250330T010000
END:DAYLIGHT
BEGIN:STANDARD
TZOFFSETFROM:+0200
TZOFFSETTO:+0100
TZNAME:CET
DTSTART:20251026T010000
END:STANDARD
BEGIN:DAYLIGHT
TZOFFSETFROM:+0100
TZOFFSETTO:+0200
TZNAME:CEST
DTSTART:20260329T010000
END:DAYLIGHT
BEGIN:STANDARD
TZOFFSETFROM:+0200
TZOFFSETTO:+0100
TZNAME:CET
DTSTART:20261025T010000
END:STANDARD
END:VTIMEZONE
BEGIN:VEVENT
DTSTART;TZID=Europe/Paris:20251004T083000
DTEND;TZID=Europe/Paris:20251004T103000
DTSTAMP:20260425T043003
CREATED:20250830T142323Z
LAST-MODIFIED:20250830T142323Z
UID:10003534-1759566600-1759573800@eglise-methodiste-munster.fr
SUMMARY:Forum des Hommes
DESCRIPTION:Avec Dan Reutenauer
URL:https://eglise-methodiste-munster.fr/evenement/forum-des-hommes-9/
LOCATION:Temple de la Paix (TP)\, 24 Rue du 9 Zouaves\, MUNSTER\, 68140
CATEGORIES:Groupe de Maison
END:VEVENT
BEGIN:VEVENT
DTSTART;TZID=Europe/Paris:20251006T200000
DTEND;TZID=Europe/Paris:20251006T200000
DTSTAMP:20260425T043003
CREATED:20251005T061547Z
LAST-MODIFIED:20251005T061547Z
UID:10003643-1759780800-1759780800@eglise-methodiste-munster.fr
SUMMARY:Groupe de Maison - Munster
DESCRIPTION:Réunion chez la famille REUTENAUER Sylvie et Dan
URL:https://eglise-methodiste-munster.fr/evenement/groupe-de-maison-munster-2/
LOCATION:Famille Reutenauer\, rue de Luttenbach\, Munster\, 68140\, France
CATEGORIES:Groupe de Maison
ATTACH;FMTTYPE=image/jpeg:https://eglise-methodiste-munster.fr/wp-content/uploads/2020/08/groupe-de-maison_eem-munster.jpg
END:VEVENT
BEGIN:VEVENT
DTSTART;TZID=Europe/Paris:20251008T143000
DTEND;TZID=Europe/Paris:20251008T143000
DTSTAMP:20260425T043003
CREATED:20251003T135545Z
LAST-MODIFIED:20251003T135545Z
UID:10003638-1759933800-1759933800@eglise-methodiste-munster.fr
SUMMARY:Groupe de Maison - Hohrod
DESCRIPTION:Réunion chez la famille OBERLÉ à HOHROD
URL:https://eglise-methodiste-munster.fr/evenement/groupe-de-maison-hohrod-14/2025-10-08/
LOCATION:Famille OBERLÉ\, HOHROD\, 68142\, France
CATEGORIES:Groupe de Maison
ATTACH;FMTTYPE=image/jpeg:https://eglise-methodiste-munster.fr/wp-content/uploads/2020/08/groupe-de-maison_eem-munster.jpg
END:VEVENT
BEGIN:VEVENT
DTSTART;TZID=Europe/Paris:20251022T143000
DTEND;TZID=Europe/Paris:20251022T143000
DTSTAMP:20260425T043003
CREATED:20251003T135545Z
LAST-MODIFIED:20251003T135545Z
UID:10003639-1761143400-1761143400@eglise-methodiste-munster.fr
SUMMARY:Groupe de Maison - Hohrod
DESCRIPTION:Réunion chez la famille OBERLÉ à HOHROD
URL:https://eglise-methodiste-munster.fr/evenement/groupe-de-maison-hohrod-14/2025-10-22/
LOCATION:Famille OBERLÉ\, HOHROD\, 68142\, France
CATEGORIES:Groupe de Maison
ATTACH;FMTTYPE=image/jpeg:https://eglise-methodiste-munster.fr/wp-content/uploads/2020/08/groupe-de-maison_eem-munster.jpg
END:VEVENT
BEGIN:VEVENT
DTSTART;TZID=Europe/Paris:20251023T141500
DTEND;TZID=Europe/Paris:20251023T141500
DTSTAMP:20260425T043003
CREATED:20251011T180300Z
LAST-MODIFIED:20251013T175330Z
UID:10003646-1761228900-1761228900@eglise-methodiste-munster.fr
SUMMARY:Carrefour des Femmes
DESCRIPTION:Avec Anne Mühlemann sur le thème: « Aimons nous les uns les autres »
URL:https://eglise-methodiste-munster.fr/evenement/carrefour-des-femmes-3/
LOCATION:Temple de la Paix (TP)\, 24 Rue du 9 Zouaves\, MUNSTER\, 68140
CATEGORIES:Groupe de Maison
END:VEVENT
BEGIN:VEVENT
DTSTART;TZID=Europe/Paris:20251024T200000
DTEND;TZID=Europe/Paris:20251024T200000
DTSTAMP:20260425T043003
CREATED:20251009T075856Z
LAST-MODIFIED:20251009T075856Z
UID:10003644-1761336000-1761336000@eglise-methodiste-munster.fr
SUMMARY:Groupe de Maison - Brua - Luttenbach
DESCRIPTION:Réunion chez la famille BRUA
URL:https://eglise-methodiste-munster.fr/evenement/groupe-de-maison-brua-luttenbach-2/
LOCATION:Famille Brua\, rue du Froeschwihr\, Luttenbach\, 68140\, France
CATEGORIES:Groupe de Maison
ATTACH;FMTTYPE=image/jpeg:https://eglise-methodiste-munster.fr/wp-content/uploads/2020/08/groupe-de-maison_eem-munster.jpg
END:VEVENT
END:VCALENDAR