BEGIN:VCALENDAR
VERSION:2.0
PRODID:-//Église Méthodiste de Munster - ECPv6.15.17.1//NONSGML v1.0//EN
CALSCALE:GREGORIAN
METHOD:PUBLISH
X-WR-CALNAME:Église Méthodiste de Munster
X-ORIGINAL-URL:https://eglise-methodiste-munster.fr
X-WR-CALDESC:Évènements pour Église Méthodiste de Munster
REFRESH-INTERVAL;VALUE=DURATION:PT1H
X-Robots-Tag:noindex
X-PUBLISHED-TTL:PT1H
BEGIN:VTIMEZONE
TZID:Europe/Paris
BEGIN:DAYLIGHT
TZOFFSETFROM:+0100
TZOFFSETTO:+0200
TZNAME:CEST
DTSTART:20250330T010000
END:DAYLIGHT
BEGIN:STANDARD
TZOFFSETFROM:+0200
TZOFFSETTO:+0100
TZNAME:CET
DTSTART:20251026T010000
END:STANDARD
BEGIN:DAYLIGHT
TZOFFSETFROM:+0100
TZOFFSETTO:+0200
TZNAME:CEST
DTSTART:20260329T010000
END:DAYLIGHT
BEGIN:STANDARD
TZOFFSETFROM:+0200
TZOFFSETTO:+0100
TZNAME:CET
DTSTART:20261025T010000
END:STANDARD
BEGIN:DAYLIGHT
TZOFFSETFROM:+0100
TZOFFSETTO:+0200
TZNAME:CEST
DTSTART:20270328T010000
END:DAYLIGHT
BEGIN:STANDARD
TZOFFSETFROM:+0200
TZOFFSETTO:+0100
TZNAME:CET
DTSTART:20271031T010000
END:STANDARD
END:VTIMEZONE
BEGIN:VEVENT
DTSTART;TZID=Europe/Paris:20260322T100000
DTEND;TZID=Europe/Paris:20260322T100000
DTSTAMP:20260424T211021
CREATED:20260214T171829Z
LAST-MODIFIED:20260214T171829Z
UID:10003841-1774173600-1774173600@eglise-methodiste-munster.fr
SUMMARY:Culte (TP)
DESCRIPTION:
URL:https://eglise-methodiste-munster.fr/evenement/culte-tp-2/2026-03-22/
LOCATION:Temple de la Paix (TP)\, 24 Rue du 9 Zouaves\, MUNSTER\, 68140
CATEGORIES:Cultes
END:VEVENT
BEGIN:VEVENT
DTSTART;TZID=Europe/Paris:20260322T104500
DTEND;TZID=Europe/Paris:20260322T104500
DTSTAMP:20260424T211021
CREATED:20260214T171916Z
LAST-MODIFIED:20260214T171916Z
UID:10003850-1774176300-1774176300@eglise-methodiste-munster.fr
SUMMARY:Culte à Béthesda-Caroline
DESCRIPTION:
URL:https://eglise-methodiste-munster.fr/evenement/culte-a-bethesda-caroline/2026-03-22/
LOCATION:Bethesda-Caroline\, 20A Rue du Général de Lattre de Tassigny\, Munster\, 68140\, France
CATEGORIES:Cultes
END:VEVENT
BEGIN:VEVENT
DTSTART;TZID=Europe/Paris:20260322T120000
DTEND;TZID=Europe/Paris:20260322T160000
DTSTAMP:20260424T211021
CREATED:20260104T174055Z
LAST-MODIFIED:20260104T174055Z
UID:10003791-1774180800-1774195200@eglise-methodiste-munster.fr
SUMMARY:Parta'Jeunes
DESCRIPTION:
URL:https://eglise-methodiste-munster.fr/evenement/partajeunes-43/
LOCATION:Temple de la Paix (TP)\, 24 Rue du 9 Zouaves\, MUNSTER\, 68140
CATEGORIES:Parta'Jeunes
END:VEVENT
END:VCALENDAR