BEGIN:VCALENDAR
VERSION:2.0
PRODID:-//Église Méthodiste de Munster - ECPv6.15.17.1//NONSGML v1.0//EN
CALSCALE:GREGORIAN
METHOD:PUBLISH
X-ORIGINAL-URL:https://eglise-methodiste-munster.fr
X-WR-CALDESC:Évènements pour Église Méthodiste de Munster
REFRESH-INTERVAL;VALUE=DURATION:PT1H
X-Robots-Tag:noindex
X-PUBLISHED-TTL:PT1H
BEGIN:VTIMEZONE
TZID:Europe/Paris
BEGIN:DAYLIGHT
TZOFFSETFROM:+0100
TZOFFSETTO:+0200
TZNAME:CEST
DTSTART:20250330T010000
END:DAYLIGHT
BEGIN:STANDARD
TZOFFSETFROM:+0200
TZOFFSETTO:+0100
TZNAME:CET
DTSTART:20251026T010000
END:STANDARD
BEGIN:DAYLIGHT
TZOFFSETFROM:+0100
TZOFFSETTO:+0200
TZNAME:CEST
DTSTART:20260329T010000
END:DAYLIGHT
BEGIN:STANDARD
TZOFFSETFROM:+0200
TZOFFSETTO:+0100
TZNAME:CET
DTSTART:20261025T010000
END:STANDARD
BEGIN:DAYLIGHT
TZOFFSETFROM:+0100
TZOFFSETTO:+0200
TZNAME:CEST
DTSTART:20270328T010000
END:DAYLIGHT
BEGIN:STANDARD
TZOFFSETFROM:+0200
TZOFFSETTO:+0100
TZNAME:CET
DTSTART:20271031T010000
END:STANDARD
END:VTIMEZONE
BEGIN:VEVENT
DTSTART;TZID=Europe/Paris:20260201T100000
DTEND;TZID=Europe/Paris:20260201T100000
DTSTAMP:20260424T222300
CREATED:20260124T103356Z
LAST-MODIFIED:20260124T103356Z
UID:10003797-1769940000-1769940000@eglise-methodiste-munster.fr
SUMMARY:Culte (TP)
DESCRIPTION:
URL:https://eglise-methodiste-munster.fr/evenement/culte-tp/2026-02-01/
LOCATION:Temple de la Paix (TP)\, 24 Rue du 9 Zouaves\, MUNSTER\, 68140
CATEGORIES:Cultes
END:VEVENT
BEGIN:VEVENT
DTSTART;TZID=Europe/Paris:20260201T104500
DTEND;TZID=Europe/Paris:20260201T104500
DTSTAMP:20260424T222300
CREATED:20260124T103452Z
LAST-MODIFIED:20260124T103452Z
UID:10003805-1769942700-1769942700@eglise-methodiste-munster.fr
SUMMARY:Culte à Béthesda-Caroline
DESCRIPTION:
URL:https://eglise-methodiste-munster.fr/evenement/culte-a-bethesda-caroline-2/2026-02-01/
LOCATION:Bethesda-Caroline\, 20A Rue du Général de Lattre de Tassigny\, Munster\, 68140\, France
CATEGORIES:Cultes
END:VEVENT
BEGIN:VEVENT
DTSTART;TZID=Europe/Paris:20260201T120000
DTEND;TZID=Europe/Paris:20260201T120000
DTSTAMP:20260424T222300
CREATED:20260103T193759Z
LAST-MODIFIED:20260124T103620Z
UID:10003776-1769947200-1769947200@eglise-methodiste-munster.fr
SUMMARY:Fête de paroisse - Repas Communautaire
DESCRIPTION:
URL:https://eglise-methodiste-munster.fr/evenement/fete-de-paroisse-2/
LOCATION:Temple de la Paix (TP)\, 24 Rue du 9 Zouaves\, MUNSTER\, 68140
CATEGORIES:Réunion particulière
END:VEVENT
BEGIN:VEVENT
DTSTART;TZID=Europe/Paris:20260201T120000
DTEND;TZID=Europe/Paris:20260201T160000
DTSTAMP:20260424T222300
CREATED:20260104T173831Z
LAST-MODIFIED:20260104T173831Z
UID:10003786-1769947200-1769961600@eglise-methodiste-munster.fr
SUMMARY:Parta'Jeunes
DESCRIPTION:Fête de paroisse avec repas crêpes pour financer les activités PJS ! 😉
URL:https://eglise-methodiste-munster.fr/evenement/partajeunes-38/
LOCATION:Temple de la Paix (TP)\, 24 Rue du 9 Zouaves\, MUNSTER\, 68140
CATEGORIES:Parta'Jeunes
END:VEVENT
END:VCALENDAR