BEGIN:VCALENDAR
VERSION:2.0
PRODID:-//Église Méthodiste de Munster - ECPv6.15.17.1//NONSGML v1.0//EN
CALSCALE:GREGORIAN
METHOD:PUBLISH
X-ORIGINAL-URL:https://eglise-methodiste-munster.fr
X-WR-CALDESC:Évènements pour Église Méthodiste de Munster
REFRESH-INTERVAL;VALUE=DURATION:PT1H
X-Robots-Tag:noindex
X-PUBLISHED-TTL:PT1H
BEGIN:VTIMEZONE
TZID:Europe/Paris
BEGIN:DAYLIGHT
TZOFFSETFROM:+0100
TZOFFSETTO:+0200
TZNAME:CEST
DTSTART:20240331T010000
END:DAYLIGHT
BEGIN:STANDARD
TZOFFSETFROM:+0200
TZOFFSETTO:+0100
TZNAME:CET
DTSTART:20241027T010000
END:STANDARD
BEGIN:DAYLIGHT
TZOFFSETFROM:+0100
TZOFFSETTO:+0200
TZNAME:CEST
DTSTART:20250330T010000
END:DAYLIGHT
BEGIN:STANDARD
TZOFFSETFROM:+0200
TZOFFSETTO:+0100
TZNAME:CET
DTSTART:20251026T010000
END:STANDARD
BEGIN:DAYLIGHT
TZOFFSETFROM:+0100
TZOFFSETTO:+0200
TZNAME:CEST
DTSTART:20260329T010000
END:DAYLIGHT
BEGIN:STANDARD
TZOFFSETFROM:+0200
TZOFFSETTO:+0100
TZNAME:CET
DTSTART:20261025T010000
END:STANDARD
END:VTIMEZONE
BEGIN:VEVENT
DTSTART;TZID=Europe/Paris:20251014T090000
DTEND;TZID=Europe/Paris:20251014T090000
DTSTAMP:20260425T030241
CREATED:20250919T191520Z
LAST-MODIFIED:20250919T191520Z
UID:10003606-1760432400-1760432400@eglise-methodiste-munster.fr
SUMMARY:Réunion de prières
DESCRIPTION:
URL:https://eglise-methodiste-munster.fr/evenement/reunion-de-prieres-10/2025-10-14/
LOCATION:Temple de la Paix (TP)\, 24 Rue du 9 Zouaves\, MUNSTER\, 68140
CATEGORIES:Réunion de Prières
END:VEVENT
BEGIN:VEVENT
DTSTART;TZID=Europe/Paris:20251014T100000
DTEND;TZID=Europe/Paris:20251014T120000
DTSTAMP:20260425T030241
CREATED:20250515T143032Z
LAST-MODIFIED:20251024T155734Z
UID:10003459-1760436000-1760443200@eglise-methodiste-munster.fr
SUMMARY:Permanence pastorale
DESCRIPTION:
URL:https://eglise-methodiste-munster.fr/evenement/permanence-pastorale-5-2/2025-10-14/
LOCATION:Temple de la Paix (TP)\, 24 Rue du 9 Zouaves\, MUNSTER\, 68140
CATEGORIES:Permanence pastorale
END:VEVENT
BEGIN:VEVENT
DTSTART;TZID=Europe/Paris:20251014T193000
DTEND;TZID=Europe/Paris:20251014T193000
DTSTAMP:20260425T030241
CREATED:20250919T190425Z
LAST-MODIFIED:20250919T190425Z
UID:10003600-1760470200-1760470200@eglise-methodiste-munster.fr
SUMMARY:Conseil d'Église
DESCRIPTION:
URL:https://eglise-methodiste-munster.fr/evenement/conseil-deglise-10/
LOCATION:Temple de la Paix (TP)\, 24 Rue du 9 Zouaves\, MUNSTER\, 68140
CATEGORIES:Réunion Administrative
END:VEVENT
END:VCALENDAR