BEGIN:VCALENDAR
VERSION:2.0
PRODID:-//Église Méthodiste de Munster - ECPv6.15.17.1//NONSGML v1.0//EN
CALSCALE:GREGORIAN
METHOD:PUBLISH
X-ORIGINAL-URL:https://eglise-methodiste-munster.fr
X-WR-CALDESC:Évènements pour Église Méthodiste de Munster
REFRESH-INTERVAL;VALUE=DURATION:PT1H
X-Robots-Tag:noindex
X-PUBLISHED-TTL:PT1H
BEGIN:VTIMEZONE
TZID:Europe/Paris
BEGIN:DAYLIGHT
TZOFFSETFROM:+0100
TZOFFSETTO:+0200
TZNAME:CEST
DTSTART:20240331T010000
END:DAYLIGHT
BEGIN:STANDARD
TZOFFSETFROM:+0200
TZOFFSETTO:+0100
TZNAME:CET
DTSTART:20241027T010000
END:STANDARD
BEGIN:DAYLIGHT
TZOFFSETFROM:+0100
TZOFFSETTO:+0200
TZNAME:CEST
DTSTART:20250330T010000
END:DAYLIGHT
BEGIN:STANDARD
TZOFFSETFROM:+0200
TZOFFSETTO:+0100
TZNAME:CET
DTSTART:20251026T010000
END:STANDARD
BEGIN:DAYLIGHT
TZOFFSETFROM:+0100
TZOFFSETTO:+0200
TZNAME:CEST
DTSTART:20260329T010000
END:DAYLIGHT
BEGIN:STANDARD
TZOFFSETFROM:+0200
TZOFFSETTO:+0100
TZNAME:CET
DTSTART:20261025T010000
END:STANDARD
END:VTIMEZONE
BEGIN:VEVENT
DTSTART;TZID=Europe/Paris:20250803T100000
DTEND;TZID=Europe/Paris:20250803T100000
DTSTAMP:20260425T051848
CREATED:20250518T200211Z
LAST-MODIFIED:20250518T200211Z
UID:10003373-1754215200-1754215200@eglise-methodiste-munster.fr
SUMMARY:Culte en commun avec l'Eglise du Dubach
DESCRIPTION:Culte en commun avec l’église du Dubach
URL:https://eglise-methodiste-munster.fr/evenement/culte-en-commun-avec-leglise-du-dubach/
LOCATION:Eglise du Dubach\, 4 Chem. du Dubach\, Munster\, 68140\, France
CATEGORIES:Cultes
END:VEVENT
BEGIN:VEVENT
DTSTART;TZID=Europe/Paris:20250803T100000
DTEND;TZID=Europe/Paris:20250803T100000
DTSTAMP:20260425T051848
CREATED:20250705T074847Z
LAST-MODIFIED:20250705T074847Z
UID:10003441-1754215200-1754215200@eglise-methodiste-munster.fr
SUMMARY:PAS DE Culte (TP)
DESCRIPTION:Participons au culte en commun à l’Eglise du Dubach à 10h
URL:https://eglise-methodiste-munster.fr/evenement/pas-de-culte-tp-5/
LOCATION:Temple de la Paix (TP)\, 24 Rue du 9 Zouaves\, MUNSTER\, 68140
CATEGORIES:Cultes
END:VEVENT
BEGIN:VEVENT
DTSTART;TZID=Europe/Paris:20250803T104500
DTEND;TZID=Europe/Paris:20250803T104500
DTSTAMP:20260425T051848
CREATED:20250518T201156Z
LAST-MODIFIED:20250518T201156Z
UID:10003413-1754217900-1754217900@eglise-methodiste-munster.fr
SUMMARY:Culte à Béthesda-Caroline
DESCRIPTION:
URL:https://eglise-methodiste-munster.fr/evenement/culte-a-bethesda-caroline-13/2025-08-03/
LOCATION:Bethesda-Caroline\, 20A Rue du Général de Lattre de Tassigny\, Munster\, 68140\, France
CATEGORIES:Cultes
END:VEVENT
END:VCALENDAR